Workbook

Sheet Ausgabe
B1: 0.33 | C1: 0.5 | D1: 0.75 | E1: 1
A2: 0,33 Traubenzucker | B2: =$H$3+(Daten!$C2/B$1) -> 4.1912379 | C2: =$H$3+(Daten!$C2/C$1) -> 3.3299046 | D2: =$H$3+(Daten!$C2/D$1) -> 2.7725713 | E2: =$H$3+(Daten!$C2/E$1) -> 2.4939046 | G2: max. Gärtemperatur in °C hier eingeben | H2: 20 | J2: Version 1
A3: 0,33 Haushaltszucker | B3: =$H$3+(Daten!$C3/B$1) -> 5.521541 | C3: =$H$3+(Daten!$C3/C$1) -> 4.2079046 | D3: =$H$3+(Daten!$C3/D$1) -> 3.3579046 | E3: =$H$3+(Daten!$C3/E$1) -> 2.9329046 | G3: Spunddruck: CO2 in g/l | H3: =10.13 * POWER(EXP(1), -10.73797 + (2617.25 / ($H$2 + 273.15))) -> 1.6579046
A4: 0,50 Traubenzucker | B4: =$H$3+(Daten!$C4/B$1) -> 5.6579046 | C4: =$H$3+(Daten!$C4/C$1) -> 4.2979046 | D4: =$H$3+(Daten!$C4/D$1) -> 3.4179046 | E4: =$H$3+(Daten!$C4/E$1) -> 2.9779046
A5: 0,50 Haushaltszucker | B5: =$H$3+(Daten!$C5/B$1) -> 7.5306319 | C5: =$H$3+(Daten!$C5/C$1) -> 5.5339046 | D5: =$H$3+(Daten!$C5/D$1) -> 4.2419046 | E5: =$H$3+(Daten!$C5/E$1) -> 3.5959046
A6: 0,75 Traubenzucker | B6: =$H$3+(Daten!$C6/B$1) -> 7.5245713 | C6: =$H$3+(Daten!$C6/C$1) -> 5.5299046 | D6: =$H$3+(Daten!$C6/D$1) -> 4.2392379 | E6: =$H$3+(Daten!$C6/E$1) -> 3.5939046
A7: 0,75 Haushaltszucker | B7: =$H$3+(Daten!$C7/B$1) -> 10.466996 | C7: =$H$3+(Daten!$C7/C$1) -> 7.4719046 | D7: =$H$3+(Daten!$C7/D$1) -> 5.5339046 | E7: =$H$3+(Daten!$C7/E$1) -> 4.5649046
A9: 0,66 Traubenzucker (2x 0,33) | B9: =2*B$2 -> 8.3824759 | C9: =2*C$2 -> 6.6598092 | D9: =2*D$2 -> 5.5451425 | E9: =2*E$2 -> 4.9878092
A10: 0,83 Traubenzucker (0,33 + 0,5) | B10: =B$2+B$4 -> 9.8491425 | C10: =C$2+C$4 -> 7.6278092 | D10: =D$2+D$4 -> 6.1904759 | E10: =E$2+E$4 -> 5.4718092
A11: 0,66 Haushaltszucker (2x 0,33) | B11: =2*B$3 -> 11.043082 | C11: =2*C$3 -> 8.4158092 | D11: =2*D$3 -> 6.7158092 | E11: =2*E$3 -> 5.8658092
A12: 1,0 Traubenzucker (2x 0,5) | B12: =2*B$4 -> 11.315809 | C12: =2*C$4 -> 8.5958092 | D12: =2*D$4 -> 6.8358092 | E12: =2*E$4 -> 5.9558092
A13: 0,83 Haushaltszucker (0,33 + 0,5) | B13: =B$3+B$5 -> 13.052173 | C13: =C$3+C$5 -> 9.7418092 | D13: =D$3+D$5 -> 7.5998092 | E13: =E$3+E$5 -> 6.5288092
A14: 1,25 Traubenzucker (0,5 + 0,75) | B14: =B$4+B$6 -> 13.182476 | C14: =C$4+C$6 -> 9.8278092 | D14: =D$4+D$6 -> 7.6571425 | E14: =E$4+E$6 -> 6.5718092
A15: 1,5 Traubenzucker (2x 0,75) | B15: =2*B$6 -> 15.049143 | C15: =2*C$6 -> 11.059809 | D15: =2*D$6 -> 8.4784759 | E15: =2*E$6 -> 7.1878092
A16: 1,0 Haushaltszucker (2x 0,5) | B16: =2*B$5 -> 15.061264 | C16: =2*C$5 -> 11.067809 | D16: =2*D$5 -> 8.4838092 | E16: =2*E$5 -> 7.1918092
A17: 1,25 Haushaltszucker (0,5 + 0,75) | B17: =B$5+B$7 -> 17.997627 | C17: =C$5+C$7 -> 13.005809 | D17: =D$5+D$7 -> 9.7758092 | E17: =E$5+E$7 -> 8.1608092
A18: 1,5 Haushaltszucker (2x 0,75) | B18: =2*B$7 -> 20.933991 | C18: =2*C$7 -> 14.943809 | D18: =2*D$7 -> 11.067809 | E18: =2*E$7 -> 9.1298092

Sheet Daten
A1: Größe und Zuckerart | B1: Gramm | C1: Gramm CO2
A2: 0,33 Traubenzucker | B2: 1.9 | C2: =B2*$F$2 -> 0.836 | E2: CO2-Faktor Traubenzucker | F2: 0.44
A3: 0,33 Haushaltszucker | B3: 2.5 | C3: =B3*$F$3 -> 1.275 | E3: CO2-Faktor Zucker | F3: 0.51
A4: 0,50 Traubenzucker | B4: 3 | C4: =B4*$F$2 -> 1.32
A5: 0,50 Haushaltszucker | B5: 3.8 | C5: =B5*$F$3 -> 1.938
A6: 0,75 Traubenzucker | B6: 4.4 | C6: =B6*$F$2 -> 1.936
A7: 0,75 Haushaltszucker | B7: 5.7 | C7: =B7*$F$3 -> 2.907
