Workbook

Sheet Daten
A1: Name | B1: Pale Ale No. 11
A2: Zusatz | B2: Ortruds Badebräu
A3: Stammwürze | B3: 13
A4: Alkohol | B4: 6
A5: Malz | B5: Wiener Malz, Münchener Malz
A6: Hefe | B6: Safale S-04
A7: Hopfen | B7: Magnum, Spalter Select
A8: Bittere | B8: 40
A9: Farbe | B9: 21
A10: Brautag | B10: 42175
A11: Abfüllung | B11: 42189

Sheet Etiketten - schwarz
B1: =Daten!$B$1 -> Pale Ale No. 11 | F1: Stehend und kühl lagern Nicht aus der Flasche trinken Heferest nicht ins Glas kippen | H1: ="Malz: "&Daten!$B$5 -> Malz: Wiener Malz, Münchener Malz
H2: ="Hopfen: "&Daten!$B$7 -> Hopfen: Magnum, Spalter Select
H3: ="Hefe: "&Daten!$B$6 -> Hefe: Safale S-04
B4: =Daten!$B$2 -> Ortruds Badebräu | F4: Mindestens haltbar: solange es schmeckt | H4: ="Bittere: "&Daten!$B$8 &" IBU" -> Bittere: 40 IBU | J4: ="Farbe: "&Daten!$B$9 &" EBC" -> Farbe: 21 EBC
B5: ="Stammwürze: "&Daten!$B$3&" °P" -> Stammwürze: 13 °P | D5: ="Alkohol: "&Daten!$B$4&" %" -> Alkohol: 6 % | H5: ="Gebraut am: "&TEXT(Daten!$B$10,"TT.MM.JJJJ") -> Gebraut am: 20.06.2015 | J5: ="Abgefüllt am: "&TEXT(Daten!$B$11,"TT.MM.JJJJ") -> Abgefüllt am: 04.07.2015
B7: =Daten!$B$1 -> Pale Ale No. 11 | F7: Stehend und kühl lagern Nicht aus der Flasche trinken Heferest nicht ins Glas kippen | H7: ="Malz: "&Daten!$B$5 -> Malz: Wiener Malz, Münchener Malz
H8: ="Hopfen: "&Daten!$B$7 -> Hopfen: Magnum, Spalter Select
H9: ="Hefe: "&Daten!$B$6 -> Hefe: Safale S-04
B10: =Daten!$B$2 -> Ortruds Badebräu | F10: Mindestens haltbar: solange es schmeckt | H10: ="Bittere: "&Daten!$B$8 &" IBU" -> Bittere: 40 IBU | J10: ="Farbe: "&Daten!$B$9 &" EBC" -> Farbe: 21 EBC
B11: ="Stammwürze: "&Daten!$B$3&" °P" -> Stammwürze: 13 °P | D11: ="Alkohol: "&Daten!$B$4&" %" -> Alkohol: 6 % | H11: ="Gebraut am: "&TEXT(Daten!$B$10,"TT.MM.JJJJ") -> Gebraut am: 20.06.2015 | J11: ="Abgefüllt am: "&TEXT(Daten!$B$11,"TT.MM.JJJJ") -> Abgefüllt am: 04.07.2015
B13: =Daten!$B$1 -> Pale Ale No. 11 | F13: Stehend und kühl lagern Nicht aus der Flasche trinken Heferest nicht ins Glas kippen | H13: ="Malz: "&Daten!$B$5 -> Malz: Wiener Malz, Münchener Malz
H14: ="Hopfen: "&Daten!$B$7 -> Hopfen: Magnum, Spalter Select
H15: ="Hefe: "&Daten!$B$6 -> Hefe: Safale S-04
B16: =Daten!$B$2 -> Ortruds Badebräu | F16: Mindestens haltbar: solange es schmeckt | H16: ="Bittere: "&Daten!$B$8 &" IBU" -> Bittere: 40 IBU | J16: ="Farbe: "&Daten!$B$9 &" EBC" -> Farbe: 21 EBC
B17: ="Stammwürze: "&Daten!$B$3&" °P" -> Stammwürze: 13 °P | D17: ="Alkohol: "&Daten!$B$4&" %" -> Alkohol: 6 % | H17: ="Gebraut am: "&TEXT(Daten!$B$10,"TT.MM.JJJJ") -> Gebraut am: 20.06.2015 | J17: ="Abgefüllt am: "&TEXT(Daten!$B$11,"TT.MM.JJJJ") -> Abgefüllt am: 04.07.2015
B19: =Daten!$B$1 -> Pale Ale No. 11 | F19: Stehend und kühl lagern Nicht aus der Flasche trinken Heferest nicht ins Glas kippen | H19: ="Malz: "&Daten!$B$5 -> Malz: Wiener Malz, Münchener Malz
H20: ="Hopfen: "&Daten!$B$7 -> Hopfen: Magnum, Spalter Select
H21: ="Hefe: "&Daten!$B$6 -> Hefe: Safale S-04
B22: =Daten!$B$2 -> Ortruds Badebräu | F22: Mindestens haltbar: solange es schmeckt | H22: ="Bittere: "&Daten!$B$8 &" IBU" -> Bittere: 40 IBU | J22: ="Farbe: "&Daten!$B$9 &" EBC" -> Farbe: 21 EBC
B23: ="Stammwürze: "&Daten!$B$3&" °P" -> Stammwürze: 13 °P | D23: ="Alkohol: "&Daten!$B$4&" %" -> Alkohol: 6 % | H23: ="Gebraut am: "&TEXT(Daten!$B$10,"TT.MM.JJJJ") -> Gebraut am: 20.06.2015 | J23: ="Abgefüllt am: "&TEXT(Daten!$B$11,"TT.MM.JJJJ") -> Abgefüllt am: 04.07.2015
B25: =Daten!$B$1 -> Pale Ale No. 11 | F25: Stehend und kühl lagern Nicht aus der Flasche trinken Heferest nicht ins Glas kippen | H25: ="Malz: "&Daten!$B$5 -> Malz: Wiener Malz, Münchener Malz
H26: ="Hopfen: "&Daten!$B$7 -> Hopfen: Magnum, Spalter Select
H27: ="Hefe: "&Daten!$B$6 -> Hefe: Safale S-04
B28: =Daten!$B$2 -> Ortruds Badebräu | F28: Mindestens haltbar: solange es schmeckt | H28: ="Bittere: "&Daten!$B$8 &" IBU" -> Bittere: 40 IBU | J28: ="Farbe: "&Daten!$B$9 &" EBC" -> Farbe: 21 EBC
B29: ="Stammwürze: "&Daten!$B$3&" °P" -> Stammwürze: 13 °P | D29: ="Alkohol: "&Daten!$B$4&" %" -> Alkohol: 6 % | H29: ="Gebraut am: "&TEXT(Daten!$B$10,"TT.MM.JJJJ") -> Gebraut am: 20.06.2015 | J29: ="Abgefüllt am: "&TEXT(Daten!$B$11,"TT.MM.JJJJ") -> Abgefüllt am: 04.07.2015
B31: =Daten!$B$1 -> Pale Ale No. 11 | F31: Stehend und kühl lagern Nicht aus der Flasche trinken Heferest nicht ins Glas kippen | H31: ="Malz: "&Daten!$B$5 -> Malz: Wiener Malz, Münchener Malz
H32: ="Hopfen: "&Daten!$B$7 -> Hopfen: Magnum, Spalter Select
H33: ="Hefe: "&Daten!$B$6 -> Hefe: Safale S-04
B34: =Daten!$B$2 -> Ortruds Badebräu | F34: Mindestens haltbar: solange es schmeckt | H34: ="Bittere: "&Daten!$B$8 &" IBU" -> Bittere: 40 IBU | J34: ="Farbe: "&Daten!$B$9 &" EBC" -> Farbe: 21 EBC
B35: ="Stammwürze: "&Daten!$B$3&" °P" -> Stammwürze: 13 °P | D35: ="Alkohol: "&Daten!$B$4&" %" -> Alkohol: 6 % | H35: ="Gebraut am: "&TEXT(Daten!$B$10,"TT.MM.JJJJ") -> Gebraut am: 20.06.2015 | J35: ="Abgefüllt am: "&TEXT(Daten!$B$11,"TT.MM.JJJJ") -> Abgefüllt am: 04.07.2015
B37: =Daten!$B$1 -> Pale Ale No. 11 | F37: Stehend und kühl lagern Nicht aus der Flasche trinken Heferest nicht ins Glas kippen | H37: ="Malz: "&Daten!$B$5 -> Malz: Wiener Malz, Münchener Malz
H38: ="Hopfen: "&Daten!$B$7 -> Hopfen: Magnum, Spalter Select
H39: ="Hefe: "&Daten!$B$6 -> Hefe: Safale S-04
B40: =Daten!$B$2 -> Ortruds Badebräu | F40: Mindestens haltbar: solange es schmeckt | H40: ="Bittere: "&Daten!$B$8 &" IBU" -> Bittere: 40 IBU | J40: ="Farbe: "&Daten!$B$9 &" EBC" -> Farbe: 21 EBC
B41: ="Stammwürze: "&Daten!$B$3&" °P" -> Stammwürze: 13 °P | D41: ="Alkohol: "&Daten!$B$4&" %" -> Alkohol: 6 % | H41: ="Gebraut am: "&TEXT(Daten!$B$10,"TT.MM.JJJJ") -> Gebraut am: 20.06.2015 | J41: ="Abgefüllt am: "&TEXT(Daten!$B$11,"TT.MM.JJJJ") -> Abgefüllt am: 04.07.2015
B43: =Daten!$B$1 -> Pale Ale No. 11 | F43: Stehend und kühl lagern Nicht aus der Flasche trinken Heferest nicht ins Glas kippen | H43: ="Malz: "&Daten!$B$5 -> Malz: Wiener Malz, Münchener Malz
H44: ="Hopfen: "&Daten!$B$7 -> Hopfen: Magnum, Spalter Select
H45: ="Hefe: "&Daten!$B$6 -> Hefe: Safale S-04
B46: =Daten!$B$2 -> Ortruds Badebräu | F46: Mindestens haltbar: solange es schmeckt | H46: ="Bittere: "&Daten!$B$8 &" IBU" -> Bittere: 40 IBU | J46: ="Farbe: "&Daten!$B$9 &" EBC" -> Farbe: 21 EBC
B47: ="Stammwürze: "&Daten!$B$3&" °P" -> Stammwürze: 13 °P | D47: ="Alkohol: "&Daten!$B$4&" %" -> Alkohol: 6 % | H47: ="Gebraut am: "&TEXT(Daten!$B$10,"TT.MM.JJJJ") -> Gebraut am: 20.06.2015 | J47: ="Abgefüllt am: "&TEXT(Daten!$B$11,"TT.MM.JJJJ") -> Abgefüllt am: 04.07.2015
B49: =Daten!$B$1 -> Pale Ale No. 11 | F49: Stehend und kühl lagern Nicht aus der Flasche trinken Heferest nicht ins Glas kippen | H49: ="Malz: "&Daten!$B$5 -> Malz: Wiener Malz, Münchener Malz
H50: ="Hopfen: "&Daten!$B$7 -> Hopfen: Magnum, Spalter Select
H51: ="Hefe: "&Daten!$B$6 -> Hefe: Safale S-04
B52: =Daten!$B$2 -> Ortruds Badebräu | F52: Mindestens haltbar: solange es schmeckt | H52: ="Bittere: "&Daten!$B$8 &" IBU" -> Bittere: 40 IBU | J52: ="Farbe: "&Daten!$B$9 &" EBC" -> Farbe: 21 EBC
B53: ="Stammwürze: "&Daten!$B$3&" °P" -> Stammwürze: 13 °P | D53: ="Alkohol: "&Daten!$B$4&" %" -> Alkohol: 6 % | H53: ="Gebraut am: "&TEXT(Daten!$B$10,"TT.MM.JJJJ") -> Gebraut am: 20.06.2015 | J53: ="Abgefüllt am: "&TEXT(Daten!$B$11,"TT.MM.JJJJ") -> Abgefüllt am: 04.07.2015
B55: =Daten!$B$1 -> Pale Ale No. 11 | F55: Stehend und kühl lagern Nicht aus der Flasche trinken Heferest nicht ins Glas kippen | H55: ="Malz: "&Daten!$B$5 -> Malz: Wiener Malz, Münchener Malz
H56: ="Hopfen: "&Daten!$B$7 -> Hopfen: Magnum, Spalter Select
H57: ="Hefe: "&Daten!$B$6 -> Hefe: Safale S-04
B58: =Daten!$B$2 -> Ortruds Badebräu | F58: Mindestens haltbar: solange es schmeckt | H58: ="Bittere: "&Daten!$B$8 &" IBU" -> Bittere: 40 IBU | J58: ="Farbe: "&Daten!$B$9 &" EBC" -> Farbe: 21 EBC
B59: ="Stammwürze: "&Daten!$B$3&" °P" -> Stammwürze: 13 °P | D59: ="Alkohol: "&Daten!$B$4&" %" -> Alkohol: 6 % | H59: ="Gebraut am: "&TEXT(Daten!$B$10,"TT.MM.JJJJ") -> Gebraut am: 20.06.2015 | J59: ="Abgefüllt am: "&TEXT(Daten!$B$11,"TT.MM.JJJJ") -> Abgefüllt am: 04.07.2015
B61: =Daten!$B$1 -> Pale Ale No. 11 | F61: Stehend und kühl lagern Nicht aus der Flasche trinken Heferest nicht ins Glas kippen | H61: ="Malz: "&Daten!$B$5 -> Malz: Wiener Malz, Münchener Malz
H62: ="Hopfen: "&Daten!$B$7 -> Hopfen: Magnum, Spalter Select
H63: ="Hefe: "&Daten!$B$6 -> Hefe: Safale S-04
B64: =Daten!$B$2 -> Ortruds Badebräu | F64: Mindestens haltbar: solange es schmeckt | H64: ="Bittere: "&Daten!$B$8 &" IBU" -> Bittere: 40 IBU | J64: ="Farbe: "&Daten!$B$9 &" EBC" -> Farbe: 21 EBC
B65: ="Stammwürze: "&Daten!$B$3&" °P" -> Stammwürze: 13 °P | D65: ="Alkohol: "&Daten!$B$4&" %" -> Alkohol: 6 % | H65: ="Gebraut am: "&TEXT(Daten!$B$10,"TT.MM.JJJJ") -> Gebraut am: 20.06.2015 | J65: ="Abgefüllt am: "&TEXT(Daten!$B$11,"TT.MM.JJJJ") -> Abgefüllt am: 04.07.2015
B67: =Daten!$B$1 -> Pale Ale No. 11 | F67: Stehend und kühl lagern Nicht aus der Flasche trinken Heferest nicht ins Glas kippen | H67: ="Malz: "&Daten!$B$5 -> Malz: Wiener Malz, Münchener Malz
H68: ="Hopfen: "&Daten!$B$7 -> Hopfen: Magnum, Spalter Select
H69: ="Hefe: "&Daten!$B$6 -> Hefe: Safale S-04
B70: =Daten!$B$2 -> Ortruds Badebräu | F70: Mindestens haltbar: solange es schmeckt | H70: ="Bittere: "&Daten!$B$8 &" IBU" -> Bittere: 40 IBU | J70: ="Farbe: "&Daten!$B$9 &" EBC" -> Farbe: 21 EBC
B71: ="Stammwürze: "&Daten!$B$3&" °P" -> Stammwürze: 13 °P | D71: ="Alkohol: "&Daten!$B$4&" %" -> Alkohol: 6 % | H71: ="Gebraut am: "&TEXT(Daten!$B$10,"TT.MM.JJJJ") -> Gebraut am: 20.06.2015 | J71: ="Abgefüllt am: "&TEXT(Daten!$B$11,"TT.MM.JJJJ") -> Abgefüllt am: 04.07.2015
B73: =Daten!$B$1 -> Pale Ale No. 11 | F73: Stehend und kühl lagern Nicht aus der Flasche trinken Heferest nicht ins Glas kippen | H73: ="Malz: "&Daten!$B$5 -> Malz: Wiener Malz, Münchener Malz
H74: ="Hopfen: "&Daten!$B$7 -> Hopfen: Magnum, Spalter Select
H75: ="Hefe: "&Daten!$B$6 -> Hefe: Safale S-04
B76: =Daten!$B$2 -> Ortruds Badebräu | F76: Mindestens haltbar: solange es schmeckt | H76: ="Bittere: "&Daten!$B$8 &" IBU" -> Bittere: 40 IBU | J76: ="Farbe: "&Daten!$B$9 &" EBC" -> Farbe: 21 EBC
B77: ="Stammwürze: "&Daten!$B$3&" °P" -> Stammwürze: 13 °P | D77: ="Alkohol: "&Daten!$B$4&" %" -> Alkohol: 6 % | H77: ="Gebraut am: "&TEXT(Daten!$B$10,"TT.MM.JJJJ") -> Gebraut am: 20.06.2015 | J77: ="Abgefüllt am: "&TEXT(Daten!$B$11,"TT.MM.JJJJ") -> Abgefüllt am: 04.07.2015

Sheet Etiketten - blau
B1: =Daten!$B$1 -> Pale Ale No. 11 | F1: Stehend und kühl lagern Nicht aus der Flasche trinken Heferest nicht ins Glas kippen | H1: ="Malz: "&Daten!$B$5 -> Malz: Wiener Malz, Münchener Malz
H2: ="Hopfen: "&Daten!$B$7 -> Hopfen: Magnum, Spalter Select
H3: ="Hefe: "&Daten!$B$6 -> Hefe: Safale S-04
B4: =Daten!$B$2 -> Ortruds Badebräu | F4: Mindestens haltbar: solange es schmeckt | H4: ="Bittere: "&Daten!$B$8 &" IBU" -> Bittere: 40 IBU | J4: ="Farbe: "&Daten!$B$9 &" EBC" -> Farbe: 21 EBC
B5: ="Stammwürze: "&Daten!$B$3&" °P" -> Stammwürze: 13 °P | D5: ="Alkohol: "&Daten!$B$4&" %" -> Alkohol: 6 % | H5: ="Gebraut am: "&TEXT(Daten!$B$10,"TT.MM.JJJJ") -> Gebraut am: 20.06.2015 | K5: ="Abgefüllt am: "&TEXT(Daten!$B$11,"TT.MM.JJJJ") -> Abgefüllt am: 04.07.2015
B7: =Daten!$B$1 -> Pale Ale No. 11 | F7: Stehend und kühl lagern Nicht aus der Flasche trinken Heferest nicht ins Glas kippen | H7: ="Malz: "&Daten!$B$5 -> Malz: Wiener Malz, Münchener Malz
H8: ="Hopfen: "&Daten!$B$7 -> Hopfen: Magnum, Spalter Select
H9: ="Hefe: "&Daten!$B$6 -> Hefe: Safale S-04
B10: =Daten!$B$2 -> Ortruds Badebräu | F10: Mindestens haltbar: solange es schmeckt | H10: ="Bittere: "&Daten!$B$8 &" IBU" -> Bittere: 40 IBU | J10: ="Farbe: "&Daten!$B$9 &" EBC" -> Farbe: 21 EBC
B11: ="Stammwürze: "&Daten!$B$3&" °P" -> Stammwürze: 13 °P | D11: ="Alkohol: "&Daten!$B$4&" %" -> Alkohol: 6 % | H11: ="Gebraut am: "&TEXT(Daten!$B$10,"TT.MM.JJJJ") -> Gebraut am: 20.06.2015 | K11: ="Abgefüllt am: "&TEXT(Daten!$B$11,"TT.MM.JJJJ") -> Abgefüllt am: 04.07.2015
B13: =Daten!$B$1 -> Pale Ale No. 11 | F13: Stehend und kühl lagern Nicht aus der Flasche trinken Heferest nicht ins Glas kippen | H13: ="Malz: "&Daten!$B$5 -> Malz: Wiener Malz, Münchener Malz
H14: ="Hopfen: "&Daten!$B$7 -> Hopfen: Magnum, Spalter Select
H15: ="Hefe: "&Daten!$B$6 -> Hefe: Safale S-04
B16: =Daten!$B$2 -> Ortruds Badebräu | F16: Mindestens haltbar: solange es schmeckt | H16: ="Bittere: "&Daten!$B$8 &" IBU" -> Bittere: 40 IBU | J16: ="Farbe: "&Daten!$B$9 &" EBC" -> Farbe: 21 EBC
B17: ="Stammwürze: "&Daten!$B$3&" °P" -> Stammwürze: 13 °P | D17: ="Alkohol: "&Daten!$B$4&" %" -> Alkohol: 6 % | H17: ="Gebraut am: "&TEXT(Daten!$B$10,"TT.MM.JJJJ") -> Gebraut am: 20.06.2015 | K17: ="Abgefüllt am: "&TEXT(Daten!$B$11,"TT.MM.JJJJ") -> Abgefüllt am: 04.07.2015
B19: =Daten!$B$1 -> Pale Ale No. 11 | F19: Stehend und kühl lagern Nicht aus der Flasche trinken Heferest nicht ins Glas kippen | H19: ="Malz: "&Daten!$B$5 -> Malz: Wiener Malz, Münchener Malz
H20: ="Hopfen: "&Daten!$B$7 -> Hopfen: Magnum, Spalter Select
H21: ="Hefe: "&Daten!$B$6 -> Hefe: Safale S-04
B22: =Daten!$B$2 -> Ortruds Badebräu | F22: Mindestens haltbar: solange es schmeckt | H22: ="Bittere: "&Daten!$B$8 &" IBU" -> Bittere: 40 IBU | J22: ="Farbe: "&Daten!$B$9 &" EBC" -> Farbe: 21 EBC
B23: ="Stammwürze: "&Daten!$B$3&" °P" -> Stammwürze: 13 °P | D23: ="Alkohol: "&Daten!$B$4&" %" -> Alkohol: 6 % | H23: ="Gebraut am: "&TEXT(Daten!$B$10,"TT.MM.JJJJ") -> Gebraut am: 20.06.2015 | K23: ="Abgefüllt am: "&TEXT(Daten!$B$11,"TT.MM.JJJJ") -> Abgefüllt am: 04.07.2015
B25: =Daten!$B$1 -> Pale Ale No. 11 | F25: Stehend und kühl lagern Nicht aus der Flasche trinken Heferest nicht ins Glas kippen | H25: ="Malz: "&Daten!$B$5 -> Malz: Wiener Malz, Münchener Malz
H26: ="Hopfen: "&Daten!$B$7 -> Hopfen: Magnum, Spalter Select
H27: ="Hefe: "&Daten!$B$6 -> Hefe: Safale S-04
B28: =Daten!$B$2 -> Ortruds Badebräu | F28: Mindestens haltbar: solange es schmeckt | H28: ="Bittere: "&Daten!$B$8 &" IBU" -> Bittere: 40 IBU | J28: ="Farbe: "&Daten!$B$9 &" EBC" -> Farbe: 21 EBC
B29: ="Stammwürze: "&Daten!$B$3&" °P" -> Stammwürze: 13 °P | D29: ="Alkohol: "&Daten!$B$4&" %" -> Alkohol: 6 % | H29: ="Gebraut am: "&TEXT(Daten!$B$10,"TT.MM.JJJJ") -> Gebraut am: 20.06.2015 | K29: ="Abgefüllt am: "&TEXT(Daten!$B$11,"TT.MM.JJJJ") -> Abgefüllt am: 04.07.2015
B31: =Daten!$B$1 -> Pale Ale No. 11 | F31: Stehend und kühl lagern Nicht aus der Flasche trinken Heferest nicht ins Glas kippen | H31: ="Malz: "&Daten!$B$5 -> Malz: Wiener Malz, Münchener Malz
H32: ="Hopfen: "&Daten!$B$7 -> Hopfen: Magnum, Spalter Select
H33: ="Hefe: "&Daten!$B$6 -> Hefe: Safale S-04
B34: =Daten!$B$2 -> Ortruds Badebräu | F34: Mindestens haltbar: solange es schmeckt | H34: ="Bittere: "&Daten!$B$8 &" IBU" -> Bittere: 40 IBU | J34: ="Farbe: "&Daten!$B$9 &" EBC" -> Farbe: 21 EBC
B35: ="Stammwürze: "&Daten!$B$3&" °P" -> Stammwürze: 13 °P | D35: ="Alkohol: "&Daten!$B$4&" %" -> Alkohol: 6 % | H35: ="Gebraut am: "&TEXT(Daten!$B$10,"TT.MM.JJJJ") -> Gebraut am: 20.06.2015 | K35: ="Abgefüllt am: "&TEXT(Daten!$B$11,"TT.MM.JJJJ") -> Abgefüllt am: 04.07.2015
B37: =Daten!$B$1 -> Pale Ale No. 11 | F37: Stehend und kühl lagern Nicht aus der Flasche trinken Heferest nicht ins Glas kippen | H37: ="Malz: "&Daten!$B$5 -> Malz: Wiener Malz, Münchener Malz
H38: ="Hopfen: "&Daten!$B$7 -> Hopfen: Magnum, Spalter Select
H39: ="Hefe: "&Daten!$B$6 -> Hefe: Safale S-04
B40: =Daten!$B$2 -> Ortruds Badebräu | F40: Mindestens haltbar: solange es schmeckt | H40: ="Bittere: "&Daten!$B$8 &" IBU" -> Bittere: 40 IBU | J40: ="Farbe: "&Daten!$B$9 &" EBC" -> Farbe: 21 EBC
B41: ="Stammwürze: "&Daten!$B$3&" °P" -> Stammwürze: 13 °P | D41: ="Alkohol: "&Daten!$B$4&" %" -> Alkohol: 6 % | H41: ="Gebraut am: "&TEXT(Daten!$B$10,"TT.MM.JJJJ") -> Gebraut am: 20.06.2015 | K41: ="Abgefüllt am: "&TEXT(Daten!$B$11,"TT.MM.JJJJ") -> Abgefüllt am: 04.07.2015
B43: =Daten!$B$1 -> Pale Ale No. 11 | F43: Stehend und kühl lagern Nicht aus der Flasche trinken Heferest nicht ins Glas kippen | H43: ="Malz: "&Daten!$B$5 -> Malz: Wiener Malz, Münchener Malz
H44: ="Hopfen: "&Daten!$B$7 -> Hopfen: Magnum, Spalter Select
H45: ="Hefe: "&Daten!$B$6 -> Hefe: Safale S-04
B46: =Daten!$B$2 -> Ortruds Badebräu | F46: Mindestens haltbar: solange es schmeckt | H46: ="Bittere: "&Daten!$B$8 &" IBU" -> Bittere: 40 IBU | J46: ="Farbe: "&Daten!$B$9 &" EBC" -> Farbe: 21 EBC
B47: ="Stammwürze: "&Daten!$B$3&" °P" -> Stammwürze: 13 °P | D47: ="Alkohol: "&Daten!$B$4&" %" -> Alkohol: 6 % | H47: ="Gebraut am: "&TEXT(Daten!$B$10,"TT.MM.JJJJ") -> Gebraut am: 20.06.2015 | K47: ="Abgefüllt am: "&TEXT(Daten!$B$11,"TT.MM.JJJJ") -> Abgefüllt am: 04.07.2015
B49: =Daten!$B$1 -> Pale Ale No. 11 | F49: Stehend und kühl lagern Nicht aus der Flasche trinken Heferest nicht ins Glas kippen | H49: ="Malz: "&Daten!$B$5 -> Malz: Wiener Malz, Münchener Malz
H50: ="Hopfen: "&Daten!$B$7 -> Hopfen: Magnum, Spalter Select
H51: ="Hefe: "&Daten!$B$6 -> Hefe: Safale S-04
B52: =Daten!$B$2 -> Ortruds Badebräu | F52: Mindestens haltbar: solange es schmeckt | H52: ="Bittere: "&Daten!$B$8 &" IBU" -> Bittere: 40 IBU | J52: ="Farbe: "&Daten!$B$9 &" EBC" -> Farbe: 21 EBC
B53: ="Stammwürze: "&Daten!$B$3&" °P" -> Stammwürze: 13 °P | D53: ="Alkohol: "&Daten!$B$4&" %" -> Alkohol: 6 % | H53: ="Gebraut am: "&TEXT(Daten!$B$10,"TT.MM.JJJJ") -> Gebraut am: 20.06.2015 | K53: ="Abgefüllt am: "&TEXT(Daten!$B$11,"TT.MM.JJJJ") -> Abgefüllt am: 04.07.2015
B55: =Daten!$B$1 -> Pale Ale No. 11 | F55: Stehend und kühl lagern Nicht aus der Flasche trinken Heferest nicht ins Glas kippen | H55: ="Malz: "&Daten!$B$5 -> Malz: Wiener Malz, Münchener Malz
H56: ="Hopfen: "&Daten!$B$7 -> Hopfen: Magnum, Spalter Select
H57: ="Hefe: "&Daten!$B$6 -> Hefe: Safale S-04
B58: =Daten!$B$2 -> Ortruds Badebräu | F58: Mindestens haltbar: solange es schmeckt | H58: ="Bittere: "&Daten!$B$8 &" IBU" -> Bittere: 40 IBU | J58: ="Farbe: "&Daten!$B$9 &" EBC" -> Farbe: 21 EBC
B59: ="Stammwürze: "&Daten!$B$3&" °P" -> Stammwürze: 13 °P | D59: ="Alkohol: "&Daten!$B$4&" %" -> Alkohol: 6 % | H59: ="Gebraut am: "&TEXT(Daten!$B$10,"TT.MM.JJJJ") -> Gebraut am: 20.06.2015 | K59: ="Abgefüllt am: "&TEXT(Daten!$B$11,"TT.MM.JJJJ") -> Abgefüllt am: 04.07.2015
B61: =Daten!$B$1 -> Pale Ale No. 11 | F61: Stehend und kühl lagern Nicht aus der Flasche trinken Heferest nicht ins Glas kippen | H61: ="Malz: "&Daten!$B$5 -> Malz: Wiener Malz, Münchener Malz
H62: ="Hopfen: "&Daten!$B$7 -> Hopfen: Magnum, Spalter Select
H63: ="Hefe: "&Daten!$B$6 -> Hefe: Safale S-04
B64: =Daten!$B$2 -> Ortruds Badebräu | F64: Mindestens haltbar: solange es schmeckt | H64: ="Bittere: "&Daten!$B$8 &" IBU" -> Bittere: 40 IBU | J64: ="Farbe: "&Daten!$B$9 &" EBC" -> Farbe: 21 EBC
B65: ="Stammwürze: "&Daten!$B$3&" °P" -> Stammwürze: 13 °P | D65: ="Alkohol: "&Daten!$B$4&" %" -> Alkohol: 6 % | H65: ="Gebraut am: "&TEXT(Daten!$B$10,"TT.MM.JJJJ") -> Gebraut am: 20.06.2015 | K65: ="Abgefüllt am: "&TEXT(Daten!$B$11,"TT.MM.JJJJ") -> Abgefüllt am: 04.07.2015
B67: =Daten!$B$1 -> Pale Ale No. 11 | F67: Stehend und kühl lagern Nicht aus der Flasche trinken Heferest nicht ins Glas kippen | H67: ="Malz: "&Daten!$B$5 -> Malz: Wiener Malz, Münchener Malz
H68: ="Hopfen: "&Daten!$B$7 -> Hopfen: Magnum, Spalter Select
H69: ="Hefe: "&Daten!$B$6 -> Hefe: Safale S-04
B70: =Daten!$B$2 -> Ortruds Badebräu | F70: Mindestens haltbar: solange es schmeckt | H70: ="Bittere: "&Daten!$B$8 &" IBU" -> Bittere: 40 IBU | J70: ="Farbe: "&Daten!$B$9 &" EBC" -> Farbe: 21 EBC
B71: ="Stammwürze: "&Daten!$B$3&" °P" -> Stammwürze: 13 °P | D71: ="Alkohol: "&Daten!$B$4&" %" -> Alkohol: 6 % | H71: ="Gebraut am: "&TEXT(Daten!$B$10,"TT.MM.JJJJ") -> Gebraut am: 20.06.2015 | K71: ="Abgefüllt am: "&TEXT(Daten!$B$11,"TT.MM.JJJJ") -> Abgefüllt am: 04.07.2015
B73: =Daten!$B$1 -> Pale Ale No. 11 | F73: Stehend und kühl lagern Nicht aus der Flasche trinken Heferest nicht ins Glas kippen | H73: ="Malz: "&Daten!$B$5 -> Malz: Wiener Malz, Münchener Malz
H74: ="Hopfen: "&Daten!$B$7 -> Hopfen: Magnum, Spalter Select
H75: ="Hefe: "&Daten!$B$6 -> Hefe: Safale S-04
B76: =Daten!$B$2 -> Ortruds Badebräu | F76: Mindestens haltbar: solange es schmeckt | H76: ="Bittere: "&Daten!$B$8 &" IBU" -> Bittere: 40 IBU | J76: ="Farbe: "&Daten!$B$9 &" EBC" -> Farbe: 21 EBC
B77: ="Stammwürze: "&Daten!$B$3&" °P" -> Stammwürze: 13 °P | D77: ="Alkohol: "&Daten!$B$4&" %" -> Alkohol: 6 % | H77: ="Gebraut am: "&TEXT(Daten!$B$10,"TT.MM.JJJJ") -> Gebraut am: 20.06.2015 | K77: ="Abgefüllt am: "&TEXT(Daten!$B$11,"TT.MM.JJJJ") -> Abgefüllt am: 04.07.2015

Sheet Etiketten - grün
B1: =Daten!$B$1 -> Pale Ale No. 11 | F1: Stehend und kühl lagern Nicht aus der Flasche trinken Heferest nicht ins Glas kippen | H1: ="Malz: "&Daten!$B$5 -> Malz: Wiener Malz, Münchener Malz
H2: ="Hopfen: "&Daten!$B$7 -> Hopfen: Magnum, Spalter Select
H3: ="Hefe: "&Daten!$B$6 -> Hefe: Safale S-04
B4: =Daten!$B$2 -> Ortruds Badebräu | F4: Mindestens haltbar: solange es schmeckt | H4: ="Bittere: "&Daten!$B$8 &" IBU" -> Bittere: 40 IBU | J4: ="Farbe: "&Daten!$B$9 & " EBC" -> Farbe: 21 EBC
B5: ="Stammwürze: "&Daten!$B$3&" °P" -> Stammwürze: 13 °P | D5: ="Alkohol: "&Daten!$B$4&" %" -> Alkohol: 6 % | H5: ="Gebraut am: "&TEXT(Daten!$B$10,"TT.MM.JJJJ") -> Gebraut am: 20.06.2015 | K5: ="Abgefüllt am: "&TEXT(Daten!$B$11,"TT.MM.JJJJ") -> Abgefüllt am: 04.07.2015
B7: =Daten!$B$1 -> Pale Ale No. 11 | F7: Stehend und kühl lagern Nicht aus der Flasche trinken Heferest nicht ins Glas kippen | H7: ="Malz: "&Daten!$B$5 -> Malz: Wiener Malz, Münchener Malz
H8: ="Hopfen: "&Daten!$B$7 -> Hopfen: Magnum, Spalter Select
H9: ="Hefe: "&Daten!$B$6 -> Hefe: Safale S-04
B10: =Daten!$B$2 -> Ortruds Badebräu | F10: Mindestens haltbar: solange es schmeckt | H10: ="Bittere: "&Daten!$B$8 &" IBU" -> Bittere: 40 IBU | J10: ="Farbe: "&Daten!$B$9 & " EBC" -> Farbe: 21 EBC
B11: ="Stammwürze: "&Daten!$B$3&" °P" -> Stammwürze: 13 °P | D11: ="Alkohol: "&Daten!$B$4&" %" -> Alkohol: 6 % | H11: ="Gebraut am: "&TEXT(Daten!$B$10,"TT.MM.JJJJ") -> Gebraut am: 20.06.2015 | K11: ="Abgefüllt am: "&TEXT(Daten!$B$11,"TT.MM.JJJJ") -> Abgefüllt am: 04.07.2015
B13: =Daten!$B$1 -> Pale Ale No. 11 | F13: Stehend und kühl lagern Nicht aus der Flasche trinken Heferest nicht ins Glas kippen | H13: ="Malz: "&Daten!$B$5 -> Malz: Wiener Malz, Münchener Malz
H14: ="Hopfen: "&Daten!$B$7 -> Hopfen: Magnum, Spalter Select
H15: ="Hefe: "&Daten!$B$6 -> Hefe: Safale S-04
B16: =Daten!$B$2 -> Ortruds Badebräu | F16: Mindestens haltbar: solange es schmeckt | H16: ="Bittere: "&Daten!$B$8 &" IBU" -> Bittere: 40 IBU | J16: ="Farbe: "&Daten!$B$9 & " EBC" -> Farbe: 21 EBC
B17: ="Stammwürze: "&Daten!$B$3&" °P" -> Stammwürze: 13 °P | D17: ="Alkohol: "&Daten!$B$4&" %" -> Alkohol: 6 % | H17: ="Gebraut am: "&TEXT(Daten!$B$10,"TT.MM.JJJJ") -> Gebraut am: 20.06.2015 | K17: ="Abgefüllt am: "&TEXT(Daten!$B$11,"TT.MM.JJJJ") -> Abgefüllt am: 04.07.2015
B19: =Daten!$B$1 -> Pale Ale No. 11 | F19: Stehend und kühl lagern Nicht aus der Flasche trinken Heferest nicht ins Glas kippen | H19: ="Malz: "&Daten!$B$5 -> Malz: Wiener Malz, Münchener Malz
H20: ="Hopfen: "&Daten!$B$7 -> Hopfen: Magnum, Spalter Select
H21: ="Hefe: "&Daten!$B$6 -> Hefe: Safale S-04
B22: =Daten!$B$2 -> Ortruds Badebräu | F22: Mindestens haltbar: solange es schmeckt | H22: ="Bittere: "&Daten!$B$8 &" IBU" -> Bittere: 40 IBU | J22: ="Farbe: "&Daten!$B$9 & " EBC" -> Farbe: 21 EBC
B23: ="Stammwürze: "&Daten!$B$3&" °P" -> Stammwürze: 13 °P | D23: ="Alkohol: "&Daten!$B$4&" %" -> Alkohol: 6 % | H23: ="Gebraut am: "&TEXT(Daten!$B$10,"TT.MM.JJJJ") -> Gebraut am: 20.06.2015 | K23: ="Abgefüllt am: "&TEXT(Daten!$B$11,"TT.MM.JJJJ") -> Abgefüllt am: 04.07.2015
B25: =Daten!$B$1 -> Pale Ale No. 11 | F25: Stehend und kühl lagern Nicht aus der Flasche trinken Heferest nicht ins Glas kippen | H25: ="Malz: "&Daten!$B$5 -> Malz: Wiener Malz, Münchener Malz
H26: ="Hopfen: "&Daten!$B$7 -> Hopfen: Magnum, Spalter Select
H27: ="Hefe: "&Daten!$B$6 -> Hefe: Safale S-04
B28: =Daten!$B$2 -> Ortruds Badebräu | F28: Mindestens haltbar: solange es schmeckt | H28: ="Bittere: "&Daten!$B$8 &" IBU" -> Bittere: 40 IBU | J28: ="Farbe: "&Daten!$B$9 & " EBC" -> Farbe: 21 EBC
B29: ="Stammwürze: "&Daten!$B$3&" °P" -> Stammwürze: 13 °P | D29: ="Alkohol: "&Daten!$B$4&" %" -> Alkohol: 6 % | H29: ="Gebraut am: "&TEXT(Daten!$B$10,"TT.MM.JJJJ") -> Gebraut am: 20.06.2015 | K29: ="Abgefüllt am: "&TEXT(Daten!$B$11,"TT.MM.JJJJ") -> Abgefüllt am: 04.07.2015
B31: =Daten!$B$1 -> Pale Ale No. 11 | F31: Stehend und kühl lagern Nicht aus der Flasche trinken Heferest nicht ins Glas kippen | H31: ="Malz: "&Daten!$B$5 -> Malz: Wiener Malz, Münchener Malz
H32: ="Hopfen: "&Daten!$B$7 -> Hopfen: Magnum, Spalter Select
H33: ="Hefe: "&Daten!$B$6 -> Hefe: Safale S-04
B34: =Daten!$B$2 -> Ortruds Badebräu | F34: Mindestens haltbar: solange es schmeckt | H34: ="Bittere: "&Daten!$B$8 &" IBU" -> Bittere: 40 IBU | J34: ="Farbe: "&Daten!$B$9 & " EBC" -> Farbe: 21 EBC
B35: ="Stammwürze: "&Daten!$B$3&" °P" -> Stammwürze: 13 °P | D35: ="Alkohol: "&Daten!$B$4&" %" -> Alkohol: 6 % | H35: ="Gebraut am: "&TEXT(Daten!$B$10,"TT.MM.JJJJ") -> Gebraut am: 20.06.2015 | K35: ="Abgefüllt am: "&TEXT(Daten!$B$11,"TT.MM.JJJJ") -> Abgefüllt am: 04.07.2015
B37: =Daten!$B$1 -> Pale Ale No. 11 | F37: Stehend und kühl lagern Nicht aus der Flasche trinken Heferest nicht ins Glas kippen | H37: ="Malz: "&Daten!$B$5 -> Malz: Wiener Malz, Münchener Malz
H38: ="Hopfen: "&Daten!$B$7 -> Hopfen: Magnum, Spalter Select
H39: ="Hefe: "&Daten!$B$6 -> Hefe: Safale S-04
B40: =Daten!$B$2 -> Ortruds Badebräu | F40: Mindestens haltbar: solange es schmeckt | H40: ="Bittere: "&Daten!$B$8 &" IBU" -> Bittere: 40 IBU | J40: ="Farbe: "&Daten!$B$9 & " EBC" -> Farbe: 21 EBC
B41: ="Stammwürze: "&Daten!$B$3&" °P" -> Stammwürze: 13 °P | D41: ="Alkohol: "&Daten!$B$4&" %" -> Alkohol: 6 % | H41: ="Gebraut am: "&TEXT(Daten!$B$10,"TT.MM.JJJJ") -> Gebraut am: 20.06.2015 | K41: ="Abgefüllt am: "&TEXT(Daten!$B$11,"TT.MM.JJJJ") -> Abgefüllt am: 04.07.2015
B43: =Daten!$B$1 -> Pale Ale No. 11 | F43: Stehend und kühl lagern Nicht aus der Flasche trinken Heferest nicht ins Glas kippen | H43: ="Malz: "&Daten!$B$5 -> Malz: Wiener Malz, Münchener Malz
H44: ="Hopfen: "&Daten!$B$7 -> Hopfen: Magnum, Spalter Select
H45: ="Hefe: "&Daten!$B$6 -> Hefe: Safale S-04
B46: =Daten!$B$2 -> Ortruds Badebräu | F46: Mindestens haltbar: solange es schmeckt | H46: ="Bittere: "&Daten!$B$8 &" IBU" -> Bittere: 40 IBU | J46: ="Farbe: "&Daten!$B$9 & " EBC" -> Farbe: 21 EBC
B47: ="Stammwürze: "&Daten!$B$3&" °P" -> Stammwürze: 13 °P | D47: ="Alkohol: "&Daten!$B$4&" %" -> Alkohol: 6 % | H47: ="Gebraut am: "&TEXT(Daten!$B$10,"TT.MM.JJJJ") -> Gebraut am: 20.06.2015 | K47: ="Abgefüllt am: "&TEXT(Daten!$B$11,"TT.MM.JJJJ") -> Abgefüllt am: 04.07.2015
B49: =Daten!$B$1 -> Pale Ale No. 11 | F49: Stehend und kühl lagern Nicht aus der Flasche trinken Heferest nicht ins Glas kippen | H49: ="Malz: "&Daten!$B$5 -> Malz: Wiener Malz, Münchener Malz
H50: ="Hopfen: "&Daten!$B$7 -> Hopfen: Magnum, Spalter Select
H51: ="Hefe: "&Daten!$B$6 -> Hefe: Safale S-04
B52: =Daten!$B$2 -> Ortruds Badebräu | F52: Mindestens haltbar: solange es schmeckt | H52: ="Bittere: "&Daten!$B$8 &" IBU" -> Bittere: 40 IBU | J52: ="Farbe: "&Daten!$B$9 & " EBC" -> Farbe: 21 EBC
B53: ="Stammwürze: "&Daten!$B$3&" °P" -> Stammwürze: 13 °P | D53: ="Alkohol: "&Daten!$B$4&" %" -> Alkohol: 6 % | H53: ="Gebraut am: "&TEXT(Daten!$B$10,"TT.MM.JJJJ") -> Gebraut am: 20.06.2015 | K53: ="Abgefüllt am: "&TEXT(Daten!$B$11,"TT.MM.JJJJ") -> Abgefüllt am: 04.07.2015
B55: =Daten!$B$1 -> Pale Ale No. 11 | F55: Stehend und kühl lagern Nicht aus der Flasche trinken Heferest nicht ins Glas kippen | H55: ="Malz: "&Daten!$B$5 -> Malz: Wiener Malz, Münchener Malz
H56: ="Hopfen: "&Daten!$B$7 -> Hopfen: Magnum, Spalter Select
H57: ="Hefe: "&Daten!$B$6 -> Hefe: Safale S-04
B58: =Daten!$B$2 -> Ortruds Badebräu | F58: Mindestens haltbar: solange es schmeckt | H58: ="Bittere: "&Daten!$B$8 &" IBU" -> Bittere: 40 IBU | J58: ="Farbe: "&Daten!$B$9 & " EBC" -> Farbe: 21 EBC
B59: ="Stammwürze: "&Daten!$B$3&" °P" -> Stammwürze: 13 °P | D59: ="Alkohol: "&Daten!$B$4&" %" -> Alkohol: 6 % | H59: ="Gebraut am: "&TEXT(Daten!$B$10,"TT.MM.JJJJ") -> Gebraut am: 20.06.2015 | K59: ="Abgefüllt am: "&TEXT(Daten!$B$11,"TT.MM.JJJJ") -> Abgefüllt am: 04.07.2015
B61: =Daten!$B$1 -> Pale Ale No. 11 | F61: Stehend und kühl lagern Nicht aus der Flasche trinken Heferest nicht ins Glas kippen | H61: ="Malz: "&Daten!$B$5 -> Malz: Wiener Malz, Münchener Malz
H62: ="Hopfen: "&Daten!$B$7 -> Hopfen: Magnum, Spalter Select
H63: ="Hefe: "&Daten!$B$6 -> Hefe: Safale S-04
B64: =Daten!$B$2 -> Ortruds Badebräu | F64: Mindestens haltbar: solange es schmeckt | H64: ="Bittere: "&Daten!$B$8 &" IBU" -> Bittere: 40 IBU | J64: ="Farbe: "&Daten!$B$9 & " EBC" -> Farbe: 21 EBC
B65: ="Stammwürze: "&Daten!$B$3&" °P" -> Stammwürze: 13 °P | D65: ="Alkohol: "&Daten!$B$4&" %" -> Alkohol: 6 % | H65: ="Gebraut am: "&TEXT(Daten!$B$10,"TT.MM.JJJJ") -> Gebraut am: 20.06.2015 | K65: ="Abgefüllt am: "&TEXT(Daten!$B$11,"TT.MM.JJJJ") -> Abgefüllt am: 04.07.2015
B67: =Daten!$B$1 -> Pale Ale No. 11 | F67: Stehend und kühl lagern Nicht aus der Flasche trinken Heferest nicht ins Glas kippen | H67: ="Malz: "&Daten!$B$5 -> Malz: Wiener Malz, Münchener Malz
H68: ="Hopfen: "&Daten!$B$7 -> Hopfen: Magnum, Spalter Select
H69: ="Hefe: "&Daten!$B$6 -> Hefe: Safale S-04
B70: =Daten!$B$2 -> Ortruds Badebräu | F70: Mindestens haltbar: solange es schmeckt | H70: ="Bittere: "&Daten!$B$8 &" IBU" -> Bittere: 40 IBU | J70: ="Farbe: "&Daten!$B$9 & " EBC" -> Farbe: 21 EBC
B71: ="Stammwürze: "&Daten!$B$3&" °P" -> Stammwürze: 13 °P | D71: ="Alkohol: "&Daten!$B$4&" %" -> Alkohol: 6 % | H71: ="Gebraut am: "&TEXT(Daten!$B$10,"TT.MM.JJJJ") -> Gebraut am: 20.06.2015 | K71: ="Abgefüllt am: "&TEXT(Daten!$B$11,"TT.MM.JJJJ") -> Abgefüllt am: 04.07.2015
B73: =Daten!$B$1 -> Pale Ale No. 11 | F73: Stehend und kühl lagern Nicht aus der Flasche trinken Heferest nicht ins Glas kippen | H73: ="Malz: "&Daten!$B$5 -> Malz: Wiener Malz, Münchener Malz
H74: ="Hopfen: "&Daten!$B$7 -> Hopfen: Magnum, Spalter Select
H75: ="Hefe: "&Daten!$B$6 -> Hefe: Safale S-04
B76: =Daten!$B$2 -> Ortruds Badebräu | F76: Mindestens haltbar: solange es schmeckt | H76: ="Bittere: "&Daten!$B$8 &" IBU" -> Bittere: 40 IBU | J76: ="Farbe: "&Daten!$B$9 & " EBC" -> Farbe: 21 EBC
B77: ="Stammwürze: "&Daten!$B$3&" °P" -> Stammwürze: 13 °P | D77: ="Alkohol: "&Daten!$B$4&" %" -> Alkohol: 6 % | H77: ="Gebraut am: "&TEXT(Daten!$B$10,"TT.MM.JJJJ") -> Gebraut am: 20.06.2015 | K77: ="Abgefüllt am: "&TEXT(Daten!$B$11,"TT.MM.JJJJ") -> Abgefüllt am: 04.07.2015

Sheet Etiketten - rosa
B1: =Daten!$B$1 -> Pale Ale No. 11 | F1: Stehend und kühl lagern Nicht aus der Flasche trinken Heferest nicht ins Glas kippen | H1: ="Malz: "&Daten!$B$5 -> Malz: Wiener Malz, Münchener Malz
H2: ="Hopfen: "&Daten!$B$7 -> Hopfen: Magnum, Spalter Select
H3: ="Hefe: "&Daten!$B$6 -> Hefe: Safale S-04
B4: =Daten!$B$2 -> Ortruds Badebräu | F4: Mindestens haltbar: solange es schmeckt | H4: ="Bittere: "&Daten!$B$8 &" IBU" -> Bittere: 40 IBU | J4: ="Farbe: "&Daten!$B$9 & " EBC" -> Farbe: 21 EBC
B5: ="Stammwürze: "&Daten!$B$3&" °P" -> Stammwürze: 13 °P | D5: ="Alkohol: "&Daten!$B$4&" %" -> Alkohol: 6 % | H5: ="Gebraut am: "&TEXT(Daten!$B$10,"TT.MM.JJJJ") -> Gebraut am: 20.06.2015 | K5: ="Abgefüllt am: "&TEXT(Daten!$B$11,"TT.MM.JJJJ") -> Abgefüllt am: 04.07.2015
B7: =Daten!$B$1 -> Pale Ale No. 11 | F7: Stehend und kühl lagern Nicht aus der Flasche trinken Heferest nicht ins Glas kippen | H7: ="Malz: "&Daten!$B$5 -> Malz: Wiener Malz, Münchener Malz
H8: ="Hopfen: "&Daten!$B$7 -> Hopfen: Magnum, Spalter Select
H9: ="Hefe: "&Daten!$B$6 -> Hefe: Safale S-04
B10: =Daten!$B$2 -> Ortruds Badebräu | F10: Mindestens haltbar: solange es schmeckt | H10: ="Bittere: "&Daten!$B$8 &" IBU" -> Bittere: 40 IBU | J10: ="Farbe: "&Daten!$B$9 & " EBC" -> Farbe: 21 EBC
B11: ="Stammwürze: "&Daten!$B$3&" °P" -> Stammwürze: 13 °P | D11: ="Alkohol: "&Daten!$B$4&" %" -> Alkohol: 6 % | H11: ="Gebraut am: "&TEXT(Daten!$B$10,"TT.MM.JJJJ") -> Gebraut am: 20.06.2015 | K11: ="Abgefüllt am: "&TEXT(Daten!$B$11,"TT.MM.JJJJ") -> Abgefüllt am: 04.07.2015
B13: =Daten!$B$1 -> Pale Ale No. 11 | F13: Stehend und kühl lagern Nicht aus der Flasche trinken Heferest nicht ins Glas kippen | H13: ="Malz: "&Daten!$B$5 -> Malz: Wiener Malz, Münchener Malz
H14: ="Hopfen: "&Daten!$B$7 -> Hopfen: Magnum, Spalter Select
H15: ="Hefe: "&Daten!$B$6 -> Hefe: Safale S-04
B16: =Daten!$B$2 -> Ortruds Badebräu | F16: Mindestens haltbar: solange es schmeckt | H16: ="Bittere: "&Daten!$B$8 &" IBU" -> Bittere: 40 IBU | J16: ="Farbe: "&Daten!$B$9 & " EBC" -> Farbe: 21 EBC
B17: ="Stammwürze: "&Daten!$B$3&" °P" -> Stammwürze: 13 °P | D17: ="Alkohol: "&Daten!$B$4&" %" -> Alkohol: 6 % | H17: ="Gebraut am: "&TEXT(Daten!$B$10,"TT.MM.JJJJ") -> Gebraut am: 20.06.2015 | K17: ="Abgefüllt am: "&TEXT(Daten!$B$11,"TT.MM.JJJJ") -> Abgefüllt am: 04.07.2015
B19: =Daten!$B$1 -> Pale Ale No. 11 | F19: Stehend und kühl lagern Nicht aus der Flasche trinken Heferest nicht ins Glas kippen | H19: ="Malz: "&Daten!$B$5 -> Malz: Wiener Malz, Münchener Malz
H20: ="Hopfen: "&Daten!$B$7 -> Hopfen: Magnum, Spalter Select
H21: ="Hefe: "&Daten!$B$6 -> Hefe: Safale S-04
B22: =Daten!$B$2 -> Ortruds Badebräu | F22: Mindestens haltbar: solange es schmeckt | H22: ="Bittere: "&Daten!$B$8 &" IBU" -> Bittere: 40 IBU | J22: ="Farbe: "&Daten!$B$9 & " EBC" -> Farbe: 21 EBC
B23: ="Stammwürze: "&Daten!$B$3&" °P" -> Stammwürze: 13 °P | D23: ="Alkohol: "&Daten!$B$4&" %" -> Alkohol: 6 % | H23: ="Gebraut am: "&TEXT(Daten!$B$10,"TT.MM.JJJJ") -> Gebraut am: 20.06.2015 | K23: ="Abgefüllt am: "&TEXT(Daten!$B$11,"TT.MM.JJJJ") -> Abgefüllt am: 04.07.2015
B25: =Daten!$B$1 -> Pale Ale No. 11 | F25: Stehend und kühl lagern Nicht aus der Flasche trinken Heferest nicht ins Glas kippen | H25: ="Malz: "&Daten!$B$5 -> Malz: Wiener Malz, Münchener Malz
H26: ="Hopfen: "&Daten!$B$7 -> Hopfen: Magnum, Spalter Select
H27: ="Hefe: "&Daten!$B$6 -> Hefe: Safale S-04
B28: =Daten!$B$2 -> Ortruds Badebräu | F28: Mindestens haltbar: solange es schmeckt | H28: ="Bittere: "&Daten!$B$8 &" IBU" -> Bittere: 40 IBU | J28: ="Farbe: "&Daten!$B$9 & " EBC" -> Farbe: 21 EBC
B29: ="Stammwürze: "&Daten!$B$3&" °P" -> Stammwürze: 13 °P | D29: ="Alkohol: "&Daten!$B$4&" %" -> Alkohol: 6 % | H29: ="Gebraut am: "&TEXT(Daten!$B$10,"TT.MM.JJJJ") -> Gebraut am: 20.06.2015 | K29: ="Abgefüllt am: "&TEXT(Daten!$B$11,"TT.MM.JJJJ") -> Abgefüllt am: 04.07.2015
B31: =Daten!$B$1 -> Pale Ale No. 11 | F31: Stehend und kühl lagern Nicht aus der Flasche trinken Heferest nicht ins Glas kippen | H31: ="Malz: "&Daten!$B$5 -> Malz: Wiener Malz, Münchener Malz
H32: ="Hopfen: "&Daten!$B$7 -> Hopfen: Magnum, Spalter Select
H33: ="Hefe: "&Daten!$B$6 -> Hefe: Safale S-04
B34: =Daten!$B$2 -> Ortruds Badebräu | F34: Mindestens haltbar: solange es schmeckt | H34: ="Bittere: "&Daten!$B$8 &" IBU" -> Bittere: 40 IBU | J34: ="Farbe: "&Daten!$B$9 & " EBC" -> Farbe: 21 EBC
B35: ="Stammwürze: "&Daten!$B$3&" °P" -> Stammwürze: 13 °P | D35: ="Alkohol: "&Daten!$B$4&" %" -> Alkohol: 6 % | H35: ="Gebraut am: "&TEXT(Daten!$B$10,"TT.MM.JJJJ") -> Gebraut am: 20.06.2015 | K35: ="Abgefüllt am: "&TEXT(Daten!$B$11,"TT.MM.JJJJ") -> Abgefüllt am: 04.07.2015
B37: =Daten!$B$1 -> Pale Ale No. 11 | F37: Stehend und kühl lagern Nicht aus der Flasche trinken Heferest nicht ins Glas kippen | H37: ="Malz: "&Daten!$B$5 -> Malz: Wiener Malz, Münchener Malz
H38: ="Hopfen: "&Daten!$B$7 -> Hopfen: Magnum, Spalter Select
H39: ="Hefe: "&Daten!$B$6 -> Hefe: Safale S-04
B40: =Daten!$B$2 -> Ortruds Badebräu | F40: Mindestens haltbar: solange es schmeckt | H40: ="Bittere: "&Daten!$B$8 &" IBU" -> Bittere: 40 IBU | J40: ="Farbe: "&Daten!$B$9 & " EBC" -> Farbe: 21 EBC
B41: ="Stammwürze: "&Daten!$B$3&" °P" -> Stammwürze: 13 °P | D41: ="Alkohol: "&Daten!$B$4&" %" -> Alkohol: 6 % | H41: ="Gebraut am: "&TEXT(Daten!$B$10,"TT.MM.JJJJ") -> Gebraut am: 20.06.2015 | K41: ="Abgefüllt am: "&TEXT(Daten!$B$11,"TT.MM.JJJJ") -> Abgefüllt am: 04.07.2015
B43: =Daten!$B$1 -> Pale Ale No. 11 | F43: Stehend und kühl lagern Nicht aus der Flasche trinken Heferest nicht ins Glas kippen | H43: ="Malz: "&Daten!$B$5 -> Malz: Wiener Malz, Münchener Malz
H44: ="Hopfen: "&Daten!$B$7 -> Hopfen: Magnum, Spalter Select
H45: ="Hefe: "&Daten!$B$6 -> Hefe: Safale S-04
B46: =Daten!$B$2 -> Ortruds Badebräu | F46: Mindestens haltbar: solange es schmeckt | H46: ="Bittere: "&Daten!$B$8 &" IBU" -> Bittere: 40 IBU | J46: ="Farbe: "&Daten!$B$9 & " EBC" -> Farbe: 21 EBC
B47: ="Stammwürze: "&Daten!$B$3&" °P" -> Stammwürze: 13 °P | D47: ="Alkohol: "&Daten!$B$4&" %" -> Alkohol: 6 % | H47: ="Gebraut am: "&TEXT(Daten!$B$10,"TT.MM.JJJJ") -> Gebraut am: 20.06.2015 | K47: ="Abgefüllt am: "&TEXT(Daten!$B$11,"TT.MM.JJJJ") -> Abgefüllt am: 04.07.2015
B49: =Daten!$B$1 -> Pale Ale No. 11 | F49: Stehend und kühl lagern Nicht aus der Flasche trinken Heferest nicht ins Glas kippen | H49: ="Malz: "&Daten!$B$5 -> Malz: Wiener Malz, Münchener Malz
H50: ="Hopfen: "&Daten!$B$7 -> Hopfen: Magnum, Spalter Select
H51: ="Hefe: "&Daten!$B$6 -> Hefe: Safale S-04
B52: =Daten!$B$2 -> Ortruds Badebräu | F52: Mindestens haltbar: solange es schmeckt | H52: ="Bittere: "&Daten!$B$8 &" IBU" -> Bittere: 40 IBU | J52: ="Farbe: "&Daten!$B$9 & " EBC" -> Farbe: 21 EBC
B53: ="Stammwürze: "&Daten!$B$3&" °P" -> Stammwürze: 13 °P | D53: ="Alkohol: "&Daten!$B$4&" %" -> Alkohol: 6 % | H53: ="Gebraut am: "&TEXT(Daten!$B$10,"TT.MM.JJJJ") -> Gebraut am: 20.06.2015 | K53: ="Abgefüllt am: "&TEXT(Daten!$B$11,"TT.MM.JJJJ") -> Abgefüllt am: 04.07.2015
B55: =Daten!$B$1 -> Pale Ale No. 11 | F55: Stehend und kühl lagern Nicht aus der Flasche trinken Heferest nicht ins Glas kippen | H55: ="Malz: "&Daten!$B$5 -> Malz: Wiener Malz, Münchener Malz
H56: ="Hopfen: "&Daten!$B$7 -> Hopfen: Magnum, Spalter Select
H57: ="Hefe: "&Daten!$B$6 -> Hefe: Safale S-04
B58: =Daten!$B$2 -> Ortruds Badebräu | F58: Mindestens haltbar: solange es schmeckt | H58: ="Bittere: "&Daten!$B$8 &" IBU" -> Bittere: 40 IBU | J58: ="Farbe: "&Daten!$B$9 & " EBC" -> Farbe: 21 EBC
B59: ="Stammwürze: "&Daten!$B$3&" °P" -> Stammwürze: 13 °P | D59: ="Alkohol: "&Daten!$B$4&" %" -> Alkohol: 6 % | H59: ="Gebraut am: "&TEXT(Daten!$B$10,"TT.MM.JJJJ") -> Gebraut am: 20.06.2015 | K59: ="Abgefüllt am: "&TEXT(Daten!$B$11,"TT.MM.JJJJ") -> Abgefüllt am: 04.07.2015
B61: =Daten!$B$1 -> Pale Ale No. 11 | F61: Stehend und kühl lagern Nicht aus der Flasche trinken Heferest nicht ins Glas kippen | H61: ="Malz: "&Daten!$B$5 -> Malz: Wiener Malz, Münchener Malz
H62: ="Hopfen: "&Daten!$B$7 -> Hopfen: Magnum, Spalter Select
H63: ="Hefe: "&Daten!$B$6 -> Hefe: Safale S-04
B64: =Daten!$B$2 -> Ortruds Badebräu | F64: Mindestens haltbar: solange es schmeckt | H64: ="Bittere: "&Daten!$B$8 &" IBU" -> Bittere: 40 IBU | J64: ="Farbe: "&Daten!$B$9 & " EBC" -> Farbe: 21 EBC
B65: ="Stammwürze: "&Daten!$B$3&" °P" -> Stammwürze: 13 °P | D65: ="Alkohol: "&Daten!$B$4&" %" -> Alkohol: 6 % | H65: ="Gebraut am: "&TEXT(Daten!$B$10,"TT.MM.JJJJ") -> Gebraut am: 20.06.2015 | K65: ="Abgefüllt am: "&TEXT(Daten!$B$11,"TT.MM.JJJJ") -> Abgefüllt am: 04.07.2015
B67: =Daten!$B$1 -> Pale Ale No. 11 | F67: Stehend und kühl lagern Nicht aus der Flasche trinken Heferest nicht ins Glas kippen | H67: ="Malz: "&Daten!$B$5 -> Malz: Wiener Malz, Münchener Malz
H68: ="Hopfen: "&Daten!$B$7 -> Hopfen: Magnum, Spalter Select
H69: ="Hefe: "&Daten!$B$6 -> Hefe: Safale S-04
B70: =Daten!$B$2 -> Ortruds Badebräu | F70: Mindestens haltbar: solange es schmeckt | H70: ="Bittere: "&Daten!$B$8 &" IBU" -> Bittere: 40 IBU | J70: ="Farbe: "&Daten!$B$9 & " EBC" -> Farbe: 21 EBC
B71: ="Stammwürze: "&Daten!$B$3&" °P" -> Stammwürze: 13 °P | D71: ="Alkohol: "&Daten!$B$4&" %" -> Alkohol: 6 % | H71: ="Gebraut am: "&TEXT(Daten!$B$10,"TT.MM.JJJJ") -> Gebraut am: 20.06.2015 | K71: ="Abgefüllt am: "&TEXT(Daten!$B$11,"TT.MM.JJJJ") -> Abgefüllt am: 04.07.2015
B73: =Daten!$B$1 -> Pale Ale No. 11 | F73: Stehend und kühl lagern Nicht aus der Flasche trinken Heferest nicht ins Glas kippen | H73: ="Malz: "&Daten!$B$5 -> Malz: Wiener Malz, Münchener Malz
H74: ="Hopfen: "&Daten!$B$7 -> Hopfen: Magnum, Spalter Select
H75: ="Hefe: "&Daten!$B$6 -> Hefe: Safale S-04
B76: =Daten!$B$2 -> Ortruds Badebräu | F76: Mindestens haltbar: solange es schmeckt | H76: ="Bittere: "&Daten!$B$8 &" IBU" -> Bittere: 40 IBU | J76: ="Farbe: "&Daten!$B$9 & " EBC" -> Farbe: 21 EBC
B77: ="Stammwürze: "&Daten!$B$3&" °P" -> Stammwürze: 13 °P | D77: ="Alkohol: "&Daten!$B$4&" %" -> Alkohol: 6 % | H77: ="Gebraut am: "&TEXT(Daten!$B$10,"TT.MM.JJJJ") -> Gebraut am: 20.06.2015 | K77: ="Abgefüllt am: "&TEXT(Daten!$B$11,"TT.MM.JJJJ") -> Abgefüllt am: 04.07.2015

Sheet Etiketten - gelb
B1: =Daten!$B$1 -> Pale Ale No. 11 | F1: Stehend und kühl lagern Nicht aus der Flasche trinken Heferest nicht ins Glas kippen | H1: ="Malz: "&Daten!$B$5 -> Malz: Wiener Malz, Münchener Malz
H2: ="Hopfen: "&Daten!$B$7 -> Hopfen: Magnum, Spalter Select
H3: ="Hefe: "&Daten!$B$6 -> Hefe: Safale S-04
B4: =Daten!$B$2 -> Ortruds Badebräu | F4: Mindestens haltbar: solange es schmeckt | H4: ="Bittere: "&Daten!$B$8 &" IBU" -> Bittere: 40 IBU | J4: ="Farbe: "&Daten!$B$9 & " EBC" -> Farbe: 21 EBC
B5: ="Stammwürze: "&Daten!$B$3&" °P" -> Stammwürze: 13 °P | D5: ="Alkohol: "&Daten!$B$4&" %" -> Alkohol: 6 % | H5: ="Gebraut am: "&TEXT(Daten!$B$10,"TT.MM.JJJJ") -> Gebraut am: 20.06.2015 | K5: ="Abgefüllt am: "&TEXT(Daten!$B$11,"TT.MM.JJJJ") -> Abgefüllt am: 04.07.2015
B7: =Daten!$B$1 -> Pale Ale No. 11 | F7: Stehend und kühl lagern Nicht aus der Flasche trinken Heferest nicht ins Glas kippen | H7: ="Malz: "&Daten!$B$5 -> Malz: Wiener Malz, Münchener Malz
H8: ="Hopfen: "&Daten!$B$7 -> Hopfen: Magnum, Spalter Select
H9: ="Hefe: "&Daten!$B$6 -> Hefe: Safale S-04
B10: =Daten!$B$2 -> Ortruds Badebräu | F10: Mindestens haltbar: solange es schmeckt | H10: ="Bittere: "&Daten!$B$8 &" IBU" -> Bittere: 40 IBU | J10: ="Farbe: "&Daten!$B$9 & " EBC" -> Farbe: 21 EBC
B11: ="Stammwürze: "&Daten!$B$3&" °P" -> Stammwürze: 13 °P | D11: ="Alkohol: "&Daten!$B$4&" %" -> Alkohol: 6 % | H11: ="Gebraut am: "&TEXT(Daten!$B$10,"TT.MM.JJJJ") -> Gebraut am: 20.06.2015 | K11: ="Abgefüllt am: "&TEXT(Daten!$B$11,"TT.MM.JJJJ") -> Abgefüllt am: 04.07.2015
B13: =Daten!$B$1 -> Pale Ale No. 11 | F13: Stehend und kühl lagern Nicht aus der Flasche trinken Heferest nicht ins Glas kippen | H13: ="Malz: "&Daten!$B$5 -> Malz: Wiener Malz, Münchener Malz
H14: ="Hopfen: "&Daten!$B$7 -> Hopfen: Magnum, Spalter Select
H15: ="Hefe: "&Daten!$B$6 -> Hefe: Safale S-04
B16: =Daten!$B$2 -> Ortruds Badebräu | F16: Mindestens haltbar: solange es schmeckt | H16: ="Bittere: "&Daten!$B$8 &" IBU" -> Bittere: 40 IBU | J16: ="Farbe: "&Daten!$B$9 & " EBC" -> Farbe: 21 EBC
B17: ="Stammwürze: "&Daten!$B$3&" °P" -> Stammwürze: 13 °P | D17: ="Alkohol: "&Daten!$B$4&" %" -> Alkohol: 6 % | H17: ="Gebraut am: "&TEXT(Daten!$B$10,"TT.MM.JJJJ") -> Gebraut am: 20.06.2015 | K17: ="Abgefüllt am: "&TEXT(Daten!$B$11,"TT.MM.JJJJ") -> Abgefüllt am: 04.07.2015
B19: =Daten!$B$1 -> Pale Ale No. 11 | F19: Stehend und kühl lagern Nicht aus der Flasche trinken Heferest nicht ins Glas kippen | H19: ="Malz: "&Daten!$B$5 -> Malz: Wiener Malz, Münchener Malz
H20: ="Hopfen: "&Daten!$B$7 -> Hopfen: Magnum, Spalter Select
H21: ="Hefe: "&Daten!$B$6 -> Hefe: Safale S-04
B22: =Daten!$B$2 -> Ortruds Badebräu | F22: Mindestens haltbar: solange es schmeckt | H22: ="Bittere: "&Daten!$B$8 &" IBU" -> Bittere: 40 IBU | J22: ="Farbe: "&Daten!$B$9 & " EBC" -> Farbe: 21 EBC
B23: ="Stammwürze: "&Daten!$B$3&" °P" -> Stammwürze: 13 °P | D23: ="Alkohol: "&Daten!$B$4&" %" -> Alkohol: 6 % | H23: ="Gebraut am: "&TEXT(Daten!$B$10,"TT.MM.JJJJ") -> Gebraut am: 20.06.2015 | K23: ="Abgefüllt am: "&TEXT(Daten!$B$11,"TT.MM.JJJJ") -> Abgefüllt am: 04.07.2015
B25: =Daten!$B$1 -> Pale Ale No. 11 | F25: Stehend und kühl lagern Nicht aus der Flasche trinken Heferest nicht ins Glas kippen | H25: ="Malz: "&Daten!$B$5 -> Malz: Wiener Malz, Münchener Malz
H26: ="Hopfen: "&Daten!$B$7 -> Hopfen: Magnum, Spalter Select
H27: ="Hefe: "&Daten!$B$6 -> Hefe: Safale S-04
B28: =Daten!$B$2 -> Ortruds Badebräu | F28: Mindestens haltbar: solange es schmeckt | H28: ="Bittere: "&Daten!$B$8 &" IBU" -> Bittere: 40 IBU | J28: ="Farbe: "&Daten!$B$9 & " EBC" -> Farbe: 21 EBC
B29: ="Stammwürze: "&Daten!$B$3&" °P" -> Stammwürze: 13 °P | D29: ="Alkohol: "&Daten!$B$4&" %" -> Alkohol: 6 % | H29: ="Gebraut am: "&TEXT(Daten!$B$10,"TT.MM.JJJJ") -> Gebraut am: 20.06.2015 | K29: ="Abgefüllt am: "&TEXT(Daten!$B$11,"TT.MM.JJJJ") -> Abgefüllt am: 04.07.2015
B31: =Daten!$B$1 -> Pale Ale No. 11 | F31: Stehend und kühl lagern Nicht aus der Flasche trinken Heferest nicht ins Glas kippen | H31: ="Malz: "&Daten!$B$5 -> Malz: Wiener Malz, Münchener Malz
H32: ="Hopfen: "&Daten!$B$7 -> Hopfen: Magnum, Spalter Select
H33: ="Hefe: "&Daten!$B$6 -> Hefe: Safale S-04
B34: =Daten!$B$2 -> Ortruds Badebräu | F34: Mindestens haltbar: solange es schmeckt | H34: ="Bittere: "&Daten!$B$8 &" IBU" -> Bittere: 40 IBU | J34: ="Farbe: "&Daten!$B$9 & " EBC" -> Farbe: 21 EBC
B35: ="Stammwürze: "&Daten!$B$3&" °P" -> Stammwürze: 13 °P | D35: ="Alkohol: "&Daten!$B$4&" %" -> Alkohol: 6 % | H35: ="Gebraut am: "&TEXT(Daten!$B$10,"TT.MM.JJJJ") -> Gebraut am: 20.06.2015 | K35: ="Abgefüllt am: "&TEXT(Daten!$B$11,"TT.MM.JJJJ") -> Abgefüllt am: 04.07.2015
B37: =Daten!$B$1 -> Pale Ale No. 11 | F37: Stehend und kühl lagern Nicht aus der Flasche trinken Heferest nicht ins Glas kippen | H37: ="Malz: "&Daten!$B$5 -> Malz: Wiener Malz, Münchener Malz
H38: ="Hopfen: "&Daten!$B$7 -> Hopfen: Magnum, Spalter Select
H39: ="Hefe: "&Daten!$B$6 -> Hefe: Safale S-04
B40: =Daten!$B$2 -> Ortruds Badebräu | F40: Mindestens haltbar: solange es schmeckt | H40: ="Bittere: "&Daten!$B$8 &" IBU" -> Bittere: 40 IBU | J40: ="Farbe: "&Daten!$B$9 & " EBC" -> Farbe: 21 EBC
B41: ="Stammwürze: "&Daten!$B$3&" °P" -> Stammwürze: 13 °P | D41: ="Alkohol: "&Daten!$B$4&" %" -> Alkohol: 6 % | H41: ="Gebraut am: "&TEXT(Daten!$B$10,"TT.MM.JJJJ") -> Gebraut am: 20.06.2015 | K41: ="Abgefüllt am: "&TEXT(Daten!$B$11,"TT.MM.JJJJ") -> Abgefüllt am: 04.07.2015
B43: =Daten!$B$1 -> Pale Ale No. 11 | F43: Stehend und kühl lagern Nicht aus der Flasche trinken Heferest nicht ins Glas kippen | H43: ="Malz: "&Daten!$B$5 -> Malz: Wiener Malz, Münchener Malz
H44: ="Hopfen: "&Daten!$B$7 -> Hopfen: Magnum, Spalter Select
H45: ="Hefe: "&Daten!$B$6 -> Hefe: Safale S-04
B46: =Daten!$B$2 -> Ortruds Badebräu | F46: Mindestens haltbar: solange es schmeckt | H46: ="Bittere: "&Daten!$B$8 &" IBU" -> Bittere: 40 IBU | J46: ="Farbe: "&Daten!$B$9 & " EBC" -> Farbe: 21 EBC
B47: ="Stammwürze: "&Daten!$B$3&" °P" -> Stammwürze: 13 °P | D47: ="Alkohol: "&Daten!$B$4&" %" -> Alkohol: 6 % | H47: ="Gebraut am: "&TEXT(Daten!$B$10,"TT.MM.JJJJ") -> Gebraut am: 20.06.2015 | K47: ="Abgefüllt am: "&TEXT(Daten!$B$11,"TT.MM.JJJJ") -> Abgefüllt am: 04.07.2015
B49: =Daten!$B$1 -> Pale Ale No. 11 | F49: Stehend und kühl lagern Nicht aus der Flasche trinken Heferest nicht ins Glas kippen | H49: ="Malz: "&Daten!$B$5 -> Malz: Wiener Malz, Münchener Malz
H50: ="Hopfen: "&Daten!$B$7 -> Hopfen: Magnum, Spalter Select
H51: ="Hefe: "&Daten!$B$6 -> Hefe: Safale S-04
B52: =Daten!$B$2 -> Ortruds Badebräu | F52: Mindestens haltbar: solange es schmeckt | H52: ="Bittere: "&Daten!$B$8 &" IBU" -> Bittere: 40 IBU | J52: ="Farbe: "&Daten!$B$9 & " EBC" -> Farbe: 21 EBC
B53: ="Stammwürze: "&Daten!$B$3&" °P" -> Stammwürze: 13 °P | D53: ="Alkohol: "&Daten!$B$4&" %" -> Alkohol: 6 % | H53: ="Gebraut am: "&TEXT(Daten!$B$10,"TT.MM.JJJJ") -> Gebraut am: 20.06.2015 | K53: ="Abgefüllt am: "&TEXT(Daten!$B$11,"TT.MM.JJJJ") -> Abgefüllt am: 04.07.2015
B55: =Daten!$B$1 -> Pale Ale No. 11 | F55: Stehend und kühl lagern Nicht aus der Flasche trinken Heferest nicht ins Glas kippen | H55: ="Malz: "&Daten!$B$5 -> Malz: Wiener Malz, Münchener Malz
H56: ="Hopfen: "&Daten!$B$7 -> Hopfen: Magnum, Spalter Select
H57: ="Hefe: "&Daten!$B$6 -> Hefe: Safale S-04
B58: =Daten!$B$2 -> Ortruds Badebräu | F58: Mindestens haltbar: solange es schmeckt | H58: ="Bittere: "&Daten!$B$8 &" IBU" -> Bittere: 40 IBU | J58: ="Farbe: "&Daten!$B$9 & " EBC" -> Farbe: 21 EBC
B59: ="Stammwürze: "&Daten!$B$3&" °P" -> Stammwürze: 13 °P | D59: ="Alkohol: "&Daten!$B$4&" %" -> Alkohol: 6 % | H59: ="Gebraut am: "&TEXT(Daten!$B$10,"TT.MM.JJJJ") -> Gebraut am: 20.06.2015 | K59: ="Abgefüllt am: "&TEXT(Daten!$B$11,"TT.MM.JJJJ") -> Abgefüllt am: 04.07.2015
B61: =Daten!$B$1 -> Pale Ale No. 11 | F61: Stehend und kühl lagern Nicht aus der Flasche trinken Heferest nicht ins Glas kippen | H61: ="Malz: "&Daten!$B$5 -> Malz: Wiener Malz, Münchener Malz
H62: ="Hopfen: "&Daten!$B$7 -> Hopfen: Magnum, Spalter Select
H63: ="Hefe: "&Daten!$B$6 -> Hefe: Safale S-04
B64: =Daten!$B$2 -> Ortruds Badebräu | F64: Mindestens haltbar: solange es schmeckt | H64: ="Bittere: "&Daten!$B$8 &" IBU" -> Bittere: 40 IBU | J64: ="Farbe: "&Daten!$B$9 & " EBC" -> Farbe: 21 EBC
B65: ="Stammwürze: "&Daten!$B$3&" °P" -> Stammwürze: 13 °P | D65: ="Alkohol: "&Daten!$B$4&" %" -> Alkohol: 6 % | H65: ="Gebraut am: "&TEXT(Daten!$B$10,"TT.MM.JJJJ") -> Gebraut am: 20.06.2015 | K65: ="Abgefüllt am: "&TEXT(Daten!$B$11,"TT.MM.JJJJ") -> Abgefüllt am: 04.07.2015
B67: =Daten!$B$1 -> Pale Ale No. 11 | F67: Stehend und kühl lagern Nicht aus der Flasche trinken Heferest nicht ins Glas kippen | H67: ="Malz: "&Daten!$B$5 -> Malz: Wiener Malz, Münchener Malz
H68: ="Hopfen: "&Daten!$B$7 -> Hopfen: Magnum, Spalter Select
H69: ="Hefe: "&Daten!$B$6 -> Hefe: Safale S-04
B70: =Daten!$B$2 -> Ortruds Badebräu | F70: Mindestens haltbar: solange es schmeckt | H70: ="Bittere: "&Daten!$B$8 &" IBU" -> Bittere: 40 IBU | J70: ="Farbe: "&Daten!$B$9 & " EBC" -> Farbe: 21 EBC
B71: ="Stammwürze: "&Daten!$B$3&" °P" -> Stammwürze: 13 °P | D71: ="Alkohol: "&Daten!$B$4&" %" -> Alkohol: 6 % | H71: ="Gebraut am: "&TEXT(Daten!$B$10,"TT.MM.JJJJ") -> Gebraut am: 20.06.2015 | K71: ="Abgefüllt am: "&TEXT(Daten!$B$11,"TT.MM.JJJJ") -> Abgefüllt am: 04.07.2015
B73: =Daten!$B$1 -> Pale Ale No. 11 | F73: Stehend und kühl lagern Nicht aus der Flasche trinken Heferest nicht ins Glas kippen | H73: ="Malz: "&Daten!$B$5 -> Malz: Wiener Malz, Münchener Malz
H74: ="Hopfen: "&Daten!$B$7 -> Hopfen: Magnum, Spalter Select
H75: ="Hefe: "&Daten!$B$6 -> Hefe: Safale S-04
B76: =Daten!$B$2 -> Ortruds Badebräu | F76: Mindestens haltbar: solange es schmeckt | H76: ="Bittere: "&Daten!$B$8 &" IBU" -> Bittere: 40 IBU | J76: ="Farbe: "&Daten!$B$9 & " EBC" -> Farbe: 21 EBC
B77: ="Stammwürze: "&Daten!$B$3&" °P" -> Stammwürze: 13 °P | D77: ="Alkohol: "&Daten!$B$4&" %" -> Alkohol: 6 % | H77: ="Gebraut am: "&TEXT(Daten!$B$10,"TT.MM.JJJJ") -> Gebraut am: 20.06.2015 | K77: ="Abgefüllt am: "&TEXT(Daten!$B$11,"TT.MM.JJJJ") -> Abgefüllt am: 04.07.2015
