Workbook

Sheet Protokoll
C2: Brauprotokoll
C4: Brautag
C5: Brauer
C6: Sud Nr.
C7: Bezeichnung
C8: Bierstil
C9: Gärung
C10: Geplante Menge
C12: Schüttung
D13: kg | E13: EBC | F13: Anteil
C14: Pilsener Malz | D14: 0 | F14: =IF(D14>0,D14/SUM($D$14:$D$22),"")
C15: Wiener Malz | D15: 0 | E15: 0 | F15: =IF(D15>0,D15/SUM($D$14:$D$22),"")
C16: Münchner Malz | D16: 0 | E16: 0 | F16: =IF(D16>0,D16/SUM($D$14:$D$22),"")
C17: Karamellmalz | D17: 0 | F17: =IF(D17>0,D17/SUM($D$14:$D$22),"")
C18: Sauermalz | D18: 0 | E18: 0 | F18: =IF(D18>0,D18/SUM($D$14:$D$22),"")
C19: Röstmalz | D19: 0 | E19: 0 | F19: =IF(D19>0,D19/SUM($D$14:$D$22),"")
C20: Sonstiges | D20: 0 | F20: =IF(D20>0,D20/SUM($D$14:$D$22),"")
C21: Sonstiges | D21: 0 | F21: =IF(D21>0,D21/SUM($D$14:$D$22),"")
C22: Sonstiges | D22: 0 | E22: 0 | F22: =IF(D22>0,D22/SUM($D$14:$D$22),"")
C23: Summe | D23: =SUM(D14:D22) -> 0 | E23: {=IF(H78<>"",ROUND((SUMPRODUCT((D14:D22)*(E14:E22))/D23*H78/10+1.5*E60*1440/60),0),"Kochzeit? SW?")} -> Kochzeit? SW? | F23: =SUM(F14:F22) -> 0
C25: Maischen
C26: Hauptguss | D26: Liter
D29: Uhrzeit | E29: Temperatur (°C) | F29: Dauer (Min.)
C30: Einmaischen | F30: =IF(D30<>"",IF(G30>0,G30-D30,""),"") | G30: {=MIN(IF(D31:$D$45>D30,D31:$D$45))} -> 0
B31: i | C31: Gummirast | F31: =IF(D31<>"",IF(G31>0,G31-D31,""),"") | G31: {=MIN(IF(D32:$D$45>D31,D32:$D$45))} -> 0
C32: Aufheizen | F32: =IF(D32<>"",IF(G32>0,G32-D32,""),"") | G32: {=MIN(IF(D33:$D$45>D32,D33:$D$45))} -> 0
B33: i | C33: Weizenrast I | F33: =IF(D33<>"",IF(G33>0,G33-D33,""),"") | G33: {=MIN(IF(D34:$D$45>D33,D34:$D$45))} -> 0
C34: Aufheizen | F34: =IF(D34<>"",IF(G34>0,G34-D34,""),"") | G34: {=MIN(IF(D35:$D$45>D34,D35:$D$45))} -> 0
B35: i | C35: Weizenrast II | F35: =IF(D35<>"",IF(G35>0,G35-D35,""),"") | G35: {=MIN(IF(D36:$D$45>D35,D36:$D$45))} -> 0
C36: Aufheizen | F36: =IF(D36<>"",IF(G36>0,G36-D36,""),"") | G36: {=MIN(IF(D37:$D$45>D36,D37:$D$45))} -> 0
B37: i | C37: Eiweißrast | F37: =IF(D37<>"",IF(G37>0,G37-D37,""),"") | G37: {=MIN(IF(D38:$D$45>D37,D38:$D$45))} -> 0
C38: Aufheizen | F38: =IF(D38<>"",IF(G38>0,G38-D38,""),"") | G38: {=MIN(IF(D39:$D$45>D38,D39:$D$45))} -> 0
B39: i | C39: Maltoserast | F39: =IF(D39<>"",IF(G39>0,G39-D39,""),"") | G39: {=MIN(IF(D40:$D$45>D39,D40:$D$45))} -> 0
C40: Aufheizen | F40: =IF(D40<>"",IF(G40>0,G40-D40,""),"") | G40: {=MIN(IF(D41:$D$45>D40,D41:$D$45))} -> 0
B41: i | C41: Verzuckerung | F41: =IF(D41<>"",IF(G41>0,G41-D41,""),"") | G41: {=MIN(IF(D42:$D$45>D41,D42:$D$45))} -> 0
C42: Jodnormal | G42: {=MIN(IF(D43:$D$45>D42,D43:$D$45))} -> 0
C43: Aufheizen | F43: =IF(D43<>"",IF(G43>0,G43-D43,""),"") | G43: {=MIN(IF(D44:$D$45>D43,D44:$D$45))} -> 0
B44: i | C44: Abmaischen | F44: =IF(D44<>"",IF(G44>0,G44-D44,""),"") | G44: {=MIN(IF(D45:$D$45>D44,D45:$D$45))} -> 0
C45: Läutern | E45: =IF(D45<>"",IF(G45>0,G45-D45,""),"") | G45: {=MIN(IF(D$45:$D46>D45,D$45:$D46))} -> 0
C47: Läutern
...

Sheet Plato-Tabelle
A1: SG | B1: %gew | C1: %vol | D1: AF
A2: 1 | B2: 0 | C2: 0 | D2: 0
A3: 1.00039 | B3: 0.1 | C3: 0.1 | D3: 0.1
A4: 1.00078 | B4: 0.2 | C4: 0.2 | D4: 0.19
A5: 1.00117 | B5: 0.3 | C5: 0.3 | D5: 0.29
A6: 1.00156 | B6: 0.4 | C6: 0.4 | D6: 0.38
A7: 1.00195 | B7: 0.5 | C7: 0.5 | D7: 0.48
A8: 1.00234 | B8: 0.6 | C8: 0.6 | D8: 0.58
A9: 1.00273 | B9: 0.7 | C9: 0.7 | D9: 0.67
A10: 1.00312 | B10: 0.8 | C10: 0.8 | D10: 0.77
A11: 1.00351 | B11: 0.9 | C11: 0.9 | D11: 0.86
A12: 1.0039 | B12: 1 | C12: 1 | D12: 0.96
A13: 1.00429 | B13: 1.1 | C13: 1.1 | D13: 1.06
... A201: 1.08254 | B201: 19.9 | C201: 21.5 | D201: 20.68

Sheet Tinseth
B1: 1.03 | C1: 1.04 | D1: 1.05 | E1: 1.06 | F1: 1.07 | G1: 1.08 | H1: 1.09 | I1: 1.1 | J1: 1.11 | K1: 1.12 | L1: 1.13
A2: (min)
A3: 0 | B3: 0 | C3: 0 | D3: 0 | E3: 0 | F3: 0 | G3: 0 | H3: 0 | I3: 0 | J3: 0 | K3: 0 | L3: 0
A4: 3 | B4: 0.034 | C4: 0.031 | D4: 0.029 | E4: 0.026 | F4: 0.024 | G4: 0.022 | H4: 0.02 | I4: 0.018 | J4: 0.017 | K4: 0.015 | L4: 0.014
A5: 6 | B5: 0.065 | C5: 0.059 | D5: 0.054 | E5: 0.049 | F5: 0.045 | G5: 0.041 | H5: 0.038 | I5: 0.035 | J5: 0.032 | K5: 0.029 | L5: 0.026
A6: 9 | B6: 0.092 | C6: 0.084 | D6: 0.077 | E6: 0.07 | F6: 0.064 | G6: 0.059 | H6: 0.054 | I6: 0.049 | J6: 0.045 | K6: 0.041 | L6: 0.037
A7: 12 | B7: 0.116 | C7: 0.106 | D7: 0.097 | E7: 0.088 | F7: 0.081 | G7: 0.074 | H7: 0.068 | I7: 0.062 | J7: 0.056 | K7: 0.052 | L7: 0.047
A8: 15 | B8: 0.137 | C8: 0.125 | D8: 0.114 | E8: 0.105 | F8: 0.096 | G8: 0.087 | H8: 0.08 | I8: 0.073 | J8: 0.067 | K8: 0.061 | L8: 0.056
A9: 18 | B9: 0.156 | C9: 0.142 | D9: 0.13 | E9: 0.119 | F9: 0.109 | G9: 0.099 | H9: 0.091 | I9: 0.083 | J9: 0.076 | K9: 0.069 | L9: 0.063
A10: 21 | B10: 0.173 | C10: 0.158 | D10: 0.144 | E10: 0.132 | F10: 0.12 | G10: 0.11 | H10: 0.101 | I10: 0.092 | J10: 0.084 | K10: 0.077 | L10: 0.07
A11: 24 | B11: 0.187 | C11: 0.171 | D11: 0.157 | E11: 0.143 | F11: 0.131 | G11: 0.12 | H11: 0.109 | I11: 0.1 | J11: 0.091 | K11: 0.083 | L11: 0.076
A12: 27 | B12: 0.201 | C12: 0.183 | D12: 0.168 | E12: 0.153 | F12: 0.14 | G12: 0.128 | H12: 0.117 | I12: 0.107 | J12: 0.098 | K12: 0.089 | L12: 0.082
A13: 30 | B13: 0.212 | C13: 0.194 | D13: 0.177 | E13: 0.162 | F13: 0.148 | G13: 0.135 | H13: 0.124 | I13: 0.113 | J13: 0.103 | K13: 0.094 | L13: 0.086
A14: 33 | B14: 0.223 | C14: 0.203 | D14: 0.186 | E14: 0.17 | F14: 0.155 | G14: 0.142 | H14: 0.13 | I14: 0.119 | J14: 0.108 | K14: 0.099 | L14: 0.091
... A27: 120 | B27: 0.301 | C27: 0.275 | D27: 0.252 | E27: 0.23 | F27: 0.21 | G27: 0.192 | H27: 0.176 | I27: 0.161 | J27: 0.147 | K27: 0.134 | L27: 0.123
