Workbook

Sheet Protokoll
C2: Brauprotokoll
C4: Brautag
C5: Brauer
C6: Sud Nr.
C7: Bezeichnung
C8: Bierstil
C9: Gärung
C10: Geplante Menge
C12: Schüttung
D13: kg | E13: EBC | F13: Anteil
C14: Pilsener Malz | D14: 0 | F14: =IF(D14>0,D14/SUM($D$14:$D$22),"")
C15: Wiener Malz | D15: 0 | E15: 0 | F15: =IF(D15>0,D15/SUM($D$14:$D$22),"")
C16: Münchner Malz | D16: 0 | E16: 0 | F16: =IF(D16>0,D16/SUM($D$14:$D$22),"")
C17: Karamellmalz | D17: 0 | F17: =IF(D17>0,D17/SUM($D$14:$D$22),"")
C18: Sauermalz | D18: 0 | E18: 0 | F18: =IF(D18>0,D18/SUM($D$14:$D$22),"")
C19: Röstmalz | D19: 0 | E19: 0 | F19: =IF(D19>0,D19/SUM($D$14:$D$22),"")
C20: Sonstiges | D20: 0 | F20: =IF(D20>0,D20/SUM($D$14:$D$22),"")
C21: Sonstiges | D21: 0 | F21: =IF(D21>0,D21/SUM($D$14:$D$22),"")
C22: Sonstiges | D22: 0 | E22: 0 | F22: =IF(D22>0,D22/SUM($D$14:$D$22),"")
C23: Summe | D23: =SUM(D14:D22) -> 0 | E23: {=IF(H78<>"",ROUND((SUMPRODUCT((D14:D22)*(E14:E22))/D23*H78/10+1.5*E60*1440/60),0),"Kochzeit? SW?")} -> Kochzeit? SW? | F23: =SUM(F14:F22) -> 0
C25: Maischen
C26: Hauptguss | D26: Liter
D29: Uhrzeit | E29: Temperatur (°C) | F29: Dauer (Min.)
C30: Einmaischen | F30: =IF(D30<>"",IF(G30>0,G30-D30,""),"") | G30: {=MIN(IF(D31:$D$45>D30,D31:$D$45))} -> 0
B31: i | C31: Gummirast | F31: =IF(D31<>"",IF(G31>0,G31-D31,""),"") | G31: {=MIN(IF(D32:$D$45>D31,D32:$D$45))} -> 0
C32: Aufheizen | F32: =IF(D32<>"",IF(G32>0,G32-D32,""),"") | G32: {=MIN(IF(D33:$D$45>D32,D33:$D$45))} -> 0
B33: i | C33: Weizenrast I | F33: =IF(D33<>"",IF(G33>0,G33-D33,""),"") | G33: {=MIN(IF(D34:$D$45>D33,D34:$D$45))} -> 0
C34: Aufheizen | F34: =IF(D34<>"",IF(G34>0,G34-D34,""),"") | G34: {=MIN(IF(D35:$D$45>D34,D35:$D$45))} -> 0
B35: i | C35: Weizenrast II | F35: =IF(D35<>"",IF(G35>0,G35-D35,""),"") | G35: {=MIN(IF(D36:$D$45>D35,D36:$D$45))} -> 0
C36: Aufheizen | F36: =IF(D36<>"",IF(G36>0,G36-D36,""),"") | G36: {=MIN(IF(D37:$D$45>D36,D37:$D$45))} -> 0
B37: i | C37: Eiweißrast | F37: =IF(D37<>"",IF(G37>0,G37-D37,""),"") | G37: {=MIN(IF(D38:$D$45>D37,D38:$D$45))} -> 0
C38: Aufheizen | F38: =IF(D38<>"",IF(G38>0,G38-D38,""),"") | G38: {=MIN(IF(D39:$D$45>D38,D39:$D$45))} -> 0
B39: i | C39: Maltoserast | F39: =IF(D39<>"",IF(G39>0,G39-D39,""),"") | G39: {=MIN(IF(D40:$D$45>D39,D40:$D$45))} -> 0
C40: Aufheizen | F40: =IF(D40<>"",IF(G40>0,G40-D40,""),"") | G40: {=MIN(IF(D41:$D$45>D40,D41:$D$45))} -> 0
B41: i | C41: Verzuckerung | F41: =IF(D41<>"",IF(G41>0,G41-D41,""),"") | G41: {=MIN(IF(D42:$D$45>D41,D42:$D$45))} -> 0
C42: Jodnormal | G42: {=MIN(IF(D43:$D$45>D42,D43:$D$45))} -> 0
C43: Aufheizen | F43: =IF(D43<>"",IF(G43>0,G43-D43,""),"") | G43: {=MIN(IF(D44:$D$45>D43,D44:$D$45))} -> 0
B44: i | C44: Abmaischen | F44: =IF(D44<>"",IF(G44>0,G44-D44,""),"") | G44: {=MIN(IF(D45:$D$45>D44,D45:$D$45))} -> 0
C45: Läutern | E45: =IF(D45<>"",IF(G45>0,G45-D45,""),"") | G45: {=MIN(IF(D$45:$D46>D45,D$45:$D46))} -> 0
C47: Läutern
C48: Vorderwürze | D48: Liter | E48: BRIX | F48: °P
F49: =IF(E49<>"",E49*0.96,"")
C51: Nachguss | D51: Liter
C54: Pfanne voll | D54: Liter | E54: BRIX | F54: °P
F55: =IF(E55<>"",E55*0.96,"") | G55: =LOOKUP(Protokoll!F55,'Plato-Tabelle'!B2:B201,'Plato-Tabelle'!A2:A201) -> #N/A | H55: =MATCH(ROUND(G55,2),Tinseth!A1:L1,0) -> #N/A
C57: Kochen
D58: Uhrzeit | E58: Dauer | F58: Hopfen | G58: Alphasäure (%) | H58: Menge
C59: Aufheizen | E59: =IF(D60<>"",D60-D59,"")
C60: Kochen | E60: =IF(D65<>"",D65-D60,"") | J60: Tinseth
C61: Bitterhopfen I | E61: =IF($D$65<>"",IF(D61<>"",$D$65-D61,""),"") | I61: =IF(($D$67-D61)*1440<=60,ROUND(($D$67-D61)*1440/3,0)*3,ROUND(($D$67-D61)*1440/10,0)*10) -> 0 | J61: =IF(D61<>"",VLOOKUP(Protokoll!I61,Tinseth!$A$3:$L$27,MATCH(ROUND($G$55,2),Tinseth!$A$1:$L$1,0),FALSE),"") | K61: =IF(D61<>"",J61*G61/100*H61*1000/$D$72,"")
C62: Bitterhopfen II | E62: =IF($D$65<>"",IF(D62<>"",$D$65-D62,""),"") | I62: =IF(($D$67-D62)*1440<=60,ROUND(($D$67-D62)*1440/3,0)*3,ROUND(($D$67-D62)*1440/10,0)*10) -> 0 | J62: =IF(D62<>"",VLOOKUP(Protokoll!I62,Tinseth!$A$3:$L$27,MATCH(ROUND($G$55,2),Tinseth!$A$1:$L$1,0),FALSE),"") | K62: =IF(D62<>"",J62*G62/100*H62*1000/$D$72,"")
C63: Aromahopfen I | E63: =IF($D$65<>"",IF(D63<>"",$D$65-D63,""),"") | I63: =IF(($D$67-D63)*1440<=60,ROUND(($D$67-D63)*1440/3,0)*3,ROUND(($D$67-D63)*1440/10,0)*10) -> 0 | J63: =IF(D63<>"",VLOOKUP(Protokoll!I63,Tinseth!$A$3:$L$27,MATCH(ROUND($G$55,2),Tinseth!$A$1:$L$1,0),FALSE),"") | K63: =IF(D63<>"",J63*G63/100*H63*1000/$D$72,"")
C64: Aromahopfen II | E64: =IF($D$65<>"",IF(D64<>"",$D$65-D64,""),"") | I64: =IF(($D$67-D64)*1440<=60,ROUND(($D$67-D64)*1440/3,0)*3,ROUND(($D$67-D64)*1440/10,0)*10) -> 0 | J64: =IF(D64<>"",VLOOKUP(Protokoll!I64,Tinseth!$A$3:$L$27,MATCH(ROUND($G$55,2),Tinseth!$A$1:$L$1,0),FALSE),"") | K64: =IF(D64<>"",J64*G64/100*H64*1000/$D$72,"")
C65: Hitze aus
C66: Heißer Whirlpool | E66: =IF($D$66<>"",IF(D67<>"",$D$67-D66,""),"") | I66: =IF(($D$67-D66)*1440<=60,ROUND(($D$67-D66)*1440/3,0)*3,ROUND(($D$67-D66)*1440/10,0)*10) -> 0 | J66: =IF(D66<>"",VLOOKUP(Protokoll!I66,Tinseth!$A$3:$L$27,MATCH(ROUND($G$55,2),Tinseth!$A$1:$L$1,0),FALSE),"") | K66: =IF(D66<>"",J66*G66/100*H66*1000/$D$72,"")
C67: Ende Nachisomerisierung
C68: Kalter Whirlpool | E68: =IF($D$68<>"",IF(D69<>"",$D$69-D68,""),"")
C69: Kühlung aus | E69: =IF(D69<>"",D69-D65,"")
C71: Heißwürze | D71: Liter | E71: BRIX | F71: °P
F72: =IF(E72<>"",E72*0.96,"")
C74: =IF(E72<>"","Sudhausausbeute: "&FIXED((E72*LOOKUP(E72,'Plato-Tabelle'!B2:B201,'Plato-Tabelle'!A2:A201)*0.96*D72)/D23,1)&"%","Sudhausausbeute: %") -> Sudhausausbeute: % | G74: ="IBU: "&ROUND(SUM(K61:K67),0) -> IBU: 0
C76: Gärung
C77: Ausschlagwürze (Stammwürze) | D77: Datum | E77: Uhrzeit | F77: Liter | G77: BRIX | H77: °P
H78: =IF(G78<>"",G78*0.96,"")
C80: Hefe | E80: Menge (g)
C82: Gärung | D82: Form | E82: Rehydrierung
C85: Datum | D85: Uhrzeit | E85: Temperatur | F85: BRIX | G85: scheinb. RE (°P) | H85: tatsächl. RE (°P) | I85: scheinb. EVG | J85: tatsächl. EVG | K85: Alc. (Vol.-%)
G86: =IF(F86<>"",LOOKUP( 1-0.00085683*$H$78/1.03+0.0034941*F86/1.03,'Plato-Tabelle'!$A$2:$A$201,'Plato-Tabelle'!$B$2:$B$201),"") | H86: =IF(F86<>"",0.1808*$H$78+0.8192*G86,"") | I86: =IF(F86<>"", (1-G86/$H$78),"") | J86: =IF(F86<>"",(1-H86/$H$78),"") | K86: =IF(F86<>"",FIXED((261.1/(261.53-H86)*($H$78-H86)/(2.0665-0.010665*$H$78)/0.794),1)&"%","")
G87: =IF(F87<>"",LOOKUP( 1-0.00085683*$H$78/1.03+0.0034941*F87/1.03,'Plato-Tabelle'!$A$2:$A$201,'Plato-Tabelle'!$B$2:$B$201),"") | H87: =IF(F87<>"",0.1808*$H$78+0.8192*G87,"") | I87: =IF(F87<>"", (1-G87/$H$78),"") | J87: =IF(F87<>"",(1-H87/$H$78),"") | K87: =IF(F87<>"",FIXED((261.1/(261.53-H87)*($H$78-H87)/(2.0665-0.010665*$H$78)/0.794),1)&"%","")
G88: =IF(F88<>"",LOOKUP( 1-0.00085683*$H$78/1.03+0.0034941*F88/1.03,'Plato-Tabelle'!$A$2:$A$201,'Plato-Tabelle'!$B$2:$B$201),"") | H88: =IF(F88<>"",0.1808*$H$78+0.8192*G88,"") | I88: =IF(F88<>"", (1-G88/$H$78),"") | J88: =IF(F88<>"",(1-H88/$H$78),"") | K88: =IF(F88<>"",FIXED((261.1/(261.53-H88)*($H$78-H88)/(2.0665-0.010665*$H$78)/0.794),1)&"%","")
G89: =IF(F89<>"",LOOKUP( 1-0.00085683*$H$78/1.03+0.0034941*F89/1.03,'Plato-Tabelle'!$A$2:$A$201,'Plato-Tabelle'!$B$2:$B$201),"") | H89: =IF(F89<>"",0.1808*$H$78+0.8192*G89,"") | I89: =IF(F89<>"", (1-G89/$H$78),"") | J89: =IF(F89<>"",(1-H89/$H$78),"") | K89: =IF(F89<>"",FIXED((261.1/(261.53-H89)*($H$78-H89)/(2.0665-0.010665*$H$78)/0.794),1)&"%","")
G90: =IF(F90<>"",LOOKUP( 1-0.00085683*$H$78/1.03+0.0034941*F90/1.03,'Plato-Tabelle'!$A$2:$A$201,'Plato-Tabelle'!$B$2:$B$201),"") | H90: =IF(F90<>"",0.1808*$H$78+0.8192*G90,"") | I90: =IF(F90<>"", (1-G90/$H$78),"") | J90: =IF(F90<>"",(1-H90/$H$78),"") | K90: =IF(F90<>"",FIXED((261.1/(261.53-H90)*($H$78-H90)/(2.0665-0.010665*$H$78)/0.794),1)&"%","")
G91: =IF(F91<>"",LOOKUP( 1-0.00085683*$H$78/1.03+0.0034941*F91/1.03,'Plato-Tabelle'!$A$2:$A$201,'Plato-Tabelle'!$B$2:$B$201),"") | H91: =IF(F91<>"",0.1808*$H$78+0.8192*G91,"") | I91: =IF(F91<>"", (1-G91/$H$78),"") | J91: =IF(F91<>"",(1-H91/$H$78),"") | K91: =IF(F91<>"",FIXED((261.1/(261.53-H91)*($H$78-H91)/(2.0665-0.010665*$H$78)/0.794),1)&"%","")
G92: =IF(F92<>"",LOOKUP( 1-0.00085683*$H$78/1.03+0.0034941*F92/1.03,'Plato-Tabelle'!$A$2:$A$201,'Plato-Tabelle'!$B$2:$B$201),"") | H92: =IF(F92<>"",0.1808*$H$78+0.8192*G92,"") | I92: =IF(F92<>"", (1-G92/$H$78),"") | J92: =IF(F92<>"",(1-H92/$H$78),"") | K92: =IF(F92<>"",FIXED((261.1/(261.53-H92)*($H$78-H92)/(2.0665-0.010665*$H$78)/0.794),1)&"%","")
G93: =IF(F93<>"",LOOKUP( 1-0.00085683*$H$78/1.03+0.0034941*F93/1.03,'Plato-Tabelle'!$A$2:$A$201,'Plato-Tabelle'!$B$2:$B$201),"") | H93: =IF(F93<>"",0.1808*$H$78+0.8192*G93,"") | I93: =IF(F93<>"", (1-G93/$H$78),"") | J93: =IF(F93<>"",(1-H93/$H$78),"") | K93: =IF(F93<>"",FIXED((261.1/(261.53-H93)*($H$78-H93)/(2.0665-0.010665*$H$78)/0.794),1)&"%","")
G94: =IF(F94<>"",LOOKUP( 1-0.00085683*$H$78/1.03+0.0034941*F94/1.03,'Plato-Tabelle'!$A$2:$A$201,'Plato-Tabelle'!$B$2:$B$201),"") | H94: =IF(F94<>"",0.1808*$H$78+0.8192*G94,"") | I94: =IF(F94<>"", (1-G94/$H$78),"") | J94: =IF(F94<>"",(1-H94/$H$78),"") | K94: =IF(F94<>"",FIXED((261.1/(261.53-H94)*($H$78-H94)/(2.0665-0.010665*$H$78)/0.794),1)&"%","")
C96: Abfüllen
C97: Karbonisierung | D97: CO2 (g/l) | E97: Flasche (ml) | F97: Zucker (g) | G97: Lösung (ml) | H97: Lösung/ Flasche (ml) | I97: Erhöhung Alc. (Vol.-%)
C100: Abfüllung | D100: Datum | E100: Anzahl Flaschen | F100: Liter gesamt
F101: =IF(E101<>"",E101*G98,"")
C103: Ergebnis
C104: Gesamtmenge (l) | D104: =F101 | F104: Verkostung
C105: Stammwürze (°P) | D105: =H78
C106: Alc. (Vol.-%) | D106: =MAX(K86:K94)+I98 -> 0
C107: CO2 (g/l) | D107: =D98 -> 0
C108: EBC | D108: =IF(E23<>"",E23,"") -> Kochzeit? SW?
C109: IBU | D109: =IF(SUM(K61:K64)>0,SUM(K61:K64),"")

Sheet Plato-Tabelle
A1: SG | B1: %gew | C1: %vol | D1: AF
A2: 1 | B2: 0 | C2: 0 | D2: 0
A3: 1.00039 | B3: 0.1 | C3: 0.1 | D3: 0.1
A4: 1.00078 | B4: 0.2 | C4: 0.2 | D4: 0.19
A5: 1.00117 | B5: 0.3 | C5: 0.3 | D5: 0.29
A6: 1.00156 | B6: 0.4 | C6: 0.4 | D6: 0.38
A7: 1.00195 | B7: 0.5 | C7: 0.5 | D7: 0.48
A8: 1.00234 | B8: 0.6 | C8: 0.6 | D8: 0.58
A9: 1.00273 | B9: 0.7 | C9: 0.7 | D9: 0.67
A10: 1.00312 | B10: 0.8 | C10: 0.8 | D10: 0.77
A11: 1.00351 | B11: 0.9 | C11: 0.9 | D11: 0.86
A12: 1.0039 | B12: 1 | C12: 1 | D12: 0.96
A13: 1.00429 | B13: 1.1 | C13: 1.1 | D13: 1.06
... A201: 1.08254 | B201: 19.9 | C201: 21.5 | D201: 20.68

Sheet Tinseth
B1: 1.03 | C1: 1.04 | D1: 1.05 | E1: 1.06 | F1: 1.07 | G1: 1.08 | H1: 1.09 | I1: 1.1 | J1: 1.11 | K1: 1.12 | L1: 1.13
A2: (min)
A3: 0 | B3: 0 | C3: 0 | D3: 0 | E3: 0 | F3: 0 | G3: 0 | H3: 0 | I3: 0 | J3: 0 | K3: 0 | L3: 0
A4: 3 | B4: 0.034 | C4: 0.031 | D4: 0.029 | E4: 0.026 | F4: 0.024 | G4: 0.022 | H4: 0.02 | I4: 0.018 | J4: 0.017 | K4: 0.015 | L4: 0.014
A5: 6 | B5: 0.065 | C5: 0.059 | D5: 0.054 | E5: 0.049 | F5: 0.045 | G5: 0.041 | H5: 0.038 | I5: 0.035 | J5: 0.032 | K5: 0.029 | L5: 0.026
A6: 9 | B6: 0.092 | C6: 0.084 | D6: 0.077 | E6: 0.07 | F6: 0.064 | G6: 0.059 | H6: 0.054 | I6: 0.049 | J6: 0.045 | K6: 0.041 | L6: 0.037
A7: 12 | B7: 0.116 | C7: 0.106 | D7: 0.097 | E7: 0.088 | F7: 0.081 | G7: 0.074 | H7: 0.068 | I7: 0.062 | J7: 0.056 | K7: 0.052 | L7: 0.047
A8: 15 | B8: 0.137 | C8: 0.125 | D8: 0.114 | E8: 0.105 | F8: 0.096 | G8: 0.087 | H8: 0.08 | I8: 0.073 | J8: 0.067 | K8: 0.061 | L8: 0.056
A9: 18 | B9: 0.156 | C9: 0.142 | D9: 0.13 | E9: 0.119 | F9: 0.109 | G9: 0.099 | H9: 0.091 | I9: 0.083 | J9: 0.076 | K9: 0.069 | L9: 0.063
A10: 21 | B10: 0.173 | C10: 0.158 | D10: 0.144 | E10: 0.132 | F10: 0.12 | G10: 0.11 | H10: 0.101 | I10: 0.092 | J10: 0.084 | K10: 0.077 | L10: 0.07
A11: 24 | B11: 0.187 | C11: 0.171 | D11: 0.157 | E11: 0.143 | F11: 0.131 | G11: 0.12 | H11: 0.109 | I11: 0.1 | J11: 0.091 | K11: 0.083 | L11: 0.076
A12: 27 | B12: 0.201 | C12: 0.183 | D12: 0.168 | E12: 0.153 | F12: 0.14 | G12: 0.128 | H12: 0.117 | I12: 0.107 | J12: 0.098 | K12: 0.089 | L12: 0.082
A13: 30 | B13: 0.212 | C13: 0.194 | D13: 0.177 | E13: 0.162 | F13: 0.148 | G13: 0.135 | H13: 0.124 | I13: 0.113 | J13: 0.103 | K13: 0.094 | L13: 0.086
A14: 33 | B14: 0.223 | C14: 0.203 | D14: 0.186 | E14: 0.17 | F14: 0.155 | G14: 0.142 | H14: 0.13 | I14: 0.119 | J14: 0.108 | K14: 0.099 | L14: 0.091
... A27: 120 | B27: 0.301 | C27: 0.275 | D27: 0.252 | E27: 0.23 | F27: 0.21 | G27: 0.192 | H27: 0.176 | I27: 0.161 | J27: 0.147 | K27: 0.134 | L27: 0.123
