Workbook

Sheet Wasserversorger & Aufbereitung
O2: Zuschlagstoffe
O3: Säuren | AC3: Säuren | AE3: Salze | AY3: Salze | BF3: Verschnitt mit Wasser | BI3: Das Ergebnis der Aufbereitung | BS3: Ionen-Grenzwerte
K4: Brauwassermenge (Haupt- plus Nachguß): | L4: =Zielmengenrechner!U4 -> 28 | M4: Liter | O4: Milchsäure | R4: Sauermalz | U4: Phosphorsäure | X4: Schwefelsäure | AA4: Salzsäure | AE4: Calciumsulfat-Dihydrat | AH4: Calciumchlorid-Dihydrat | AK4: Calciumchlorid 33%-Lösung | AN4: Magnesiumchlorid-Hexahydrat | AQ4: Magnesiumsulfat-Heptahydrat | AT4: Natriumchlorid | AW4: Natriumhydrogencarbonat | BA4: Mineralwasser Supermarkt | BD4: destilliert / ent-ionisiert / Osmose | BI4: für die gewählte Gesamtwassermenge:
K5: minus Verschnitt ergibt Menge Leitungswasser: | L5: =L4-BA5-BD5 -> 28 | M5: Liter | O5: =Zielmengenrechner!AB8 -> 0 | P5: [ml] | R5: =Zielmengenrechner!AD8 -> 0 | S5: [g] | U5: =Zielmengenrechner!AF8 -> 0 | V5: [ml] | X5: =Zielmengenrechner!AH8 -> 0 | Y5: [ml] | AA5: =Zielmengenrechner!AJ8 -> 0 | AB5: [ml] | AE5: =Zielmengenrechner!AL8 -> 0 | AF5: [g] CaSO4 x 2 H2O | AH5: =Zielmengenrechner!AN8 -> 0 | AI5: [g] CaCl2 x 2 H2O | AK5: =Zielmengenrechner!AP8 -> 0 | AL5: =Zielmengenrechner!AP6 -> [ml] | AN5: =Zielmengenrechner!AR8 -> 0 | AO5: [g] MgCl2 x 6 H2O | AQ5: =Zielmengenrechner!AT8 -> 0 | AR5: [g] MgS04 x 7 H2O | AT5: =Zielmengenrechner!AV8 -> 0 | AU5: [g] NaCl | AW5: =Zielmengenrechner!AX8 -> 0 | AX5: [g] NaHCO3 | BA5: =Zielmengenrechner!X8 -> 0 | BB5: [l] | BD5: =Zielmengenrechner!Z8 -> 0 | BE5: [l] dest. Wasser im Brauwasser
O6: =Zielmengenrechner!AB9 -> 80 | P6: [Gew-%] | U6: =Zielmengenrechner!AF9 -> 10 | V6: [Gew-%] | X6: =Zielmengenrechner!AH9 -> 10 | Y6: [Gew-%] | AA6: =Zielmengenrechner!AJ9 -> 10 | AB6: [Gew-%] | BA6: =Zielmengenrechner!X9 -> Netto Naturalis still Clara Quelle | BD6: =BD5/L4 -> 0 | BE6: Anteil dest. Wasser | BI6: Werte 1:1 auch im Monitor
O7: 90.08 | P7: g/mol | R7: 90.08 | S7: g/mol | U7: 98 | V7: g/mol | X7: 98.08 | Y7: g/mol | AA7: 36.46 | AB7: g/mol | AE7: 172.19 | AF7: g/mol | AH7: 147.01 | AI7: g/mol | AK7: 3.91 | AL7: mol/l | AN7: 203.3 | AO7: g/mol | AQ7: 246.48 | AR7: g/mol | AT7: 58.44 | AU7: g/mol | AW7: 87.007 | AX7: g/mol
E8: Zusammensetzung Leitungswasser laut Wasserversorger | L8: Stoffmengen absolut | O8: 1.206 | P8: g/ml | Q8: Dichte | R8: 1.206 | S8: g/ml | U8: =VLOOKUP(U6,'Infos & Hilfseinträge'!W33:X79,2,TRUE) -> 1.0532 | V8: g/ml | W8: Dichte | X8: =VLOOKUP(X6,'Infos & Hilfseinträge'!I32:S91,5,TRUE) -> 1.0661 | Y8: g/ml | Z8: Dichte | AA8: =VLOOKUP(AA6,'Infos & Hilfseinträge'!AA32:AI52,5,TRUE) -> 1.0474 | AB8: g/ml | AK8: 1.315 | AL8: g/ml | BI8: (Aufbereitetes) Wasser für das Brauen | BO8: Grenzwerte / empohlener Bereich zum Brauen
E9: Stadtwerke Kulmbach | O9: =O5*O8*O6/100 -> 0 | P9: g | R9: =R5*0.02 -> 0 | S9: g | U9: =U5*U8*U6/100 -> 0 | V9: g | X9: =X5*X8*X6/100 -> 0 | Y9: g | AA9: =AA5*AA8*AA6/100 -> 0 | AB9: g
E10: Anionen | O10: =O9/O7*1000 -> 0 | P10: mmol | R10: =R9/R7*1000 -> 0 | S10: mmol | U10: =U9/U7*1000 -> 0 | V10: mmol | X10: =X9/X7*1000 -> 0 | Y10: mmol | AA10: =AA9/AA7*1000 -> 0 | AB10: mmol | AE10: =AE5/AE7*1000 -> 0 | AF10: mmol | AH10: =AH5/AH7*1000 -> 0 | AI10: mmol | AK10: =IF(AL5="[g]",AK5/AK8*AK7,AK5*AK7) -> 0 | AL10: mmol | AN10: =AN5/AN7*1000 -> 0 | AO10: mmol | AQ10: =AQ5/AQ7*1000 -> 0 | AR10: mmol | AT10: =AT5/AT7*1000 -> 0 | AU10: mmol | AW10: =AW5/AW7*1000 -> 0 | AX10: mmol
E11: Hydrocarbonat | F11: HCO3- | G11: 1.6 | H11: mmol/l | J11: oft angegeben als Säurekapazität@pH4,3 | AD11: Anionen | BJ11: Anionen | BO11: min | BP11: max | BQ11: Grenzwert
F12: HCO3- | G12: =IF(H11="mmol/l",G11,G11/61) -> 1.6 | H12: [mmol/l] | L12: =G12*$L$5 -> 44.8 | M12: [mmol] | O12: =L12-O10 -> 44.8 | P12: [mmol] | R12: =O12-R10 -> 44.8 | S12: [mmol] | U12: =R12-U10 -> 44.8 | V12: [mmol] | X12: =U12-2*X10 -> 44.8 | Y12: [mmol] | AA12: =X12-AA10 -> 44.8 | AB12: [mmol] | AD12: Hydrocarbonat | AE12: =AA12 -> 44.8 | AF12: [mmol] | AH12: =AE12 -> 44.8 | AI12: [mmol] | AK12: =AH12 -> 44.8 | AL12: [mmol] | AN12: =AK12 -> 44.8 | AO12: [mmol] | AQ12: =AN12 -> 44.8 | AR12: [mmol] | AT12: =AQ12 -> 44.8 | AU12: [mmol] | AW12: =AW13/61 -> 44.8 | AX12: [mmol] | BA12: =BA13/61 -> 44.8 | BB12: [mmol] | BD12: =BA12 -> 44.8 | BE12: =AB12 -> [mmol] | BJ12: Hydrocarbonat | BK12: =BA12/$L$4 -> 1.6 | BL12: mmol/l
F13: HCO3- | G13: =IF(G11="mg/l",G11,G12*61) -> 97.6 | H13: [mg/l] | L13: =L12*61 -> 2732.8 | M13: [mg] | O13: =O12*61 -> 2732.8 | P13: [mg] | R13: =R12*61 -> 2732.8 | S13: [mg] | U13: =U12*61 -> 2732.8 | V13: [mg] | X13: =X12*61 -> 2732.8 | Y13: [mg] | AA13: =AA12*61 -> 2732.8 | AB13: [mg] | AD13: Hydrocarbonat | AE13: =AA13 -> 2732.8 | AF13: [mg] | AH13: =AE13 -> 2732.8 | AI13: [mg] | AK13: =AH13 -> 2732.8 | AL13: [mg] | AN13: =AK13 -> 2732.8 | AO13: [mg] | AQ13: =AN13 -> 2732.8 | AR13: [mg] | AT13: =AQ13 -> 2732.8 | AU13: [mg] | AW13: =AT13+726.34*AW5 -> 2732.8 | AX13: [mg] | BA13: =AW13+$BA$5*VLOOKUP($BA$6,'Infos & Hilfseinträge'!$V$7:$AB$22,2,FALSE) -> 2732.8 | BB13: [mg] | BD13: =BA13 -> 2732.8 | BE13: =AB13 -> [mg] | BK13: =BK12*61 -> 97.6 | BL13: [mg/l] | BO13: 0 | BP13: 500 | BR13: [mg/l]
E14: Sulfat | F14: SO4- | G14: 22 | H14: [mg/l] | L14: =G14*$L$5 -> 616 | M14: [mg] | O14: =L14 -> 616 | P14: [mg] | R14: =O14 -> 616 | S14: [mg] | U14: =R14 -> 616 | V14: [mg] | X14: =O14+X9*1000*96/98 -> 616 | Y14: [mg] | AA14: =X14 -> 616 | AB14: [mg] | AD14: Sulfat | AE14: =AA14+557.93*AE5 -> 616 | AF14: [mg] | AH14: =AE14 -> 616 | AI14: [mg] | AK14: =AH14 -> 616 | AL14: [mg] | AN14: =AK14 -> 616 | AO14: [mg] | AQ14: =AN14+389.73*AQ5 -> 616 | AR14: [mg] | AT14: =AQ14 -> 616 | AU14: [mg] | AW14: =AT14 -> 616 | AX14: [mg] | BA14: =AW14+$BA$5*VLOOKUP($BA$6,'Infos & Hilfseinträge'!$V$7:$AB$22,3,FALSE) -> 616 | BB14: [mg] | BD14: =BA14 -> 616 | BE14: =AB14 -> [mg] | BJ14: Sulfat | BK14: =BA14/$L$4 -> 22 | BL14: [mg/l] | BO14: 0 | BP14: 250 | BQ14: 250 | BR14: [mg/l]
E15: Chlorid | F15: Cl- | G15: 17 | H15: [mg/l] | L15: =G15*$L$5 -> 476 | M15: [mg] | O15: =L15 -> 476 | P15: [mg] | R15: =O15 -> 476 | S15: [mg] | U15: =R15 -> 476 | V15: [mg] | X15: =O15 -> 476 | Y15: [mg] | AA15: =X15+AA9*1000*35.5/36.5 -> 476 | AB15: [mg] | AD15: Chlorid | AE15: =AA15 -> 476 | AF15: [mg] | AH15: =AE15+482.28*AH5 -> 476 | AI15: [mg] | AK15: =AH15+AK10*70.906 -> 476 | AL15: [mg] | AN15: =AK15+174.39*AN5 -> 476 | AO15: [mg] | AQ15: =AN15 -> 476 | AR15: [mg] | AT15: =AQ15+606.66*AT5 -> 476 | AU15: [mg] | AW15: =AT15 -> 476 | AX15: [mg] | BA15: =AW15+$BA$5*VLOOKUP($BA$6,'Infos & Hilfseinträge'!$V$7:$AB$22,4,FALSE) -> 476 | BB15: [mg] | BD15: =BA15 -> 476 | BE15: =AB15 -> [mg] | BJ15: Chlorid | BK15: =BA15/$L$4 -> 17 | BL15: [mg/l] | BO15: 0 | BP15: 150 | BQ15: 250 | BR15: [mg/l]
E16: Nitrat | F16: NO3- | G16: 10 | H16: [mg/l] | L16: =G16*$L$5 -> 280 | M16: [mg] | O16: =L16 -> 280 | P16: [mg] | R16: =O16 -> 280 | S16: [mg] | U16: =R16 -> 280 | V16: [mg] | X16: =O16 -> 280 | Y16: [mg] | AA16: =X16 -> 280 | AB16: [mg] | AD16: Nitrat | AE16: =AA16 -> 280 | AF16: [mg] | AH16: =AE16 -> 280 | AI16: [mg] | AK16: =AH16 -> 280 | AL16: [mg] | AN16: =AK16 -> 280 | AO16: [mg] | AQ16: =AN16 -> 280 | AR16: [mg] | AT16: =AQ16 -> 280 | AU16: [mg] | AW16: =AT16 -> 280 | AX16: [mg] | BA16: =AW16 -> 280 | BB16: [mg] | BD16: =BA16 -> 280 | BE16: =AB16 -> [mg] | BJ16: Nitrat | BK16: =BA16/$L$4 -> 10 | BL16: [mg/l] | BP16: 40 | BR16: [mg/l]
E17: Nitrit | F17: NO2- | G17: 0.01 | H17: [mg/l] | L17: =G17*$L$5 -> 0.28 | M17: [mg] | O17: =L17 -> 0.28 | P17: [mg] | R17: =O17 -> 0.28 | S17: [mg] | U17: =R17 -> 0.28 | V17: [mg] | X17: =O17 -> 0.28 | Y17: [mg] | AA17: =X17 -> 0.28 | AB17: [mg] | AD17: Nitrit | AE17: =AA17 -> 0.28 | AF17: [mg] | AH17: =AE17 -> 0.28 | AI17: [mg] | AK17: =AH17 -> 0.28 | AL17: [mg] | AN17: =AK17 -> 0.28 | AO17: [mg] | AQ17: =AN17 -> 0.28 | AR17: [mg] | AT17: =AQ17 -> 0.28 | AU17: [mg] | AW17: =AT17 -> 0.28 | AX17: [mg] | BA17: =AW17 -> 0.28 | BB17: [mg] | BD17: =BA17 -> 0.28 | BE17: =AB17 -> [mg] | BJ17: Nitrit | BK17: =BA17/$L$4 -> 0.01 | BL17: [mg/l] | BP17: 3 | BQ17: 0.5 | BR17: [mg/l]
E19: Kationen | AD19: Kationen | BJ19: Kationen
E20: Kalzium | F20: Ca2+ | G20: 26.4 | H20: [mg/l] | L20: =G20*$L$5 -> 739.2 | M20: [mg] | O20: =L20 -> 739.2 | P20: [mg] | R20: =O20 -> 739.2 | S20: [mg] | U20: =R20 -> 739.2 | V20: [mg] | X20: =O20 -> 739.2 | Y20: [mg] | AA20: =X20 -> 739.2 | AB20: [mg] | AD20: Kalzium | AE20: =AA20+232.78*AE5 -> 739.2 | AF20: [mg] | AH20: =AE20+272.6*AH5 -> 739.2 | AI20: [mg] | AK20: =AH20+AK10*40.078 -> 739.2 | AL20: [mg] | AN20: =AK20 -> 739.2 | AO20: [mg] | AQ20: =AN20 -> 739.2 | AR20: [mg] | AT20: =AQ20 -> 739.2 | AU20: [mg] | AW20: =AT20 -> 739.2 | AX20: [mg] | BA20: =AW20+$BA$5*VLOOKUP($BA$6,'Infos & Hilfseinträge'!$V$7:$AB$22,5,FALSE) -> 739.2 | BB20: [mg] | BD20: =BA20 -> 739.2 | BE20: =AB20 -> [mg] | BJ20: Kalzium | BK20: =BA20/$L$4 -> 26.4 | BL20: [mg/l] | BO20: 50 | BP20: 150 | BR20: [mg/l]
E21: Magnesium | F21: MG2+ | G21: 11.2 | H21: [mg/l] | L21: =G21*$L$5 -> 313.6 | M21: [mg] | O21: =L21 -> 313.6 | P21: [mg] | R21: =O21 -> 313.6 | S21: [mg] | U21: =R21 -> 313.6 | V21: [mg] | X21: =O21 -> 313.6 | Y21: [mg] | AA21: =X21 -> 313.6 | AB21: [mg] | AD21: Magnesium | AE21: =AA21 -> 313.6 | AF21: [mg] | AH21: =AE21 -> 313.6 | AI21: [mg] | AK21: =AH21 -> 313.6 | AL21: [mg] | AN21: =AK21+98.59*AN5 -> 313.6 | AO21: [mg] | AQ21: =AN21+98.59*AQ5 -> 313.6 | AR21: [mg] | AT21: =AQ21 -> 313.6 | AU21: [mg] | AW21: =AT21 -> 313.6 | AX21: [mg] | BA21: =AW21+$BA$5*VLOOKUP($BA$6,'Infos & Hilfseinträge'!$V$7:$AB$22,6,FALSE) -> 313.6 | BB21: [mg] | BD21: =BA21 -> 313.6 | BE21: =AB21 -> [mg] | BJ21: Magnesium | BK21: =BA21/$L$4 -> 11.2 | BL21: [mg/l] | BO21: 0 | BP21: 20 | BR21: [mg/l]
E22: Natrium | F22: Na+ | G22: 7.12 | H22: [mg/l] | L22: =G22*$L$5 -> 199.36 | M22: [mg] | O22: =L22 -> 199.36 | P22: [mg] | R22: =O22 -> 199.36 | S22: [mg] | U22: =R22 -> 199.36 | V22: [mg] | X22: =O22 -> 199.36 | Y22: [mg] | AA22: =X22 -> 199.36 | AB22: [mg] | AD22: Natrium | AE22: =AA22 -> 199.36 | AF22: [mg] | AH22: =AE22 -> 199.36 | AI22: [mg] | AK22: =AH22 -> 199.36 | AL22: [mg] | AN22: =AK22 -> 199.36 | AO22: [mg] | AQ22: =AN22 -> 199.36 | AR22: [mg] | AT22: =AQ22+393.39*AT5 -> 199.36 | AU22: [mg] | AW22: =AT22+273.66*AW5 -> 199.36 | AX22: [mg] | BA22: =AW22+$BA$5*VLOOKUP($BA$6,'Infos & Hilfseinträge'!$V$7:$AB$22,7,FALSE) -> 199.36 | BB22: [mg] | BD22: =BA22 -> 199.36 | BE22: =AB22 -> [mg] | BJ22: Natrium | BK22: =BA22/$L$4 -> 7.12 | BL22: [mg/l] | BO22: 0 | BP22: 50 | BR22: [mg/l]
E24: Gesamthärte | G24: =(G20/7.14+G21/4.35) -> 6.2721916 | H24: [°dH] | L24: =(L20/7.14+L21/4.35)/$L$5 -> 6.2721916 | M24: [°dH] | O24: =(O20/7.14+O21/4.35)/$L$5 -> 6.2721916 | P24: [°dH] | R24: =(R20/7.14+R21/4.35)/$L$5 -> 6.2721916 | S24: [°dH] | U24: =(U20/7.14+U21/4.35)/$L$5 -> 6.2721916 | V24: [°dH] | X24: =(X20/7.14+X21/4.35)/$L$5 -> 6.2721916 | Y24: [°dH] | AA24: =(AA20/7.14+AA21/4.35)/$L$5 -> 6.2721916 | AB24: [°dH] | AD24: Gesamthärte | AE24: =(AE20/7.14+AE21/4.35)/$L$5 -> 6.2721916 | AF24: [°dH] | AH24: =(AH20/7.14+AH21/4.35)/$L$5 -> 6.2721916 | AI24: [°dH] | AK24: =(AK20/7.14+AK21/4.35)/$L$5 -> 6.2721916 | AL24: [°dH] | AN24: =(AN20/7.14+AN21/4.35)/$L$5 -> 6.2721916 | AO24: [°dH] | AQ24: =(AQ20/7.14+AQ21/4.35)/$L$5 -> 6.2721916 | AR24: [°dH] | AT24: =(AT20/7.14+AT21/4.35)/$L$5 -> 6.2721916 | AU24: [°dH] | AW24: =(AW20/7.14+AW21/4.35)/$L$5 -> 6.2721916 | AX24: [°dH] | BA24: =(BA20/7.14+BA21/4.35)/($L$5+BA5) -> 6.2721916 | BB24: [°dH] | BD24: =BA24 -> 6.2721916 | BE24: =AB24 -> [°dH] | BJ24: Gesamthärte | BK24: =(BK20/7.14+BK21/4.35) -> 6.2721916 | BL24: [°dH]
E25: Karbonathärte | G25: =G12*2.8 -> 4.48 | H25: [°dH] | L25: =G25 -> 4.48 | M25: [°dH] | O25: =O12*2.8/$L$5 -> 4.48 | P25: [°dH] | R25: =R12*2.8/$L$5 -> 4.48 | S25: [°dH] | U25: =U12*2.8/$L$5 -> 4.48 | V25: [°dH] | X25: =X12*2.8/$L$5 -> 4.48 | Y25: [°dH] | AA25: =AA12*2.8/$L$5 -> 4.48 | AB25: [°dH] | AD25: Karbonathärte | AE25: =AE12*2.8/$L$5 -> 4.48 | AF25: [°dH] | AH25: =AH12*2.8/$L$5 -> 4.48 | AI25: [°dH] | AK25: =AK12*2.8/$L$5 -> 4.48 | AL25: [°dH] | AN25: =AN12*2.8/$L$5 -> 4.48 | AO25: [°dH] | AQ25: =AQ12*2.8/$L$5 -> 4.48 | AR25: [°dH] | AT25: =AT12*2.8/$L$5 -> 4.48 | AU25: [°dH] | AW25: =AW12*2.8/$L$5 -> 4.48 | AX25: [°dH] | BA25: =BA12*2.8/($L$5+BA5) -> 4.48 | BB25: [°dH] | BD25: =BA25 -> 4.48 | BE25: =AB25 -> [°dH] | BJ25: Karbonathärte | BK25: =BK12*2.8 -> 4.48 | BL25: [°dH]
E26: Nichtkarbonathärte | G26: =G24-G25 -> 1.7921916 | H26: [°dH] | L26: =G26 -> 1.7921916 | M26: [°dH] | O26: =O24-O25 -> 1.7921916 | P26: [°dH] | R26: =R24-R25 -> 1.7921916 | S26: [°dH] | U26: =U24-U25 -> 1.7921916 | V26: [°dH] | X26: =X24-X25 -> 1.7921916 | Y26: [°dH] | AA26: =AA24-AA25 -> 1.7921916 | AB26: [°dH] | AD26: Nichtkarbonathärte | AE26: =AE24-AE25 -> 1.7921916 | AF26: [°dH] | AH26: =AH24-AH25 -> 1.7921916 | AI26: [°dH] | AK26: =AK24-AK25 -> 1.7921916 | AL26: [°dH] | AN26: =AN24-AN25 -> 1.7921916 | AO26: [°dH] | AQ26: =AQ24-AQ25 -> 1.7921916 | AR26: [°dH] | AT26: =AT24-AT25 -> 1.7921916 | AU26: [°dH] | AW26: =AW24-AW25 -> 1.7921916 | AX26: [°dH] | BA26: =BA24-BA25 -> 1.7921916 | BB26: [°dH] | BD26: =BA26 -> 1.7921916 | BE26: =AB26 -> [°dH] | BJ26: Nichtkarbonathärte | BK26: =BK24-BK25 -> 1.7921916 | BL26: [°dH]
E28: Verhältnis KH/NKH | G28: =G25/G26 -> 2.4997327 | H28: [-] | J28: günstig ist Bereich 1:2 bis 1:2,5 | L28: =L25/L26 -> 2.4997327 | M28: [-] | O28: =O25/O26 -> 2.4997327 | P28: [-] | R28: =R25/R26 -> 2.4997327 | S28: [-] | U28: =U25/U26 -> 2.4997327 | V28: [-] | X28: =X25/X26 -> 2.4997327 | Y28: [-] | AA28: =AA25/AA26 -> 2.4997327 | AB28: [-] | AD28: Verhältnis KH/NKH | AE28: =AE25/AE26 -> 2.4997327 | AF28: [-] | AH28: =AH25/AH26 -> 2.4997327 | AI28: [-] | AK28: =AK25/AK26 -> 2.4997327 | AL28: [-] | AN28: =AN25/AN26 -> 2.4997327 | AO28: [-] | AQ28: =AQ25/AQ26 -> 2.4997327 | AR28: [-] | AT28: =AT25/AT26 -> 2.4997327 | AU28: [-] | AW28: =AW25/AW26 -> 2.4997327 | AX28: [-] | BA28: =BA25/BA26 -> 2.4997327 | BB28: [-] | BD28: =BA28 -> 2.4997327 | BE28: =AB28 -> [-] | BJ28: Verhältnis KH/NKH | BK28: =BK25/BK26 -> 2.4997327 | BL28: [-]
E30: Verhältnis Sulfat zu Chlorid | G30: =G14/G15 -> 1.2941176 | H30: [-] | L30: =L14/L15 -> 1.2941176 | M30: [-] | O30: =O14/O15 -> 1.2941176 | P30: [-] | R30: =R14/R15 -> 1.2941176 | S30: [-] | U30: =U14/U15 -> 1.2941176 | V30: [-] | X30: =X14/X15 -> 1.2941176 | Y30: [-] | AA30: =AA14/AA15 -> 1.2941176 | AB30: [-] | AD30: Verhältnis Sulfat zu Chlorid | AE30: =AE14/AE15 -> 1.2941176 | AF30: [-] | AH30: =AH14/AH15 -> 1.2941176 | AI30: [-] | AK30: =AK14/AK15 -> 1.2941176 | AL30: [-] | AN30: =AN14/AN15 -> 1.2941176 | AO30: [-] | AQ30: =AQ14/AQ15 -> 1.2941176 | AR30: [-] | AT30: =AT14/AT15 -> 1.2941176 | AU30: [-] | AW30: =AW14/AW15 -> 1.2941176 | AX30: [-] | BA30: =BA14/BA15 -> 1.2941176 | BB30: [-] | BD30: =BA30 -> 1.2941176 | BE30: =AB30 -> [-] | BJ30: Verhältnis Sulfat zu Chlorid | BK30: =BK14/BK15 -> 1.2941176 | BL30: [-]
E32: Restalkalität | G32: =G12*2.8-G20/25-G21/30 -> 3.0506667 | H32: [°dH] | J32: genau | L32: =G32 -> 3.0506667 | M32: [°dH] | O32: =(O12*2.8-O20/25-O21/30)/$L$5 -> 3.0506667 | P32: [°dH] | R32: =(R12*2.8-R20/25-R21/30)/$L$5 -> 3.0506667 | S32: [°dH] | U32: =(U12*2.8-U20/25-U21/30)/$L$5 -> 3.0506667 | V32: [°dH] | X32: =(X12*2.8-X20/25-X21/30)/$L$5 -> 3.0506667 | Y32: [°dH] | AA32: =(AA12*2.8-AA20/25-AA21/30)/$L$5 -> 3.0506667 | AB32: [°dH] | AD32: Restalkalität | AE32: =(AE12*2.8-AE20/25-AE21/30)/$L$5 -> 3.0506667 | AF32: [°dH] | AH32: =(AH12*2.8-AH20/25-AH21/30)/$L$5 -> 3.0506667 | AI32: [°dH] | AK32: =(AK12*2.8-AK20/25-AK21/30)/$L$5 -> 3.0506667 | AL32: [°dH] | AN32: =(AN12*2.8-AN20/25-AN21/30)/$L$5 -> 3.0506667 | AO32: [°dH] | AQ32: =(AQ12*2.8-AQ20/25-AQ21/30)/$L$5 -> 3.0506667 | AR32: [°dH] | AT32: =(AT12*2.8-AT20/25-AT21/30)/$L$5 -> 3.0506667 | AU32: [°dH] | AW32: =(AW12*2.8-AW20/25-AW21/30)/$L$5 -> 3.0506667 | AX32: [°dH] | BA32: =(BA12*2.8-BA20/25-BA21/30)/($L$5+BA5) -> 3.0506667 | BB32: [°dH] | BD32: =BA32 -> 3.0506667 | BE32: =AB32 -> [°dH] | BJ32: Restalkalität | BK32: =BK12*2.8-BK20/25-BK21/30 -> 3.0506667 | BL32: [°dH]
G33: =G25-G24/4 -> 2.9119521 | H33: [°dH] | J33: Faustformel | L33: =L25-L24/4 -> 2.9119521 | M33: [°dH] | O33: =O25-O24/4 -> 2.9119521 | P33: [°dH] | Q33: Faustformel | R33: =R25-R24/4 -> 2.9119521 | S33: [°dH] | U33: =U25-U24/4 -> 2.9119521 | V33: Faustformel | X33: =X25-X24/4 -> 2.9119521 | Y33: [°dH] | AA33: =AA25-AA24/4 -> 2.9119521 | AB33: Faustformel | AE33: =AE25-AE24/4 -> 2.9119521 | AF33: [°dH] | AG33: Faustformel | AH33: =AH25-AH24/4 -> 2.9119521 | AI33: [°dH] | AK33: =AK25-AK24/4 -> 2.9119521 | AL33: [°dH] | AM33: Faustformel | AN33: =AN25-AN24/4 -> 2.9119521 | AO33: [°dH] | AP33: Faustformel | AQ33: =AQ25-AQ24/4 -> 2.9119521 | AR33: [°dH] | AS33: Faustformel | AT33: =AT25-AT24/4 -> 2.9119521 | AU33: [°dH] | AV33: Faustformel | AW33: =AW25-AW24/4 -> 2.9119521 | AX33: [°dH] | BA33: =BA25-BA24/4 -> 2.9119521 | BB33: [°dH] | BD33: =BA33 -> 2.9119521
G34: =G32*0.3566 -> 1.0878677 | H34: [mmol/l HCO3-] | L34: =G34*L5 -> 30.460297 | M34: [mmol HCO3-] | O34: =O32*0.3566 -> 1.0878677 | P34: [mmol/l HCO3-] | R34: =R32*0.3566 -> 1.0878677 | S34: [mmol/l HCO3-] | U34: =U32*0.3566 -> 1.0878677 | V34: [mmol/l HCO3-] | X34: =X32*0.3566 -> 1.0878677 | Y34: [mmol/l HCO3-] | AA34: =AA32*0.3566 -> 1.0878677 | AB34: [mmol/l HCO3-] | AE34: =AE32*0.3566 -> 1.0878677 | AF34: [mmol/l HCO3-] | AH34: =AH32*0.3566 -> 1.0878677 | AI34: [mmol/l HCO3-] | AK34: =AK32*0.3566 -> 1.0878677 | AL34: [mmol/l HCO3-] | AN34: =AN32*0.3566 -> 1.0878677 | AO34: [mmol/l HCO3-] | AQ34: =AQ32*0.3566 -> 1.0878677 | AR34: [mmol/l HCO3-] | AT34: =AT32*0.3566 -> 1.0878677 | AU34: [mmol/l HCO3-] | AW34: =AW32*0.3566 -> 1.0878677 | AX34: [mmol/l HCO3-] | BA34: =BA32*0.3566 -> 1.0878677 | BB34: [mmol/l HCO3-] | BD34: =BA34 -> 1.0878677 | BE34: =AB34 -> [mmol/l HCO3-] | BK34: =BK32*0.3566 -> 1.0878677 | BL34: [mmol/l]
BI38: Quelle Grenzwerte: https://braumagazin.de/article/von-der-wasseranalyse-zum-brauwasser/ Kapitel 2.1
B39: Legende und Kommentare | H39: blaßgelb hinterlegte Felder sind Eingabefelder. Nur in solchen Feldern sollten Eingaben gemacht werden, alles andere übernimmt Excel | X39: hellgrün hinterlegte Felder zeigen an, dass sich der jeweilig dargestellte Wert erhöht hat | AF39: senkt Maische-PH | AI39: senkt Maische-PH | AL39: senkt Maische-PH schwach | AO39: senkt Maische-PH schwach | AR39: PH-neutral | AU39: erhöht Maische-PH stark
BJ40: Ionenkonzentration ist innerhalb der empfohlenen Grenzen
H41: grau hinterlegte Felder waren in einer älteren Version Eingabefelder, holen sich ihre Werte aktuell jedoch von einer anderen Stelle. Keine manuelle Eingabe! | X41: hellrot hinterlegte Felder zeigen an, dass sich der jeweilig dargestellte Wert reduziert hat
BJ42: Ionenkonzentration ist am Rand aber noch innerhalb der empfohlenen Grenzen
BJ44: Ionenkonzentration ist außerhalb der empfohlenen Grenzen

Sheet Zielmengenrechner
B2: Monitor | Q2: Zielmengenrechner | BB2: Bierstile
B3: Brauwasser | Z3: Aktuelle Stoffzugabe | BD3: Helles Lagerbier | BG3: Böhmisches Pilsener | BJ3: Deutsches Pils | BM3: Dortmunder Export | BP3: Märzen | BS3: Dunkles Lagerbier | BV3: Helles Bockbier | BY3: Dunkles Bockbier | CB3: Helles Ale | CE3: Mild Ale | CH3: Irish Dry Stout | CK3: Weizenbier | CN3: Kölsch | CQ3: American Pale Ale | CT3: Altbier | CW3: Extra Stout | CZ3: Belgische Ales | DC3: Brown Ale | DE3: Russian Imperial Stout | DG3: Bierstile
S4: Benötigte Menge Brauwasser | U4: 28 | V4: Liter | X4: Mineralwasser | Z4: Entionisiertes | AB4: Milch- | AF4: Phosphor- | AH4: Schwefel- | AJ4: Salz- | AN4: CaCl2 | AP4: CaCl2 | BD4: Münchner Helles | BJ4: Premium Lager | BP4: Festbier | BS4: Münchner Dunkel | BV4: Maibock | CB4: Ordinary Bitter | CE4: Best Bitter | CH4: Porter | CK4: Weizenbock | CN4: Wit | CQ4: American IPA | CT4: English IPA | CW4: Sweet Stout | CZ4: Tripel | DC4: Barleywine
S5: ergibt Menge Leitungswasser | U5: =U4-X8-Z8 -> 28 | V5: Liter | X5: Supermarkt | Z5: Wasser | AB5: säure | AD5: Sauermalz | AF5: säure | AH5: säure | AJ5: säure | AL5: CaSO4 | AN5: Salz | AP5: -Lösung | AR5: MgCl2 | AT5: MgSO4 | AV5: NaCl | AX5: NaHCO3 | BD5: American Lager | BS5: Schwarzbier | BV5: Doppelbock | CE5: Scotch Ale | CN5: Cream Ale | CT5: Extra Special Bitter (ESB) | CW5: Oatmeal Stout | CZ5: Blonde | DC5: Strong Scotch Ale
X6: [l] | Z6: [l] | AB6: [ml] | AD6: [g] | AF6: [g] | AH6: [ml] | AJ6: [g] | AL6: [g] | AN6: [g] | AP6: [ml] | AR6: [g] | AT6: [g] | AV6: [g] | AX6: [g] | BS6: Fränkisch Dunkel
B8: Sulfat-Chlorid-Verhältnis | V8: Aktuelle Stoffzugabe: | X8: 0 | Z8: 0 | AB8: 0 | AD8: 0 | AF8: 0 | AH8: 0 | AJ8: 0 | AL8: 0 | AN8: 0 | AP8: 0 | AR8: 0 | AT8: 0 | AV8: 0 | AX8: 0
X9: Netto Naturalis still Clara Quelle | AB9: 80 | AC9: % | AF9: 10 | AG9: % | AH9: 10 | AI9: % | AJ9: 10 | AK9: % | AP9: 33 | AQ9: % | BB9: Bitterkeit | BD9: ausgewogen | BG9: herb | BJ9: herb | BM9: herb | BP9: ausgewogen | BS9: ausgewogen | BV9: ausgewogen bis herb | BY9: ausgewogen | CB9: mild bis ausgewogen | CE9: ausgewogen | CH9: ausgewogen bis herb | CK9: mild | CN9: ausgewogen bis herb | CQ9: herb | CT9: ausgewogen bis herb | CW9: ausgewogen bis herb | CZ9: ausgewogen | DC9: ausgewogen bis herb | DE9: ausgewogen bis herb
Z11: Wieviel brauche ich jetzt noch?
H12: ausgewogen | Z12: gewünschte Werte werden erreicht durch zusätzliche Gabe von
S13: Bierstilauswahl | U13: gewünschter Soll-Wert | X13: Mineralwasser | Z13: Entionisiertes | AB13: Milchsäure | AD13: Sauermalz | AF13: H3PO4 | AH13: H2SO4 | AJ13: HCl | AL13: CaSO4 | AN13: CaCl2 | AP13: CaCl2 | AR13: MgCl2 | AT13: MgSO4 | AV13: NaCl | AX13: NaHCO3
U14: je nach Vorliebe / Bierstil | X14: Supermarkt [l] | Z14: Wasser [l] | AB14: [ml] | AD14: [g] | AF14: [ml] | AH14: [ml] | AJ14: [ml] | AL14: [g] | AN14: [g] | AP14: -lösung [g] | AR14: [g] | AT14: [g] | AV14: [g] | AX14: [g]
S16: American Pale Ale
B18: unterstützt | Q18: Sulfat | S18: =VLOOKUP($S$16,'Infos & Hilfseinträge'!$AS$4:$AX$48,2,FALSE) -> 100-400 | U18: 250 | V18: mg/l | X18: =(U18*$U$4-('Wasserversorger & Aufbereitung'!AW14-'Wasserversorger & Aufbereitung'!L14)-'Wasserversorger & Aufbereitung'!G14*$U$4+'Wasserversorger & Aufbereitung'!G14*Zielmengenrechner!$Z$8)/(VLOOKUP($X$9,'Infos & Hilfseinträge'!$V$7:$AB$22,3,FALSE)-'Wasserversorger & Aufbereitung'!G14) -> -290.18182 | Z18: =IF(U18<'Wasserversorger & Aufbereitung'!BK14,(1-(U18/'Wasserversorger & Aufbereitung'!BK14))*'Wasserversorger & Aufbereitung'!$L$4,"X") -> X | AH18: =IF(U18>'Wasserversorger & Aufbereitung'!BK14,(U18*'Wasserversorger & Aufbereitung'!$L$4-'Wasserversorger & Aufbereitung'!BK14*'Wasserversorger & Aufbereitung'!$L$4)/1000/IF(AH6="[g]",1,'Wasserversorger & Aufbereitung'!X8)*100/'Wasserversorger & Aufbereitung'!X6*98/96,"X") -> 61.12935 | AL18: =IF(U18>'Wasserversorger & Aufbereitung'!BK14,(U18*'Wasserversorger & Aufbereitung'!$L$4-'Wasserversorger & Aufbereitung'!BK14*'Wasserversorger & Aufbereitung'!$L$4)/557.93,"X") -> 11.442296 | AT18: =IF(U18>'Wasserversorger & Aufbereitung'!BK14,(U18*'Wasserversorger & Aufbereitung'!$L$4-'Wasserversorger & Aufbereitung'!BK14*'Wasserversorger & Aufbereitung'!$L$4)/389.73,"X") -> 16.380571 | BB18: Sulfat mg/l | BD18: 0-50 | BE18: ='Wasserversorger & Aufbereitung'!$BK$14 -> 22 | BG18: 0-50 | BH18: ='Wasserversorger & Aufbereitung'!$BK$14 -> 22 | BJ18: 50-150 | BK18: ='Wasserversorger & Aufbereitung'!$BK$14 -> 22 | BM18: 100-200 | BN18: ='Wasserversorger & Aufbereitung'!$BK$14 -> 22 | BP18: 0-100 | BQ18: ='Wasserversorger & Aufbereitung'!$BK$14 -> 22 | BS18: 0-50 | BT18: ='Wasserversorger & Aufbereitung'!$BK$14 -> 22 | BV18: 0-100 | BW18: ='Wasserversorger & Aufbereitung'!$BK$14 -> 22 | BY18: 0-100 | BZ18: ='Wasserversorger & Aufbereitung'!$BK$14 -> 22 | CB18: 100-200 | CC18: ='Wasserversorger & Aufbereitung'!$BK$14 -> 22 | CE18: 100-200 | CF18: ='Wasserversorger & Aufbereitung'!$BK$14 -> 22 | CH18: 50-150 | CI18: ='Wasserversorger & Aufbereitung'!$BK$14 -> 22 | CK18: 0-50 | CL18: ='Wasserversorger & Aufbereitung'!$BK$14 -> 22 | CN18: 0-50 | CO18: ='Wasserversorger & Aufbereitung'!$BK$14 -> 22 | CQ18: 100-400 | CR18: ='Wasserversorger & Aufbereitung'!$BK$14 -> 22 | CT18: 100-300 | CU18: ='Wasserversorger & Aufbereitung'!$BK$14 -> 22 | CW18: 50-150 | CX18: ='Wasserversorger & Aufbereitung'!$BK$14 -> 22 | CZ18: 50-100 | DA18: ='Wasserversorger & Aufbereitung'!$BK$14 -> 22 | DC18: 50-100 | DD18: ='Wasserversorger & Aufbereitung'!$BK$14 -> 22 | DE18: 50-150 | DF18: ='Wasserversorger & Aufbereitung'!$BK$14 -> 22
B19: malzigen Charakter | M19: hopfigen Charakter
Q20: Chlorid | S20: =VLOOKUP($S$16,'Infos & Hilfseinträge'!$AS$4:$AX$48,3,FALSE) -> 0-100 | U20: 50 | V20: mg/l | X20: =(U20*$U$4-('Wasserversorger & Aufbereitung'!AW15-'Wasserversorger & Aufbereitung'!L15)-'Wasserversorger & Aufbereitung'!G15*$U$4+'Wasserversorger & Aufbereitung'!G15*Zielmengenrechner!$Z$8)/(VLOOKUP($X$9,'Infos & Hilfseinträge'!$V$7:$AB$22,4,FALSE)-'Wasserversorger & Aufbereitung'!G15) -> -78.305085 | Z20: =IF(U20<'Wasserversorger & Aufbereitung'!BK15,(1-(U20/'Wasserversorger & Aufbereitung'!BK15))*'Wasserversorger & Aufbereitung'!$L$4,"X") -> X | AJ20: =IF(U20>'Wasserversorger & Aufbereitung'!BK15,(U20*'Wasserversorger & Aufbereitung'!$L$4-'Wasserversorger & Aufbereitung'!BK15*'Wasserversorger & Aufbereitung'!$L$4)/1000/IF(AJ6="[g]",1,'Wasserversorger & Aufbereitung'!AA8)*100/'Wasserversorger & Aufbereitung'!AA6*36.5/35.5,"X") -> 9.5002817 | AN20: =IF(U20>'Wasserversorger & Aufbereitung'!BK15,(U20*'Wasserversorger & Aufbereitung'!$L$4-'Wasserversorger & Aufbereitung'!BK15*'Wasserversorger & Aufbereitung'!$L$4)/482.28,"X") -> 1.9158995 | AP20: =IF(U20>'Wasserversorger & Aufbereitung'!BK15,(U20*'Wasserversorger & Aufbereitung'!$L$4-'Wasserversorger & Aufbereitung'!BK15*'Wasserversorger & Aufbereitung'!$L$4)/70.906*IF(AP6="[g]",'Wasserversorger & Aufbereitung'!AK8,1)/'Wasserversorger & Aufbereitung'!AK7,"X") -> 3.3328228 | AR20: =IF(U20>'Wasserversorger & Aufbereitung'!BK15,(U20*'Wasserversorger & Aufbereitung'!$L$4-'Wasserversorger & Aufbereitung'!BK15*'Wasserversorger & Aufbereitung'!$L$4)/174.39,"X") -> 5.2984689 | AV20: =IF(U20>'Wasserversorger & Aufbereitung'!BK15,(U20*'Wasserversorger & Aufbereitung'!$L$4-'Wasserversorger & Aufbereitung'!BK15*'Wasserversorger & Aufbereitung'!$L$4)/606.66,"X") -> 1.5230937 | BB20: Chlorid mg/l | BD20: 50-100 | BE20: ='Wasserversorger & Aufbereitung'!$BK$15 -> 17 | BG20: 0-50 | BH20: ='Wasserversorger & Aufbereitung'!$BK$15 -> 17 | BJ20: 50-100 | BK20: ='Wasserversorger & Aufbereitung'!$BK$15 -> 17 | BM20: 50-100 | BN20: ='Wasserversorger & Aufbereitung'!$BK$15 -> 17 | BP20: 50-150 | BQ20: ='Wasserversorger & Aufbereitung'!$BK$15 -> 17 | BS20: 50-150 | BT20: ='Wasserversorger & Aufbereitung'!$BK$15 -> 17 | BV20: 50-150 | BW20: ='Wasserversorger & Aufbereitung'!$BK$15 -> 17 | BY20: 50-100 | BZ20: ='Wasserversorger & Aufbereitung'!$BK$15 -> 17 | CB20: 50-100 | CC20: ='Wasserversorger & Aufbereitung'!$BK$15 -> 17 | CE20: 50-100 | CF20: ='Wasserversorger & Aufbereitung'!$BK$15 -> 17 | CH20: 50-100 | CI20: ='Wasserversorger & Aufbereitung'!$BK$15 -> 17 | CK20: 50-100 | CL20: ='Wasserversorger & Aufbereitung'!$BK$15 -> 17 | CN20: 0-100 | CO20: ='Wasserversorger & Aufbereitung'!$BK$15 -> 17 | CQ20: 0-100 | CR20: ='Wasserversorger & Aufbereitung'!$BK$15 -> 17 | CT20: 50-100 | CU20: ='Wasserversorger & Aufbereitung'!$BK$15 -> 17 | CW20: 50-150 | CX20: ='Wasserversorger & Aufbereitung'!$BK$15 -> 17 | CZ20: 50-100 | DA20: ='Wasserversorger & Aufbereitung'!$BK$15 -> 17 | DC20: 50-150 | DD20: ='Wasserversorger & Aufbereitung'!$BK$15 -> 17 | DE20: 50-150 | DF20: ='Wasserversorger & Aufbereitung'!$BK$15 -> 17
B21: Verhältnis Karbonathärte zu Nichtkarbonathärte
Q22: Kalzium | S22: =VLOOKUP($S$16,'Infos & Hilfseinträge'!$AS$4:$AX$48,4,FALSE) -> 50-150 | U22: 100 | V22: mg/l | X22: =(U22*$U$4-('Wasserversorger & Aufbereitung'!AW20-'Wasserversorger & Aufbereitung'!L20)-'Wasserversorger & Aufbereitung'!G20*$U$4+'Wasserversorger & Aufbereitung'!G20*Zielmengenrechner!$Z$8)/(VLOOKUP($X$9,'Infos & Hilfseinträge'!$V$7:$AB$22,5,FALSE)-'Wasserversorger & Aufbereitung'!G20) -> 368 | Z22: =IF(U22<'Wasserversorger & Aufbereitung'!BK20,(1-(U22/'Wasserversorger & Aufbereitung'!BK20))*'Wasserversorger & Aufbereitung'!$L$4,"X") -> X | AL22: =IF(U22>'Wasserversorger & Aufbereitung'!BK20,(U22*'Wasserversorger & Aufbereitung'!$L$4-'Wasserversorger & Aufbereitung'!BK20*'Wasserversorger & Aufbereitung'!$L$4)/232.78,"X") -> 8.8529942 | AN22: =IF(U22>'Wasserversorger & Aufbereitung'!BK20,(U22*'Wasserversorger & Aufbereitung'!$L$4-'Wasserversorger & Aufbereitung'!BK20*'Wasserversorger & Aufbereitung'!$L$4)/272.6,"X") -> 7.5597946 | AP22: =IF(U22>'Wasserversorger & Aufbereitung'!BK20,(U22*'Wasserversorger & Aufbereitung'!$L$4-'Wasserversorger & Aufbereitung'!BK20*'Wasserversorger & Aufbereitung'!$L$4)/40.078*IF(AP6="[g]",'Wasserversorger & Aufbereitung'!AK8,1)/'Wasserversorger & Aufbereitung'!AK7,"X") -> 13.150826 | BB22: Calcium mg/l | BD22: 30-50 | BE22: ='Wasserversorger & Aufbereitung'!$BK$20 -> 26.4 | BG22: 0-30 | BH22: ='Wasserversorger & Aufbereitung'!$BK$20 -> 26.4 | BJ22: 50-75 | BK22: ='Wasserversorger & Aufbereitung'!$BK$20 -> 26.4 | BM22: 75-100 | BN22: ='Wasserversorger & Aufbereitung'!$BK$20 -> 26.4 | BP22: 50-75 | BQ22: ='Wasserversorger & Aufbereitung'!$BK$20 -> 26.4 | BS22: 50-75 | BT22: ='Wasserversorger & Aufbereitung'!$BK$20 -> 26.4 | BV22: 50-75 | BW22: ='Wasserversorger & Aufbereitung'!$BK$20 -> 26.4 | BY22: 50-100 | BZ22: ='Wasserversorger & Aufbereitung'!$BK$20 -> 26.4 | CB22: 50-100 | CC22: ='Wasserversorger & Aufbereitung'!$BK$20 -> 26.4 | CE22: 50-150 | CF22: ='Wasserversorger & Aufbereitung'!$BK$20 -> 26.4 | CH22: 50-75 | CI22: ='Wasserversorger & Aufbereitung'!$BK$20 -> 26.4 | CK22: 50-100 | CL22: ='Wasserversorger & Aufbereitung'!$BK$20 -> 26.4 | CN22: 50-100 | CO22: ='Wasserversorger & Aufbereitung'!$BK$20 -> 26.4 | CQ22: 50-150 | CR22: ='Wasserversorger & Aufbereitung'!$BK$20 -> 26.4 | CT22: 50-150 | CU22: ='Wasserversorger & Aufbereitung'!$BK$20 -> 26.4 | CW22: 50-75 | CX22: ='Wasserversorger & Aufbereitung'!$BK$20 -> 26.4 | CZ22: 50-100 | DA22: ='Wasserversorger & Aufbereitung'!$BK$20 -> 26.4 | DC22: 50-100 | DD22: ='Wasserversorger & Aufbereitung'!$BK$20 -> 26.4 | DE22: 50-75 | DF22: ='Wasserversorger & Aufbereitung'!$BK$20 -> 26.4
Q24: Magnesium | S24: =VLOOKUP($S$16,'Infos & Hilfseinträge'!$AS$4:$AX$48,5,FALSE) -> 0-20 | U24: 10 | V24: mg/l | X24: =(U24*$U$4-('Wasserversorger & Aufbereitung'!AW21-'Wasserversorger & Aufbereitung'!L21)-'Wasserversorger & Aufbereitung'!G21*$U$4+'Wasserversorger & Aufbereitung'!G21*Zielmengenrechner!$Z$8)/(VLOOKUP($X$9,'Infos & Hilfseinträge'!$V$7:$AB$22,6,FALSE)-'Wasserversorger & Aufbereitung'!G21) -> 4.6666667 | Z24: =IF(U24<'Wasserversorger & Aufbereitung'!BK21,(1-(U24/'Wasserversorger & Aufbereitung'!BK21))*'Wasserversorger & Aufbereitung'!$L$4,"X") -> 3 | AR24: =IF(U24>'Wasserversorger & Aufbereitung'!BK21,(U24*'Wasserversorger & Aufbereitung'!$L$4-'Wasserversorger & Aufbereitung'!BK21*'Wasserversorger & Aufbereitung'!$L$4)/119.53,"X") -> X | AT24: =IF(U24>'Wasserversorger & Aufbereitung'!BK21,(U24*'Wasserversorger & Aufbereitung'!$L$4-'Wasserversorger & Aufbereitung'!BK21*'Wasserversorger & Aufbereitung'!$L$4)/98.59,"X") -> X | BB24: Magnesium mg/l | BD24: 0-20 | BE24: ='Wasserversorger & Aufbereitung'!$BK$21 -> 11.2 | BG24: 0-20 | BH24: ='Wasserversorger & Aufbereitung'!$BK$21 -> 11.2 | BJ24: 0-20 | BK24: ='Wasserversorger & Aufbereitung'!$BK$21 -> 11.2 | BM24: 0-20 | BN24: ='Wasserversorger & Aufbereitung'!$BK$21 -> 11.2 | BP24: 0-25 | BQ24: ='Wasserversorger & Aufbereitung'!$BK$21 -> 11.2 | BS24: 0-25 | BT24: ='Wasserversorger & Aufbereitung'!$BK$21 -> 11.2 | BV24: 0-20 | BW24: ='Wasserversorger & Aufbereitung'!$BK$21 -> 11.2 | BY24: 0-25 | BZ24: ='Wasserversorger & Aufbereitung'!$BK$21 -> 11.2 | CB24: 0-25 | CC24: ='Wasserversorger & Aufbereitung'!$BK$21 -> 11.2 | CE24: 0-25 | CF24: ='Wasserversorger & Aufbereitung'!$BK$21 -> 11.2 | CH24: 15-35 | CI24: ='Wasserversorger & Aufbereitung'!$BK$21 -> 11.2 | CK24: 0-20 | CL24: ='Wasserversorger & Aufbereitung'!$BK$21 -> 11.2 | CN24: 0-25 | CO24: ='Wasserversorger & Aufbereitung'!$BK$21 -> 11.2 | CQ24: 0-20 | CR24: ='Wasserversorger & Aufbereitung'!$BK$21 -> 11.2 | CT24: 0-25 | CU24: ='Wasserversorger & Aufbereitung'!$BK$21 -> 11.2 | CW24: 15-35 | CX24: ='Wasserversorger & Aufbereitung'!$BK$21 -> 11.2 | CZ24: 0-20 | DA24: ='Wasserversorger & Aufbereitung'!$BK$21 -> 11.2 | DC24: 0-20 | DD24: ='Wasserversorger & Aufbereitung'!$BK$21 -> 11.2 | DE24: 0-25 | DF24: ='Wasserversorger & Aufbereitung'!$BK$21 -> 11.2
Q27: Verhältnis KH/NKH | U27: 0.3 | X27: tbd | AB27: =IF(U27<'Wasserversorger & Aufbereitung'!BK28,('Wasserversorger & Aufbereitung'!BK12*'Wasserversorger & Aufbereitung'!L4-($U$27*('Wasserversorger & Aufbereitung'!BK20/7.14*'Wasserversorger & Aufbereitung'!L4+'Wasserversorger & Aufbereitung'!BK21/4.35*'Wasserversorger & Aufbereitung'!L4))/((1+$U$27)*2.8))*'Wasserversorger & Aufbereitung'!O7/1000/IF(AB6="[g]",1,'Wasserversorger & Aufbereitung'!O8)/'Wasserversorger & Aufbereitung'!O6*100,"X") -> 2.8314056 | AD27: =IF(U27<'Wasserversorger & Aufbereitung'!BK28,('Wasserversorger & Aufbereitung'!BK12*'Wasserversorger & Aufbereitung'!L4-($U$27*('Wasserversorger & Aufbereitung'!BK20/7.14*'Wasserversorger & Aufbereitung'!L4+'Wasserversorger & Aufbereitung'!BK21/4.35*'Wasserversorger & Aufbereitung'!L4))/((1+$U$27)*2.8))*'Wasserversorger & Aufbereitung'!R7/1000/0.02,"X") -> 136.58701 | AF27: =IF(U27<'Wasserversorger & Aufbereitung'!BK28,('Wasserversorger & Aufbereitung'!BK12*'Wasserversorger & Aufbereitung'!L4-($U$27*('Wasserversorger & Aufbereitung'!BK20/7.14*'Wasserversorger & Aufbereitung'!L4+'Wasserversorger & Aufbereitung'!BK21/4.35*'Wasserversorger & Aufbereitung'!L4))/((1+$U$27)*2.8))*'Wasserversorger & Aufbereitung'!U7/1000/IF(AF6="[g]",1,'Wasserversorger & Aufbereitung'!U8)/'Wasserversorger & Aufbereitung'!U6*100,"X") -> 29.719197 | AH27: =IF(U27<'Wasserversorger & Aufbereitung'!BK28,('Wasserversorger & Aufbereitung'!BK12*'Wasserversorger & Aufbereitung'!L4-($U$27*('Wasserversorger & Aufbereitung'!BK20/7.14*'Wasserversorger & Aufbereitung'!L4+'Wasserversorger & Aufbereitung'!BK21/4.35*'Wasserversorger & Aufbereitung'!L4))/((1+$U$27)*2.8))*'Wasserversorger & Aufbereitung'!X7/1000/IF(AH6="[g]",1,'Wasserversorger & Aufbereitung'!X8)/'Wasserversorger & Aufbereitung'!X6*100/2,"X") -> 13.949657 | AJ27: =IF(U27<'Wasserversorger & Aufbereitung'!BK28,('Wasserversorger & Aufbereitung'!BK12*'Wasserversorger & Aufbereitung'!L4-($U$27*('Wasserversorger & Aufbereitung'!BK20/7.14*'Wasserversorger & Aufbereitung'!L4+'Wasserversorger & Aufbereitung'!BK21/4.35*'Wasserversorger & Aufbereitung'!L4))/((1+$U$27)*2.8))*'Wasserversorger & Aufbereitung'!AA7/1000/IF(AJ6="[g]",1,'Wasserversorger & Aufbereitung'!AA8)/'Wasserversorger & Aufbereitung'!AA6*100,"X") -> 11.056754 | AL27: =IF(U27<'Wasserversorger & Aufbereitung'!BK28,((7.14*('Wasserversorger & Aufbereitung'!BK12*2.8*'Wasserversorger & Aufbereitung'!L4*(1+$U$27)-$U$27*'Wasserversorger & Aufbereitung'!BK21/4.35*'Wasserversorger & Aufbereitung'!L4)/$U$27)-'Wasserversorger & Aufbereitung'!BK20*'Wasserversorger & Aufbereitung'!L4)/232.78,"X") -> 11.286094 | AN27: =IF(U27<'Wasserversorger & Aufbereitung'!BK28,((7.14*('Wasserversorger & Aufbereitung'!BK12*2.8*'Wasserversorger & Aufbereitung'!L4*(1+$U$27)-$U$27*'Wasserversorger & Aufbereitung'!BK21/4.35*'Wasserversorger & Aufbereitung'!L4)/$U$27)-'Wasserversorger & Aufbereitung'!BK20*'Wasserversorger & Aufbereitung'!L4)/272.6,"X") -> 9.63748 | AP27: =IF(U27<'Wasserversorger & Aufbereitung'!BK28,((7.14*('Wasserversorger & Aufbereitung'!BK12*2.8*'Wasserversorger & Aufbereitung'!L4*(1+$U$27)-$U$27*'Wasserversorger & Aufbereitung'!BK21/4.35*'Wasserversorger & Aufbereitung'!L4)/$U$27)-'Wasserversorger & Aufbereitung'!BK20*'Wasserversorger & Aufbereitung'!L4)/40.078*IF(AP6="[g]",'Wasserversorger & Aufbereitung'!AK8,1)/'Wasserversorger & Aufbereitung'!AK7,"X") -> 16.765115 | AR27: =IF(U27<'Wasserversorger & Aufbereitung'!BK28,((4.35*('Wasserversorger & Aufbereitung'!BK12*2.8*'Wasserversorger & Aufbereitung'!L4*(1+$U$27)-$U$27*'Wasserversorger & Aufbereitung'!BK20/7.14*'Wasserversorger & Aufbereitung'!L4)/$U$27)-'Wasserversorger & Aufbereitung'!BK21*'Wasserversorger & Aufbereitung'!L4)/119.53,"X") -> 13.390706 | AT27: =IF(U27<'Wasserversorger & Aufbereitung'!BK28,((4.35*('Wasserversorger & Aufbereitung'!BK12*2.8*'Wasserversorger & Aufbereitung'!L4*(1+$U$27)-$U$27*'Wasserversorger & Aufbereitung'!BK20/7.14*'Wasserversorger & Aufbereitung'!L4)/$U$27)-'Wasserversorger & Aufbereitung'!BK21*'Wasserversorger & Aufbereitung'!L4)/98.59,"X") -> 16.234822 | AX27: =IF(U27>'Wasserversorger & Aufbereitung'!BK28,((($U$27*('Wasserversorger & Aufbereitung'!BK20/7.14*'Wasserversorger & Aufbereitung'!L4+'Wasserversorger & Aufbereitung'!BK21/4.35*'Wasserversorger & Aufbereitung'!L4))/((1+$U$27)*2.8))-'Wasserversorger & Aufbereitung'!BK12*'Wasserversorger & Aufbereitung'!L4)/726.34*61,"X") -> X
Q29: Verhältnis Sulfat zu Clorid | U29: 0.2 | X29: tbd | AH29: =IF('Wasserversorger & Aufbereitung'!BK30<U29,($U$29*'Wasserversorger & Aufbereitung'!BK15*'Wasserversorger & Aufbereitung'!L4-'Wasserversorger & Aufbereitung'!BK14*'Wasserversorger & Aufbereitung'!L4)/1000/IF(AH6="[g]",1,'Wasserversorger & Aufbereitung'!X8)*100/'Wasserversorger & Aufbereitung'!X6*98/96,"X") -> X | AJ29: =IF('Wasserversorger & Aufbereitung'!BK30>U29,(('Wasserversorger & Aufbereitung'!BK14*'Wasserversorger & Aufbereitung'!L4/$U$29)-'Wasserversorger & Aufbereitung'!BK15*'Wasserversorger & Aufbereitung'!L4)/1000/IF(AJ6="[g]",1,'Wasserversorger & Aufbereitung'!AA8)*100/'Wasserversorger & Aufbereitung'!AA6*36.5/35.5,"X") -> 26.773521 | AL29: =IF('Wasserversorger & Aufbereitung'!BK30<U29,($U$29*'Wasserversorger & Aufbereitung'!BK15*'Wasserversorger & Aufbereitung'!L4-'Wasserversorger & Aufbereitung'!BK14*'Wasserversorger & Aufbereitung'!L4)/557.93,"X") -> X | AN29: =IF('Wasserversorger & Aufbereitung'!BK30>U29,(('Wasserversorger & Aufbereitung'!BK14*'Wasserversorger & Aufbereitung'!L4/$U$29)-'Wasserversorger & Aufbereitung'!BK15*'Wasserversorger & Aufbereitung'!L4)/482.28,"X") -> 5.3993531 | AP29: =IF('Wasserversorger & Aufbereitung'!BK30>U29,(('Wasserversorger & Aufbereitung'!BK14*'Wasserversorger & Aufbereitung'!L4/$U$29)-'Wasserversorger & Aufbereitung'!BK15*'Wasserversorger & Aufbereitung'!L4)/70.906*IF(AP6="[g]",'Wasserversorger & Aufbereitung'!AK8,1)/'Wasserversorger & Aufbereitung'!AK7,"X") -> 9.3925007 | AR29: =IF('Wasserversorger & Aufbereitung'!BK30>U29,(('Wasserversorger & Aufbereitung'!BK14*'Wasserversorger & Aufbereitung'!L4/$U$29)-'Wasserversorger & Aufbereitung'!BK15*'Wasserversorger & Aufbereitung'!L4)/174.39,"X") -> 14.932049 | AT29: =IF('Wasserversorger & Aufbereitung'!BK30<U29,($U$29*'Wasserversorger & Aufbereitung'!BK15*'Wasserversorger & Aufbereitung'!L4-'Wasserversorger & Aufbereitung'!BK14*'Wasserversorger & Aufbereitung'!L4)/389.73,"X") -> X | AV29: =IF('Wasserversorger & Aufbereitung'!BK30>U29,(('Wasserversorger & Aufbereitung'!BK14*'Wasserversorger & Aufbereitung'!L4/$U$29)-'Wasserversorger & Aufbereitung'!BK15*'Wasserversorger & Aufbereitung'!L4)/606.66,"X") -> 4.2923549
Q31: Restalkalität | S31: =VLOOKUP($S$16,'Infos & Hilfseinträge'!$AS$4:$AX$48,6,FALSE) -> -3-0 °dH | U31: -1.5 | V31: °dH | X31: tbd | Z31: =IF(U31<'Wasserversorger & Aufbereitung'!BK32,(1-(U31/'Wasserversorger & Aufbereitung'!BK32))*'Wasserversorger & Aufbereitung'!$L$4,"X") -> 41.767483 | AB31: =IF(U31<'Wasserversorger & Aufbereitung'!BK32,('Wasserversorger & Aufbereitung'!BK12-((U31+'Wasserversorger & Aufbereitung'!BK20/25+'Wasserversorger & Aufbereitung'!BK21/30)/2.8))*'Wasserversorger & Aufbereitung'!$L$4*'Wasserversorger & Aufbereitung'!O7/1000/IF(AB6="[g]",1,'Wasserversorger & Aufbereitung'!O8)/'Wasserversorger & Aufbereitung'!O6*100,"X") -> 4.2487982 | AD31: =IF(U31<'Wasserversorger & Aufbereitung'!BK32,('Wasserversorger & Aufbereitung'!BK12-((U31+'Wasserversorger & Aufbereitung'!BK20/25+'Wasserversorger & Aufbereitung'!BK21/30)/2.8))*'Wasserversorger & Aufbereitung'!$L$4*'Wasserversorger & Aufbereitung'!R7/1000/0.02,"X") -> 204.96203 | AF31: =IF(U31<'Wasserversorger & Aufbereitung'!BK32,('Wasserversorger & Aufbereitung'!BK12-((U31+'Wasserversorger & Aufbereitung'!BK20/25+'Wasserversorger & Aufbereitung'!BK21/30)/2.8))*'Wasserversorger & Aufbereitung'!$L$4*'Wasserversorger & Aufbereitung'!U7/1000/IF(AF6="[g]",1,'Wasserversorger & Aufbereitung'!U8)/'Wasserversorger & Aufbereitung'!U6*100,"X") -> 44.596533 | AH31: =IF(U31<'Wasserversorger & Aufbereitung'!BK32,('Wasserversorger & Aufbereitung'!BK12-((U31+'Wasserversorger & Aufbereitung'!BK20/25+'Wasserversorger & Aufbereitung'!BK21/30)/2.8))*'Wasserversorger & Aufbereitung'!$L$4*'Wasserversorger & Aufbereitung'!X7/1000/IF(AH6="[g]",1,'Wasserversorger & Aufbereitung'!X8)/'Wasserversorger & Aufbereitung'!X6*100/2,"X") -> 20.932811 | AJ31: =IF(U31<'Wasserversorger & Aufbereitung'!BK32,('Wasserversorger & Aufbereitung'!BK12-((U31+'Wasserversorger & Aufbereitung'!BK20/25+'Wasserversorger & Aufbereitung'!BK21/30)/2.8))*'Wasserversorger & Aufbereitung'!$L$4*'Wasserversorger & Aufbereitung'!AA7/1000/IF(AJ6="[g]",1,'Wasserversorger & Aufbereitung'!AA8)/'Wasserversorger & Aufbereitung'!AA6*100,"X") -> 16.591731 | AL31: =IF(U31<'Wasserversorger & Aufbereitung'!BK32,(-25*($U$31+'Wasserversorger & Aufbereitung'!BK21/30-'Wasserversorger & Aufbereitung'!BK12*2.8)-'Wasserversorger & Aufbereitung'!BK20)*'Wasserversorger & Aufbereitung'!$L$4/232.78,"X") -> 13.684452 | AN31: =IF(U31<'Wasserversorger & Aufbereitung'!BK32,(-25*($U$31+'Wasserversorger & Aufbereitung'!BK21/30-'Wasserversorger & Aufbereitung'!BK12*2.8)-'Wasserversorger & Aufbereitung'!BK20)*'Wasserversorger & Aufbereitung'!$L$4/272.6,"X") -> 11.685498 | AP31: =IF(U31<'Wasserversorger & Aufbereitung'!BK32,(-25*($U$31+'Wasserversorger & Aufbereitung'!BK21/30-'Wasserversorger & Aufbereitung'!BK12*2.8)-'Wasserversorger & Aufbereitung'!BK20)*'Wasserversorger & Aufbereitung'!$L$4/40.078*IF(AP6="[g]",'Wasserversorger & Aufbereitung'!AK8,1)/'Wasserversorger & Aufbereitung'!AK7,"X") -> 20.327795 | AR31: =IF(U31<'Wasserversorger & Aufbereitung'!BK32,(-30*($U$31+'Wasserversorger & Aufbereitung'!BK20/25-'Wasserversorger & Aufbereitung'!BK12*2.8)-'Wasserversorger & Aufbereitung'!BK21)*'Wasserversorger & Aufbereitung'!$L$4/119.53,"X") -> 31.979921 | AT31: =IF(U31<'Wasserversorger & Aufbereitung'!BK32,(-30*($U$31+'Wasserversorger & Aufbereitung'!BK20/25-'Wasserversorger & Aufbereitung'!BK12*2.8)-'Wasserversorger & Aufbereitung'!BK21)*'Wasserversorger & Aufbereitung'!$L$4/98.59,"X") -> 38.772289 | AX31: =IF(U31>'Wasserversorger & Aufbereitung'!BK32,(($U$31+'Wasserversorger & Aufbereitung'!BK20/25+'Wasserversorger & Aufbereitung'!BK21/30)/2.8-'Wasserversorger & Aufbereitung'!BK12)*'Wasserversorger & Aufbereitung'!$L$4/726.34*61,"X") -> X | BB31: Restalkalität °dH | BD31: -3-0 dH | BE31: ='Wasserversorger & Aufbereitung'!$BK$32 -> 3.0506667 | BG31: -2-0°dH | BH31: ='Wasserversorger & Aufbereitung'!$BK$32 -> 3.0506667 | BJ31: -5-0 °dH | BK31: ='Wasserversorger & Aufbereitung'!$BK$32 -> 3.0506667 | BM31: 0-2 °dH | BN31: ='Wasserversorger & Aufbereitung'!$BK$32 -> 3.0506667 | BP31: 0-5°dH | BQ31: ='Wasserversorger & Aufbereitung'!$BK$32 -> 3.0506667 | BS31: 3-6 °dH | BT31: ='Wasserversorger & Aufbereitung'!$BK$32 -> 3.0506667 | BV31: 5-10 °dH | BW31: ='Wasserversorger & Aufbereitung'!$BK$32 -> 3.0506667 | BY31: 10 °dH | BZ31: ='Wasserversorger & Aufbereitung'!$BK$32 -> 3.0506667 | CB31: -5-0 °dH | CC31: ='Wasserversorger & Aufbereitung'!$BK$32 -> 3.0506667 | CE31: 0-5 °dH | CF31: ='Wasserversorger & Aufbereitung'!$BK$32 -> 3.0506667 | CH31: 2-7 °dH | CI31: ='Wasserversorger & Aufbereitung'!$BK$32 -> 3.0506667 | CK31: 5-10 °dH | CL31: ='Wasserversorger & Aufbereitung'!$BK$32 -> 3.0506667 | CN31: -3-0 °dH | CO31: ='Wasserversorger & Aufbereitung'!$BK$32 -> 3.0506667 | CQ31: -3-0 °dH | CR31: ='Wasserversorger & Aufbereitung'!$BK$32 -> 3.0506667 | CT31: 0-5 °dH | CU31: ='Wasserversorger & Aufbereitung'!$BK$32 -> 3.0506667 | CW31: 5-10 °dH | CX31: ='Wasserversorger & Aufbereitung'!$BK$32 -> 3.0506667 | CZ31: 0 °dH | DA31: ='Wasserversorger & Aufbereitung'!$BK$32 -> 3.0506667 | DC31: 0-5 °dH | DD31: ='Wasserversorger & Aufbereitung'!$BK$32 -> 3.0506667 | DE31: 8-15 °dH | DF31: ='Wasserversorger & Aufbereitung'!$BK$32 -> 3.0506667
B33: Restalkalität [°dH] | X33: Mineralwasser | Z33: Entionisiertes | AN33: CaCl2 | AP33: CaCl2
C34: Zielwert abhängig | K34: =IF('Wasserversorger & Aufbereitung'!BK26<0,"Achtung: Soda-Alkalisches Wasser!","") | X34: Supermarkt | Z34: Wasser | AB34: Milchsäure | AD34: Sauermalz | AF34: H3PO4 | AH34: H2SO4 | AJ34: HCl | AL34: CaSO4 | AP34: -Lösung | AR34: MgCl2 | AT34: MgSO4 | AV34: NaCl | AX34: NaHCO3 | BB34: Aufbereitung | BD34: Entkarbonisierung | BG34: Vollentsalzung, | BJ34: Entkarbonisierung, | BM34: Entkarbonisierung, | BP34: Entkarbonisierung, | BS34: ggf. Entkarbonisierung | BV34: ggf. Maischesäuerung | BY34: ggf. Maischesäuerung | CB34: Entkarbonisierung | CE34: Entkarbonisierung | CH34: ggf. Entkarbonisierung, | CK34: ggf. Entkarbonisierung, | CN34: Entkarbonisierung | CQ34: ggf. Vollentsalzung bei | CT34: Ggf. Entkarbonisierung, | CW34: Wenig Magnesiumsulfat | CZ34: Entkarbonisierung | DC34: Entkarbonisierung | DE34: ggf. Maischesäuerung
C35: vom Bierstil | K35: =IF('Wasserversorger & Aufbereitung'!BK26<0,"(Karbonathärte > Gesamthärte)","") | X35: [l] | Z35: [l] | AB35: [ml] | AD35: [g] | AF35: [ml] | AH35: [ml] | AJ35: [ml] | AL35: [g] | AN35: [g] | AP35: [g] | AR35: [g] | AT35: [g] | AV35: [g] | AX35: [g] | BD35: Maischesäuerung | BG35: Maischesäuerung | BJ35: ggf. Aufsalzen, | BM35: ggf. Aufsalzen | BP35: opt. Maischesäuerung | BS35: Aufsalzen mit | CB35: Maischesäuerung | CH35: Sulfat und Chlorid | CK35: im Interesse von Estern | CN35: Maischesäuerung | CQ35: hohen Nitratwerten | CT35: wenn Gabe von Calciumsulfat | CW35: stützt den "sour tang" | CZ35: opt. Maischesäuerung
BD36: auf pH 5,4 | BG36: auf pH 5,4 | BJ36: Maischesäuerung | BS36: Calciumchlorid | CB36: auf pH 5,4 | CH36: in Balance halten, | CK36: keine Maischesäuerung | CN36: auf pH 5,4 | CQ36: (Eintrag durch Hopfen!), | CT36: nicht ausreichend | CW36: ggf. Maischesäuerung | CZ36: auf pH 5,4
CH37: wenig Magnesiumsulfat | CQ37: sonst Entkarbonsierung,
D38: Kationen | J38: Anionen | CH38: stützt den "sour tang" | CQ38: Aufsalzen mit Calciumsulfat,
D39: Kalzium | E39: ='Wasserversorger & Aufbereitung'!BK20 -> 26.4 | F39: [mg/l] | J39: Hydrocarbonat | K39: ='Wasserversorger & Aufbereitung'!BK13 -> 97.6 | L39: [mg/l] | CQ39: optionale Maischesäuerung
D40: Magnesium | E40: ='Wasserversorger & Aufbereitung'!BK21 -> 11.2 | F40: [mg/l] | J40: Sulfat | K40: ='Wasserversorger & Aufbereitung'!BK14 -> 22 | L40: [mg/l]
D41: Natrium | E41: ='Wasserversorger & Aufbereitung'!BK22 -> 7.12 | F41: [mg/l] | J41: Chlorid | K41: ='Wasserversorger & Aufbereitung'!BK15 -> 17 | L41: [mg/l]
J42: Nitrat | K42: ='Wasserversorger & Aufbereitung'!BK16 -> 10 | L42: [mg/l]
BB45: Quelle: https://braumagazin.de/article/von-der-wasseranalyse-zum-brauwasser/ Kapitel 2.2
Q46: Legende und Kommentare | Z46: Die dargestellten Werte sind die individuellen Mengen, die notwendig sind, um das gewünschte Ziel (Ionenkonzentration oder Restalkalität) zu erreichen.
AB47: Die Ionenkonzentration bzw. die Restalkalität ist mit diesem Stoff nicht zu beeinflussen | BC47: die aktuelle Ionenkonzentration bzw. Restalkalität passt für den jeweiligen Bierstil
Z48: X | AB48: Das Brauwasser übersteigt den gewünschten Wert bereits, weitere Zugabe nicht sinnvoll
Q49: blaßgelb hinterlegte Felder sind Eingabefelder. | BC49: die aktuelle Ionenkonzentration bzw. Restalkalität sollte erhöht werden, damit sie zu dem jeweiligen Bierstil passt
Q50: Nur in solchen Feldern sollten Eingaben gemacht werden, alles andere übernimmt Excel | Z50: Kreuzabhängigkeiten sind zu beachten. So kann Zugabe von Salzsäure die gewünschte Restalkalität
Z51: einstellen, lässt jedoch ggf. die Chlorid-Konzentration zu hoch werden. | BC51: die aktuelle Ionenkonzentration bzw. Restalkalität sollte reduziert werden, damit sie zu dem jeweiligen Bierstil passt

Sheet pH-Wert Maische
B2: Monitor | Q2: Prognose pH-Wert Maische
B3: pH-Wert Maische | Q3: Versuche haben gezeigt, daß es einen hinreichend zuverlässigen Zusammenhang zwischen der Malzfarbe in EBC und dem pH-Wert der Maische
Q4: in destilliertem Wasser (pHDW) gibt, s.a. Diagramme rechts. | V4: Quelle: | W4: https://maischemalzundmehr.de/index.php?inhaltmitte=exp_maischph
Q5: Zusammen mit der Restalkalität des Brauwassers und der Maischdicke (Menge Hauptguß pro Gesamtschüttung) lässt sich eine Prognose zum Maische-pH-Wert treffen.
Q6: Die Genauigkeit der pH-Wert Vorhersage liegt bei <0,2 Einheiten.
Q7: Aufgrund der bestehenden Restunsicherheit ergibt ein Ziel-pH-Wert von 5,5 das Optimum für eine gute Enzymaktivität in der Maische.
B9: pH-Wert Maische (Prognose) | Q9: Hinweise zu den Eingabefeldern unten: | AD9: Konstante 1 | AE9: Konstante 2
Q10: • Sauermalzgaben brauchen hier nicht aufgeführt werden, Sauermalz wird im Tabellenblatt "Zielmengenrechner" erfasst.
Q11: • Alle unvermälzten Getreidesorten, z.B. Haferflocken oder auch Röstgerste, sind unter "Malz/Röstmalz" anzugeben. | AD11: =IF(Q17="Caramalz",-0.289,-0.255) -> -0.255 | AE11: =IF(Q17="Caramalz",6.069,6.156) -> 6.156
Q12: • Alle Sorten Carafa gelten als Röstmalz und nicht (!) als Caramalz.
AD13: =IF(Q19="Caramalz",-0.289,-0.255) -> -0.255 | AE13: =IF(Q19="Caramalz",6.069,6.156) -> 6.156
Q15: Malztyp (dropdown) | S15: Menge [g] | U15: Malzfarbe [EBC] | W15: Anteil | Y15: pHDW | AD15: =IF(Q21="Caramalz",-0.289,-0.255) -> -0.289 | AE15: =IF(Q21="Caramalz",6.069,6.156) -> 6.069
P17: 1. | Q17: Malz oder Röstmalz | S17: 4400 | U17: 7 | W17: =S17/SUM($S$17:$S$25) -> 0.91666667 | Y17: =IF(U17<=350,AD11*LN(IF(U17>0,U17,0.01))+AE11,4.65) -> 5.6597929 | AD17: =IF(Q23="Caramalz",-0.289,-0.255) -> -0.255 | AE17: =IF(Q23="Caramalz",6.069,6.156) -> 6.156
P19: 2. | Q19: Malz oder Röstmalz | S19: 400 | U19: 24 | W19: =S19/SUM($S$17:$S$25) -> 0.083333333 | Y19: =IF(U19<=350,AD13*LN(IF(U19>0,U19,0.01))+AE13,4.65) -> 5.3455963 | AD19: =IF(Q25="Caramalz",-0.289,-0.255) -> -0.255 | AE19: =IF(Q25="Caramalz",6.069,6.156) -> 6.156
P21: 3. | Q21: Caramalz | S21: 0 | U21: 25 | W21: =S21/SUM($S$17:$S$25) -> 0 | Y21: =IF(U21<=350,AD15*LN(IF(U21>0,U21,0.01))+AE15,4.65) -> 5.1387449
P23: 4. | Q23: Malz oder Röstmalz | S23: 0 | U23: 4 | W23: =S23/SUM($S$17:$S$25) -> 0 | Y23: =IF(U23<=350,AD17*LN(IF(U23>0,U23,0.01))+AE17,4.65) -> 5.8024949
B24: Restalkalität [°dH] aktuell:
P25: 5. | Q25: Malz oder Röstmalz | S25: 0 | U25: 400 | W25: =S25/SUM($S$17:$S$25) -> 0 | Y25: =IF(U25<=350,AD19*LN(IF(U25>0,U25,0.01))+AE19,4.65) -> 4.65
X28: pHDW Schüttung | Y28: =-LOG10(10^-Y17*W17+10^-Y19*W19+10^-Y21*W21+10^-Y23*W23+10^-Y25*W25) -> 5.622979
B29: Restalkalität [°dH] notwendig für pHMaische = 5,50: | Q29: Menge Hauptguß [l] | S29: Schüttung Gesamt [g]
Q30: 19 | S30: =SUM(S17:S25) -> 4800 | X30: pH Maische | Y30: =Y28+(0.013*Q30/(SUM(S17:S25)/1000)+0.013)*'Wasserversorger & Aufbereitung'!BK34 -> 5.6931011
Q33: Korrektur Restalkalität
K34: =IF('Wasserversorger & Aufbereitung'!BL26<0,"Achtung: Soda-Alkalisches Wasser!","") | Q34: Die Wahrscheinlichkeit für eine gute Enzymtätigkeit ist bei einem errechneten pH-Wert von 5,5 am größten.
U35: Für einen pH-Wert von 5,50 müsste die Restalkalität um | V35: =ABS(((Y30-5.5)/(0.013*Q30/(SUM(S17:S25)/1000)+0.013))/0.3556) -> 8.4244979 | W35: auf | X35: ='Wasserversorger & Aufbereitung'!BK32+IF(Y30<5.5,V35,-V35) -> -5.3738312 | Y35: =IF(Y30>5.5,"°dH abgesenkt","°dH angehoben") -> °dH abgesenkt | Z35: werden.
D36: Kationen | J36: Anionen
D37: Kalzium | E37: ='Wasserversorger & Aufbereitung'!BK20 -> 26.4 | F37: [mg/l] | J37: Hydrocarbonat | K37: ='Wasserversorger & Aufbereitung'!BK13 -> 97.6 | L37: [mg/l]
D38: Magnesium | E38: ='Wasserversorger & Aufbereitung'!BK21 -> 11.2 | F38: [mg/l] | J38: Sulfat | K38: ='Wasserversorger & Aufbereitung'!BK14 -> 22 | L38: [mg/l] | Q38: Kommentar: Der Einfluß der Restalkalität des Brauwassers auf den Maische-pH-Wert ist (für mich überraschend) vgl. klein.
D39: Natrium | E39: ='Wasserversorger & Aufbereitung'!BK22 -> 7.12 | F39: [mg/l] | J39: Chlorid | K39: ='Wasserversorger & Aufbereitung'!BK15 -> 17 | L39: [mg/l] | Q39: Eine Verschiebung der Restalkalität um 5 °dH verändert den Maische-pH-Wert rechnerisch nur um 0,12 Einheiten.
J40: Nitrat | K40: ='Wasserversorger & Aufbereitung'!BK16 -> 10 | L40: [mg/l] | Q40: Je nach Anwendungsfall könnte daher die Rückwärtsrechnung der RA für einen pH-Wert von 5,50 unrealistische Werte ergeben.

Sheet Beispiel
X1: Das Rezept fordert 28 Liter Wasser (Summe aus Haupt- und Nachguß)
B2: Beispiel anhand Wasser der Stadtwerke Kulmbach
B3: Auszug aus der online verfügbaren Wasseranalyse
B4: Für die Berechnung der Kenngrößen KH/NKH, Sulfat/Chlorid, Restalkalität notwendig: | K4: Die relevanten Werte in Registerkarte | P4: Das ergibt in der Registerkarte "Zielmengenrechner" | V4: Ich möchte nun ein | AY4: Der Monitor sieht jetzt so aus: | BD4: Für mein American-IPA ist jetzt auch alles grün:
K5: "Wasserversorger & Aufbereitung" übernehmen: | P5: folgendes erstes Bild: | V5: American IPA brauen:
AB6: Mit 11,4 g CaSO4 komme ich mit den Sulfationen auf den Zielwert und | AM6: --> ich gebe als Kompromiß 12 g CaSO4 im Bereich Zuschlagstoffe ein:
AB7: mit 13,68 g CaSO4 lande ich bei der notwendigen Restalkalität
AM8: Nebenbei füttere ich mein damit schmales Kalzium-Kontingent auf
B27: Für die Berechnung nicht notwendig, aber es sind für das Bier brauen empfohlene Grenzwerte vorhanden:
K30: Die berechnete Karbonathärte (1,6 mmol * 2,8) ergibt
K31: mit 4,5 °dH etwas höheren Wert als die 4,3°dH aus der
K32: Wasseranalyse. Warum auch immer…
P41: KH / NKH out-of-the-box etwas hoch
P42: Ionenkonzentrationen bis auf Kalzium im grünen Bereich | AY42: Für den gewählten Bierstil ist alles im Soll-Bereich,
P43: Kalzium sollte zwischen 50...150 mg/l liegen, sollte also etwas gesteigert werden | AY43: Sulfat ist rot, weil die Grenzwerte laut Braumagazin
AY44: überschritten werden - aber der Bierstil toleriert ja wohl
AY45: bis 400 mg/l SO4.
AY47: Wer möchte kann mit etwas NaCl das
AY48: Sulfat-Chlorid-Verhältnis nach unten bringen, ohne
AY49: die anderen Werte zu kompromittieren

Sheet Infos & Hilfseinträge
B2: Infos und Hilfsdaten
AS3: Bierstile | AT3: Sulfat mg/l | AU3: Chlorid mg/l | AV3: Calcium mg/l | AW3: Magnesium mg/l | AX3: Restalkalität °dH
B4: Versionshistorie: | AS4: bitte auswählen (opt)
I5: https://braumagazin.de/article/von-der-wasseranalyse-zum-brauwasser/ | V5: Mineralwasser Supermarkt | AS5: Altbier | AT5: 100-300 | AU5: 50-100 | AV5: 50-150 | AW5: 0-25 | AX5: 0-5 °dH
B6: v1.0 (16.09.2023) | C6: Erstveröffentlichung | I6: https://maischemalzundmehr.de/index.php?inhaltmitte=toolswasserrechner | V6: Marke | W6: Hydrogencarbonat [mg/l] | X6: Sulfat [mg/l] | Y6: Chlorid [mg/l] | Z6: Calcium [mg/l] | AA6: Magnesium [mg/l] | AB6: Natrium [mg/l] | AS6: American IPA | AT6: 100-400 | AU6: 0-100 | AV6: 50-150 | AW6: 0-20 | AX6: -3-0 °dH
V7: bitte auswählen | W7: 0 | X7: 0 | Y7: 0 | Z7: 0 | AA7: 0 | AB7: 0 | AS7: American Lager | AT7: 0-50 | AU7: 50-100 | AV7: 30-50 | AW7: 0-20 | AX7: -3-0 dH
B8: v1.1 (18.09.2023) | C8: neu: Phosphorsäure als Zuschlagstoff | V8: REWE ja! Natürliches Mineralwasser still | W8: 174 | X8: 89 | Y8: 26 | Z8: 86 | AA8: 7 | AB8: 7.5 | AS8: American Pale Ale | AT8: 100-400 | AU8: 0-100 | AV8: 50-150 | AW8: 0-20 | AX8: -3-0 °dH
C9: Zielwertrechner konsolidiert (kein hin und herscrollen mehr) | I9: Mehr Chlorid: Verbessert und unterstützt das Malzaroma, es verstärkt den Körper des Bieres | V9: Netto Naturalis still Clara Quelle | W9: 125 | X9: 0 | Y9: 5.2 | Z9: 32 | AA9: 4 | AB9: 9.1 | AS9: Barleywine | AT9: 50-100 | AU9: 50-150 | AV9: 50-100 | AW9: 0-20 | AX9: 0-5 °dH
C10: Monitor Farben harmonisiert | I10: Mehr Sulfat: Verstärkt und unterstützt die Bittere und erzeugt schlankere Biere | S10: hier die eigenen Wässer | AS10: Belgische Ales | AT10: 50-100 | AU10: 50-100 | AV10: 50-100 | AW10: 0-20 | AX10: 0 °dH
S11: ergänzen, die beiden Beispiele | AS11: Best Bitter | AT11: 100-200 | AU11: 50-100 | AV11: 50-150 | AW11: 0-25 | AX11: 0-5 °dH
B12: v1.2 (19.09.2023) | C12: neu: Einheitenauswahl bei HCO3- Eingabe Wasserversorger | S12: können auch gelöscht werden | AS12: Blonde | AT12: 50-100 | AU12: 50-100 | AV12: 50-100 | AW12: 0-20 | AX12: 0 °dH
I13: Gesamthärte berechnet aus Ca2+ und MG2+: | AS13: Böhmisches Pilsener | AT13: 0-50 | AU13: 0-50 | AV13: 0-30 | AW13: 0-20 | AX13: -2-0°dH
B14: v1.3 (21.09.2023) | C14: Monitor: Tachoskalen eingefügt | I14: (Quelle: ChatGPT) | K14: ='Wasserversorger & Aufbereitung'!G20/7.14+'Wasserversorger & Aufbereitung'!G21/4.35 -> 6.2721916 | AS14: Brown Ale | AT14: 50-100 | AU14: 50-150 | AV14: 50-100 | AW14: 0-20 | AX14: 0-5 °dH
C15: einige optische Anpassungen | AS15: Cream Ale | AT15: 0-50 | AU15: 0-100 | AV15: 50-100 | AW15: 0-25 | AX15: -3-0 °dH
C16: verlorengegangene bedingte Formatierungen wiederhergestellt | AS16: Deutsches Pils | AT16: 50-150 | AU16: 50-100 | AV16: 50-75 | AW16: 0-20 | AX16: -5-0 °dH
C17: Infos und Hilfsdaten auf separates Tabellenblatt | I17: Dropdown Auswahl für HCO3- | N17: Dropdown Auswahl für Einheit bei Säuren/Lösungen | AS17: Doppelbock | AT17: 0-100 | AU17: 50-150 | AV17: 50-75 | AW17: 0-20 | AX17: 5-10 °dH
I18: mmol/l | J18: oft angegeben als Säurekapazität@pH4,3 | N18: [g] | AS18: Dortmunder Export | AT18: 100-200 | AU18: 50-100 | AV18: 75-100 | AW18: 0-20 | AX18: 0-2 °dH
B19: v2.0 (26.09.2023) | C19: Zielmengenrechner auf eigenes Tabellenblatt und überarbeitet | I19: mg/l | N19: [ml] | AS19: Dunkles Bockbier | AT19: 0-100 | AU19: 50-100 | AV19: 50-100 | AW19: 0-25 | AX19: 10 °dH
C20: neu: Möglichkeit Verschnitt mit Kaufwasser | N20: Dropdown Auswahl für Malztyp bei pH-Wertprognose | AS20: Dunkles Lagerbier | AT20: 0-50 | AU20: 50-150 | AV20: 50-75 | AW20: 0-25 | AX20: 3-6 °dH
C21: neu: Bierstilauswahl per dropdown zeigt informativ die | N21: Malz oder Röstmalz | AS21: English IPA | AT21: 100-300 | AU21: 50-100 | AV21: 50-150 | AW21: 0-25 | AX21: 0-5 °dH
C22: typische Ionenkonzentration und Restalkalität | N22: Caramalz | AS22: Extra Special Bitter (ESB) | AT22: 100-300 | AU22: 50-100 | AV22: 50-150 | AW22: 0-25 | AX22: 0-5 °dH
B23: v2.1 (29.09.2023) | C23: neu: Stoffgabe Calciumchlorid auch als 33%ige Lösung möglich | I23: Säure | J23: Gabe für -1 °dH Restalkalität pro hl Brauwasser | K23: Zusätzliche Salze pro -1 °dH | AS23: Extra Stout | AT23: 50-150 | AU23: 50-150 | AV23: 50-75 | AW23: 15-35 | AX23: 5-10 °dH
C24: neu: Einheit für Säuren und Lösungen in Gramm oder Milliliter auswählbar | I24: Milchsäure 80% | J24: 3,32 ml (4,0 g) | K24: + 32 mg/l Lactat | AS24: Festbier | AT24: 0-100 | AU24: 50-150 | AV24: 50-75 | AW24: 0-25 | AX24: 0-5°dH
C25: diverse optische Anpassungen | I25: Salzsäure 10% | J25: 12,4 ml (13,0 g) | K25: +13 mg/l Chlorid | AS25: Fränkisch Dunkel | AT25: 0-50 | AU25: 50-150 | AV25: 50-75 | AW25: 0-25 | AX25: 3-6 °dH
I26: Schwefelsäure 10% | J26: 16,4 ml (17,5 g) | K26: +17 mg/l Sulfat | AS26: Helles Ale | AT26: 100-200 | AU26: 50-100 | AV26: 50-100 | AW26: 0-25 | AX26: -5-0 °dH
B27: v3.0 (10.10.2023) | C27: neu: pH-Wert Prognose der Maische und Indikation Korrektur Restalkalität | AL27: Hilfsdaten für Tachoanzeige Sulfad zu Chlorid im Monitor | AS27: Helles Bockbier | AT27: 0-100 | AU27: 50-150 | AV27: 50-75 | AW27: 0-20 | AX27: 5-10 °dH
AM28: in Prozent | AO28: Sulfat zu Chlorid | AP28: =10^AP29 -> 1.2941176 | AS28: Helles Lagerbier | AT28: 0-50 | AU28: 50-100 | AV28: 30-50 | AW28: 0-20 | AX28: -3-0 dH
AL29: Wert | AM29: =LOG10('Wasserversorger & Aufbereitung'!BK30)-(LOG10('Wasserversorger & Aufbereitung'!BK30)/12) -> 0.10264261 | AO29: ='Wasserversorger & Aufbereitung'!BK30 -> 1.2941176 | AP29: =LOG10(AO29) -> 0.11197376 | AS29: Irish Dry Stout | AT29: 50-150 | AU29: 50-100 | AV29: 50-75 | AW29: 15-35 | AX29: 2-7 °dH
I30: Dichtetabelle Schwefelsäure | W30: Dichte von Phosphorsäure | AA30: Dichtetabelle Salzsäure | AS30: Kölsch | AT30: 0-50 | AU30: 0-100 | AV30: 50-100 | AW30: 0-25 | AX30: -3-0 °dH
I31: % H2SO4 | J31: 0 °C | K31: 10 °C | L31: 15 °C | M31: 20 °C | N31: 25 °C | O31: 30 °C | P31: 40 °C | Q31: 50 °C | R31: 60 °C | S31: 80 °C | T31: 100 °C | W31: Gew. % H3PO4 | X31: Dichte bei 20°C (g/cm³) | AA31: % HCl | AB31: -5 °C | AC31: 0 °C | AD31: 10 °C | AE31: 20 °C | AF31: 40 °C | AG31: 60 °C | AH31: 80 °C | AI31: 100 °C | AL31: Segmente | AM31: Zeiger | AN31: Segmente | AS31: Maibock | AT31: 0-100 | AU31: 50-150 | AV31: 50-75 | AW31: 0-20 | AX31: 5-10 °dH
I32: 1 | J32: 1.0074 | K32: 1.0068 | L32: 1.006 | M32: 1.0051 | N32: 1.0038 | O32: 1.0022 | P32: 0.9986 | Q32: 0.9944 | R32: 0.9895 | S32: 0.9779 | T32: 0.9645 | AA32: 1 | AB32: 1.0048 | AC32: 1.0052 | AD32: 1.0048 | AE32: 1.0032 | AF32: 0.997 | AG32: 0.9881 | AH32: 0.9768 | AI32: 0.9636 | AM32: =AM29+1 -> 1.1026426 | AN32: 20 | AO32: 0.1 | AP32: =LOG10(AO32) -> -1 | AS32: Märzen | AT32: 0-100 | AU32: 50-150 | AV32: 50-75 | AW32: 0-25 | AX32: 0-5°dH
I33: 2 | J33: 1.0147 | K33: 1.0138 | L33: 1.0129 | M33: 1.0118 | N33: 1.0104 | O33: 1.0087 | P33: 1.005 | Q33: 1.0006 | R33: 0.9956 | S33: 0.9839 | T33: 0.9705 | W33: 1 | X33: 1.0038 | AA33: 2 | AB33: 1.0104 | AC33: 1.0106 | AD33: 1.01 | AE33: 1.0082 | AF33: 1.0019 | AG33: 0.993 | AH33: 0.9819 | AI33: 0.9688 | AL33: =AM32-1 -> 0.10264261 | AM33: 0 | AN33: 20 | AO33: =10^AP33 -> 0.14677993 | AP33: =$AP$38-(($AP$44-$AP$38)*5/6) -> -0.83333333 | AS33: Mild Ale | AT33: 100-200 | AU33: 50-100 | AV33: 50-150 | AW33: 0-25 | AX33: 0-5 °dH
I34: 3 | J34: 1.0219 | K34: 1.0206 | L34: 1.0197 | M34: 1.0184 | N34: 1.0169 | O34: 1.0152 | P34: 1.0113 | Q34: 1.0067 | R34: 1.0017 | S34: 0.99 | T34: 0.9766 | W34: 2 | X34: 1.0092 | AA34: 4 | AB34: 1.0213 | AC34: 1.0213 | AD34: 1.0202 | AE34: 1.0181 | AF34: 1.0116 | AG34: 1.0026 | AH34: 0.9919 | AI34: 0.9791 | AM34: =AM35-AM32 -> 0.89735739 | AN34: 20 | AO34: =10^AP34 -> 0.21544347 | AP34: =$AP$38-(($AP$44-$AP$38)*4/6) -> -0.66666667 | AS34: Münchner Dunkel | AT34: 0-50 | AU34: 50-150 | AV34: 50-75 | AW34: 0-25 | AX34: 3-6 °dH
I35: 4 | J35: 1.0291 | K35: 1.0275 | L35: 1.0264 | M35: 1.025 | N35: 1.0234 | O35: 1.0216 | P35: 1.0176 | Q35: 1.0129 | R35: 1.0078 | S35: 0.9961 | T35: 0.9827 | W35: 3 | X35: 1.0146 | AA35: 6 | AB35: 1.0321 | AC35: 1.0319 | AD35: 1.0303 | AE35: 1.0279 | AF35: 1.0211 | AG35: 1.0121 | AH35: 1.0016 | AI35: 0.9892 | AM35: 2 | AN35: 20 | AO35: =10^AP35 -> 0.31622777 | AP35: =$AP$38-(($AP$44-$AP$38)*3/6) -> -0.5 | AS35: Münchner Helles | AT35: 0-50 | AU35: 50-100 | AV35: 30-50 | AW35: 0-20 | AX35: -3-0 dH
I36: 5 | J36: 1.0364 | K36: 1.0344 | L36: 1.0332 | M36: 1.0317 | N36: 1.03 | O36: 1.0281 | P36: 1.024 | Q36: 1.0192 | R36: 1.014 | S36: 1.0022 | T36: 0.9888 | W36: 4 | X36: 1.02 | AA36: 8 | AB36: 1.0428 | AC36: 1.0423 | AD36: 1.0403 | AE36: 1.0376 | AF36: 1.0305 | AG36: 1.0215 | AH36: 1.0111 | AI36: 0.9992 | AN36: 20 | AO36: =10^AP36 -> 0.46415888 | AP36: =$AP$38-(($AP$44-$AP$38)*2/6) -> -0.33333333 | AS36: Oatmeal Stout | AT36: 50-150 | AU36: 50-150 | AV36: 50-75 | AW36: 15-35 | AX36: 5-10 °dH
I37: 6 | J37: 1.0437 | K37: 1.0414 | L37: 1.04 | M37: 1.0385 | N37: 1.0367 | O37: 1.0347 | P37: 1.0305 | Q37: 1.0256 | R37: 1.0203 | S37: 1.0084 | T37: 1 | W37: 5 | X37: 1.0255 | AA37: 10 | AB37: 1.0536 | AC37: 1.0528 | AD37: 1.0504 | AE37: 1.0474 | AF37: 1.04 | AG37: 1.031 | AH37: 1.0206 | AI37: 1.009 | AN37: 20 | AO37: =10^AP37 -> 0.68129207 | AP37: =$AP$38-(($AP$44-$AP$38)*1/6) -> -0.16666667 | AS37: Ordinary Bitter | AT37: 100-200 | AU37: 50-100 | AV37: 50-100 | AW37: 0-25 | AX37: -5-0 °dH
I38: 7 | J38: 1.0511 | K38: 1.0485 | L38: 1.0469 | M38: 1.0453 | N38: 1.0434 | O38: 1.0414 | P38: 1.0371 | Q38: 1.0321 | R38: 1.0266 | S38: 1.0146 | T38: 1.0013 | W38: 6 | X38: 1.0309 | AA38: 12 | AB38: 1.0645 | AC38: 1.0634 | AD38: 1.0607 | AE38: 1.0574 | AF38: 1.0497 | AG38: 1.0406 | AH38: 1.0302 | AI38: 1.0188 | AN38: 20 | AO38: 1 | AP38: =LOG10(AO38) -> 0 | AS38: Porter | AT38: 50-150 | AU38: 50-100 | AV38: 50-75 | AW38: 15-35 | AX38: 2-7 °dH
I39: 8 | J39: 1.0585 | K39: 1.0556 | L39: 1.0539 | M39: 1.0522 | N39: 1.0502 | O39: 1.0481 | P39: 1.0437 | Q39: 1.0386 | R39: 1.033 | S39: 1.0209 | T39: 1.0076 | W39: 7 | X39: 1.0365 | AA39: 14 | AB39: 1.0754 | AC39: 1.0741 | AD39: 1.0711 | AE39: 1.0675 | AF39: 1.0594 | AG39: 1.0502 | AH39: 1.0398 | AI39: 1.0286 | AN39: 20 | AO39: =10^AP39 -> 1.4677993 | AP39: =$AP$38+(($AP$44-$AP$38)*1/6) -> 0.16666667 | AS39: Premium Lager | AT39: 50-150 | AU39: 50-100 | AV39: 50-75 | AW39: 0-20 | AX39: -5-0 °dH
I40: 9 | J40: 1.066 | K40: 1.0628 | L40: 1.061 | M40: 1.0591 | N40: 1.0571 | O40: 1.0549 | P40: 1.0503 | Q40: 1.0451 | R40: 1.0395 | S40: 1.0273 | T40: 1.014 | W40: 8 | X40: 1.042 | AA40: 16 | AB40: 1.0864 | AC40: 1.0849 | AD40: 1.0815 | AE40: 1.0776 | AF40: 1.0692 | AG40: 1.0598 | AH40: 1.0494 | AI40: 1.0383 | AN40: 20 | AO40: =10^AP40 -> 2.1544347 | AP40: =$AP$38+(($AP$44-$AP$38)*2/6) -> 0.33333333 | AS40: Russian Imperial Stout | AT40: 50-150 | AU40: 50-150 | AV40: 50-75 | AW40: 0-25 | AX40: 8-15 °dH
I41: 10 | J41: 1.0735 | K41: 1.07 | L41: 1.0681 | M41: 1.0661 | N41: 1.064 | O41: 1.0617 | P41: 1.057 | Q41: 1.0517 | R41: 1.046 | S41: 1.0338 | T41: 1.0204 | W41: 9 | X41: 1.0476 | AA41: 18 | AB41: 1.0975 | AC41: 1.0958 | AD41: 1.092 | AE41: 1.0878 | AF41: 1.079 | AG41: 1.0694 | AH41: 1.059 | AI41: 1.0479 | AN41: 20 | AO41: =10^AP41 -> 3.1622777 | AP41: =$AP$38+(($AP$44-$AP$38)*3/6) -> 0.5 | AS41: Schwarzbier | AT41: 0-50 | AU41: 50-150 | AV41: 50-75 | AW41: 0-25 | AX41: 3-6 °dH
I42: 12 | J42: 1.0886 | K42: 1.0846 | L42: 1.0825 | M42: 1.0802 | N42: 1.078 | O42: 1.0756 | P42: 1.0705 | Q42: 1.0651 | R42: 1.0593 | S42: 1.0469 | T42: 1.0335 | W42: 10 | X42: 1.0532 | AA42: 20 | AB42: 1.1087 | AC42: 1.1067 | AD42: 1.1025 | AE42: 1.098 | AF42: 1.0888 | AG42: 1.079 | AH42: 1.0685 | AI42: 1.0574 | AN42: 20 | AO42: =10^AP42 -> 4.6415888 | AP42: =$AP$38+(($AP$44-$AP$38)*4/6) -> 0.66666667 | AS42: Scotch Ale | AT42: 100-200 | AU42: 50-100 | AV42: 50-150 | AW42: 0-25 | AX42: 0-5 °dH
I43: 14 | J43: 1.1039 | K43: 1.0994 | L43: 1.0971 | M43: 1.0947 | N43: 1.0922 | O43: 1.0897 | P43: 1.0844 | Q43: 1.0788 | R43: 1.0729 | S43: 1.0603 | T43: 1.0469 | W43: 11 | X43: 1.059 | AA43: 22 | AB43: 1.12 | AC43: 1.1177 | AD43: 1.1131 | AE43: 1.1083 | AF43: 1.0986 | AG43: 1.0886 | AH43: 1.078 | AI43: 1.0668 | AN43: 20 | AO43: =10^AP43 -> 6.8129207 | AP43: =$AP$38+(($AP$44-$AP$38)*5/6) -> 0.83333333 | AS43: Strong Scotch Ale | AT43: 50-100 | AU43: 50-150 | AV43: 50-100 | AW43: 0-20 | AX43: 0-5 °dH
I44: 16 | J44: 1.1194 | K44: 1.1145 | L44: 1.112 | M44: 1.1094 | N44: 1.1067 | O44: 1.104 | P44: 1.0985 | Q44: 1.0927 | R44: 1.0868 | S44: 1.074 | T44: 1.0605 | W44: 12 | X44: 1.0647 | AA44: 24 | AB44: 1.1314 | AC44: 1.1287 | AD44: 1.1238 | AE44: 1.1187 | AF44: 1.1085 | AG44: 1.0982 | AH44: 1.0874 | AI44: 1.0761 | AN44: 20 | AO44: 10 | AP44: =LOG10(AO44) -> 1 | AS44: Sweet Stout | AT44: 50-150 | AU44: 50-150 | AV44: 50-75 | AW44: 15-35 | AX44: 5-10 °dH
I45: 18 | J45: 1.1351 | K45: 1.1298 | L45: 1.1271 | M45: 1.1243 | N45: 1.1215 | O45: 1.1187 | P45: 1.1129 | Q45: 1.107 | R45: 1.1009 | S45: 1.0879 | T45: 1.0744 | W45: 13 | X45: 1.0705 | AA45: 26 | AB45: 1.1426 | AC45: 1.1396 | AD45: 1.1344 | AE45: 1.129 | AF45: 1.1183 | AG45: 1.1076 | AH45: 1.0967 | AI45: 1.0853 | AN45: 260 | AS45: Tripel | AT45: 50-100 | AU45: 50-100 | AV45: 50-100 | AW45: 0-20 | AX45: 0 °dH
I46: 20 | J46: 1.151 | K46: 1.1453 | L46: 1.1424 | M46: 1.1394 | N46: 1.1365 | O46: 1.1335 | P46: 1.1275 | Q46: 1.1215 | R46: 1.1153 | S46: 1.1021 | T46: 1.0885 | W46: 14 | X46: 1.0764 | AA46: 28 | AB46: 1.1537 | AC46: 1.1505 | AD46: 1.1449 | AE46: 1.1392 | AF46: 1.128 | AG46: 1.1169 | AH46: 1.1058 | AI46: 1.0942 | AS46: Weizenbier | AT46: 0-50 | AU46: 50-100 | AV46: 50-100 | AW46: 0-20 | AX46: 5-10 °dH
I47: 22 | J47: 1.167 | K47: 1.1609 | L47: 1.1579 | M47: 1.1548 | N47: 1.1517 | O47: 1.1486 | P47: 1.1424 | Q47: 1.1362 | R47: 1.1299 | S47: 1.1166 | T47: 1.1029 | W47: 15 | X47: 1.0824 | AA47: 30 | AB47: 1.1648 | AC47: 1.1613 | AD47: 1.1553 | AE47: 1.1493 | AF47: 1.1376 | AG47: 1.126 | AH47: 1.1149 | AI47: 1.103 | AS47: Weizenbock | AT47: 0-50 | AU47: 50-100 | AV47: 50-100 | AW47: 0-20 | AX47: 5-10 °dH
I48: 24 | J48: 1.1832 | K48: 1.1768 | L48: 1.1736 | M48: 1.1704 | N48: 1.1672 | O48: 1.164 | P48: 1.1576 | Q48: 1.1512 | R48: 1.1448 | S48: 1.1313 | T48: 1.1176 | W48: 16 | X48: 1.0884 | AA48: 32 | AB48: 1.1814 | AC48: 1.1763 | AD48: 1.1674 | AE48: 1.1593 | AF48: 1.1471 | AG48: 1.1359 | AH48: 1.1246 | AI48: 1.1126 | AS48: Wit | AT48: 0-50 | AU48: 0-100 | AV48: 50-100 | AW48: 0-25 | AX48: -3-0 °dH
I49: 26 | J49: 1.1996 | K49: 1.1929 | L49: 1.1896 | M49: 1.1862 | N49: 1.1829 | O49: 1.1796 | P49: 1.173 | Q49: 1.1665 | R49: 1.1599 | S49: 1.1463 | T49: 1.1325 | W49: 17 | X49: 1.0946 | AA49: 34 | AB49: 1.1929 | AC49: 1.1876 | AD49: 1.1781 | AE49: 1.1691 | AF49: 1.1566 | AG49: 1.1452 | AH49: 1.1339 | AI49: 1.1216
I50: 28 | J50: 1.216 | K50: 1.2091 | L50: 1.2057 | M50: 1.2023 | N50: 1.1989 | O50: 1.1955 | P50: 1.1887 | Q50: 1.182 | R50: 1.1753 | S50: 1.1616 | T50: 1.1476 | W50: 18 | X50: 1.1008 | AA50: 36 | AB50: 1.2043 | AC50: 1.1988 | AD50: 1.1889 | AE50: 1.1789 | AF50: 1.1661 | AG50: 1.1544 | AH50: 1.1432 | AI50: 1.1305
I51: 30 | J51: 1.2326 | K51: 1.2255 | L51: 1.222 | M51: 1.2185 | N51: 1.215 | O51: 1.2115 | P51: 1.2046 | Q51: 1.1977 | R51: 1.1909 | S51: 1.1771 | T51: 1.163 | W51: 19 | X51: 1.1071 | AA51: 38 | AB51: 1.2156 | AC51: 1.21 | AD51: 1.1996 | AE51: 1.1885 | AF51: 1.1754 | AG51: 1.1635 | AH51: 1.1525 | AI51: 1.1393 | AL51: Hilfsdaten für Tachoanzeige KH zu NKH im Monitor
I52: 32 | J52: 1.2493 | K52: 1.2421 | L52: 1.2385 | M52: 1.2349 | N52: 1.2314 | O52: 1.2278 | P52: 1.2207 | Q52: 1.2137 | R52: 1.2068 | S52: 1.1928 | T52: 1.1787 | W52: 20 | X52: 1.1134 | AA52: 40 | AE52: 1.198 | AM52: in Prozent | AO52: KH zu NKH | AP52: =10^AP53 -> 2.4997327
I53: 34 | J53: 1.2661 | K53: 1.2588 | L53: 1.2552 | M53: 1.2515 | N53: 1.2479 | O53: 1.2443 | P53: 1.2371 | Q53: 1.23 | R53: 1.2229 | S53: 1.2088 | T53: 1.1946 | W53: 21 | X53: 1.1199 | AL53: Wert | AM53: =LOG10('Wasserversorger & Aufbereitung'!BK28)-LOG10(AO62)-(LOG10('Wasserversorger & Aufbereitung'!BK28)-LOG10(AO62))/12.5 -> 0.68510657 | AO53: ='Wasserversorger & Aufbereitung'!BK28 -> 2.4997327 | AP53: =LOG10(AO53) -> 0.39789357
I54: 36 | J54: 1.2831 | K54: 1.2757 | L54: 1.272 | M54: 1.2684 | N54: 1.2647 | O54: 1.261 | P54: 1.2538 | Q54: 1.2466 | R54: 1.2394 | S54: 1.2251 | T54: 1.2109 | W54: 22 | X54: 1.1263
I55: 38 | J55: 1.3004 | K55: 1.2929 | L55: 1.2891 | M55: 1.2855 | N55: 1.2818 | O55: 1.278 | P55: 1.2707 | Q55: 1.2635 | R55: 1.2561 | S55: 1.2418 | T55: 1.2276 | W55: 23 | X55: 1.1329 | AL55: Segmente | AM55: Zeiger | AN55: Segmente
I56: 40 | J56: 1.3179 | K56: 1.3103 | L56: 1.3065 | M56: 1.3028 | N56: 1.2991 | O56: 1.2953 | P56: 1.288 | Q56: 1.2806 | R56: 1.2732 | S56: 1.2589 | T56: 1.2446 | W56: 24 | X56: 1.1395 | AM56: =AM53+1 -> 1.6851066 | AN56: 20 | AO56: 0.045 | AP56: =LOG10(AO56) -> -1.3467875
I57: 42 | J57: 1.3357 | K57: 1.328 | L57: 1.3242 | M57: 1.3205 | N57: 1.3167 | O57: 1.3129 | P57: 1.3055 | Q57: 1.2981 | R57: 1.2907 | S57: 1.2762 | T57: 1.2619 | W57: 25 | X57: 1.1462 | AL57: =AM56-1 -> 0.68510657 | AM57: 0 | AN57: 20 | AO57: =10^AP57 -> 0.066050967 | AP57: =$AP$62-(($AP$68-$AP$62)*5/6) -> -1.1801208
I58: 44 | J58: 1.3538 | K58: 1.3461 | L58: 1.3423 | M58: 1.3384 | N58: 1.3346 | O58: 1.3308 | P58: 1.3234 | Q58: 1.316 | R58: 1.3086 | S58: 1.2939 | T58: 1.2796 | W58: 26 | X58: 1.1529 | AM58: =AM59-AM56 -> 0.31489343 | AN58: 20 | AO58: =10^AP58 -> 0.096949561 | AP58: =$AP$62-(($AP$68-$AP$62)*4/6) -> -1.0134542
I59: 46 | J59: 1.3724 | K59: 1.3646 | L59: 1.3608 | M59: 1.3569 | N59: 1.353 | O59: 1.3492 | P59: 1.3417 | Q59: 1.3343 | R59: 1.3269 | S59: 1.312 | T59: 1.2976 | W59: 27 | X59: 1.1597 | AM59: 2 | AN59: 20 | AO59: =10^AP59 -> 0.14230249 | AP59: =$AP$62-(($AP$68-$AP$62)*3/6) -> -0.84678749
I60: 48 | J60: 1.3915 | K60: 1.3835 | L60: 1.3797 | M60: 1.3758 | N60: 1.3719 | O60: 1.368 | P60: 1.3604 | Q60: 1.3528 | R60: 1.3455 | S60: 1.3305 | T60: 1.3159 | W60: 28 | X60: 1.1665 | AN60: 20 | AO60: =10^AP60 -> 0.2088715 | AP60: =$AP$62-(($AP$68-$AP$62)*2/6) -> -0.68012082
I61: 50 | J61: 1.411 | K61: 1.4029 | L61: 1.399 | M61: 1.3951 | N61: 1.3911 | O61: 1.3872 | P61: 1.3795 | Q61: 1.3719 | R61: 1.3644 | S61: 1.3494 | T61: 1.3348 | W61: 29 | X61: 1.1735 | AN61: 20 | AO61: =10^AP61 -> 0.30658143 | AP61: =$AP$62-(($AP$68-$AP$62)*1/6) -> -0.51345415
I62: 52 | J62: 1.431 | K62: 1.4228 | L62: 1.4188 | M62: 1.4148 | N62: 1.4109 | O62: 1.4069 | P62: 1.3991 | Q62: 1.3914 | R62: 1.3837 | S62: 1.3687 | T62: 1.354 | W62: 30 | X62: 1.1805 | AN62: 20 | AO62: 0.45 | AP62: =LOG10(AO62) -> -0.34678749
I63: 54 | J63: 1.4515 | K63: 1.4431 | L63: 1.4391 | M63: 1.435 | N63: 1.431 | O63: 1.427 | P63: 1.4191 | Q63: 1.4113 | R63: 1.4036 | S63: 1.3884 | T63: 1.3735 | W63: 35 | X63: 1.216 | AN63: 20 | AO63: =10^AP63 -> 0.66050967 | AP63: =(($AP$68-$AP$62)*1/6)+$AP$62 -> -0.18012082
I64: 56 | J64: 1.4724 | K64: 1.464 | L64: 1.4598 | M64: 1.4557 | N64: 1.4516 | O64: 1.4475 | P64: 1.4396 | Q64: 1.4317 | R64: 1.4239 | S64: 1.4085 | T64: 1.3934 | W64: 40 | X64: 1.254 | AN64: 20 | AO64: =10^AP64 -> 0.96949561 | AP64: =(($AP$68-$AP$62)*2/6)+$AP$62 -> -0.013454153
I65: 58 | J65: 1.4937 | K65: 1.4852 | L65: 1.4809 | M65: 1.4768 | N65: 1.4726 | O65: 1.4685 | P65: 1.4604 | Q65: 1.4524 | R65: 1.4446 | S65: 1.429 | T65: 1.4137 | W65: 45 | X65: 1.293 | AN65: 20 | AO65: =10^AP65 -> 1.4230249 | AP65: =(($AP$68-$AP$62)*3/6)+$AP$62 -> 0.15321251
I66: 60 | J66: 1.5154 | K66: 1.5067 | L66: 1.5024 | M66: 1.4983 | N66: 1.494 | O66: 1.4898 | P66: 1.4816 | Q66: 1.4735 | R66: 1.4656 | S66: 1.4497 | T66: 1.4344 | W66: 50 | X66: 1.335 | AN66: 20 | AO66: =10^AP66 -> 2.088715 | AP66: =(($AP$68-$AP$62)*4/6)+$AP$62 -> 0.31987918
I67: 62 | J67: 1.5375 | K67: 1.5287 | L67: 1.5243 | M67: 1.52 | N67: 1.5157 | O67: 1.5115 | P67: 1.5031 | Q67: 1.495 | R67: 1.4869 | S67: 1.4708 | T67: 1.4554 | W67: 55 | X67: 1.379 | AN67: 20 | AO67: =10^AP67 -> 3.0658143 | AP67: =(($AP$68-$AP$62)*5/6)+$AP$62 -> 0.48654585
I68: 64 | J68: 1.56 | K68: 1.551 | L68: 1.5465 | M68: 1.5421 | N68: 1.5378 | O68: 1.5335 | P68: 1.525 | Q68: 1.5167 | R68: 1.5086 | S68: 1.4923 | T68: 1.4766 | W68: 60 | X68: 1.426 | AN68: 20 | AO68: 4.5 | AP68: =LOG10(AO68) -> 0.65321251
I69: 66 | J69: 1.5828 | K69: 1.5736 | L69: 1.5691 | M69: 1.5646 | N69: 1.5602 | O69: 1.5558 | P69: 1.5472 | Q69: 1.5388 | R69: 1.5305 | S69: 1.514 | T69: 1.4981 | W69: 65 | X69: 1.476 | AN69: 260
I70: 68 | J70: 1.6059 | K70: 1.5965 | L70: 1.592 | M70: 1.5874 | N70: 1.5829 | O70: 1.5785 | P70: 1.5697 | Q70: 1.5611 | R70: 1.5528 | S70: 1.5359 | T70: 1.5198 | W70: 70 | X70: 1.526
I71: 70 | J71: 1.6293 | K71: 1.6198 | L71: 1.6151 | M71: 1.6105 | N71: 1.6059 | O71: 1.6014 | P71: 1.5925 | Q71: 1.5838 | R71: 1.5753 | S71: 1.5582 | T71: 1.5417 | W71: 75 | X71: 1.579
I72: 72 | J72: 1.6529 | K72: 1.6433 | L72: 1.6385 | M72: 1.6338 | N72: 1.6292 | O72: 1.6246 | P72: 1.6155 | Q72: 1.6067 | R72: 1.5981 | S72: 1.5806 | T72: 1.5637 | W72: 80 | X72: 1.633
I73: 74 | J73: 1.6768 | K73: 1.667 | L73: 1.6622 | M73: 1.6574 | N73: 1.6526 | O73: 1.648 | P73: 1.6387 | Q73: 1.6297 | R73: 1.6209 | S73: 1.6031 | T73: 1.5857 | W73: 85 | X73: 1.689
I74: 76 | J74: 1.7008 | K74: 1.6908 | L74: 1.6858 | M74: 1.681 | N74: 1.6761 | O74: 1.6713 | P74: 1.6619 | Q74: 1.6526 | R74: 1.6435 | S74: 1.6252 | T74: 1.6074 | W74: 90 | X74: 1.746
I75: 78 | J75: 1.7247 | K75: 1.7144 | L75: 1.7093 | M75: 1.7043 | N75: 1.6994 | O75: 1.6944 | P75: 1.6847 | Q75: 1.6751 | R75: 1.6657 | S75: 1.6469 | T75: 1.6286 | W75: 92 | X75: 1.77 | AL75: Hilfsdaten für Tachoanzeige pH-Wert Prognose im Monitor
I76: 80 | J76: 1.7482 | K76: 1.7376 | L76: 1.7323 | M76: 1.7272 | N76: 1.7221 | O76: 1.717 | P76: 1.7069 | Q76: 1.6971 | R76: 1.6873 | S76: 1.668 | T76: 1.6493 | W76: 94 | X76: 1.794 | AM76: in Prozent
I77: 82 | J77: 1.7709 | K77: 1.7599 | L77: 1.7544 | M77: 1.7491 | N77: 1.7437 | O77: 1.7385 | P77: 1.7281 | Q77: 1.718 | R77: 1.708 | S77: 1.6882 | T77: 1.6692 | W77: 96 | X77: 1.819 | AL77: Wert | AM77: =('pH-Wert Maische'!Y30-'Infos & Hilfseinträge'!AO85)*2-(('pH-Wert Maische'!Y30-'Infos & Hilfseinträge'!AO85)/5.5) -> 0.35109299
I78: 84 | J78: 1.7916 | K78: 1.7804 | L78: 1.7748 | M78: 1.7693 | N78: 1.7639 | O78: 1.7585 | P78: 1.7479 | Q78: 1.7375 | R78: 1.7274 | S78: 1.7072 | T78: 1.6878 | W78: 98 | X78: 1.844
I79: 86 | J79: 1.8095 | K79: 1.7983 | L79: 1.7927 | M79: 1.7872 | N79: 1.7818 | O79: 1.7763 | P79: 1.7657 | Q79: 1.7552 | R79: 1.7449 | S79: 1.7245 | T79: 1.705 | W79: 100 | X79: 1.87 | AL79: Segmente | AM79: Zeiger | AN79: Segmente
I80: 88 | J80: 1.8243 | K80: 1.8132 | L80: 1.8077 | M80: 1.8022 | N80: 1.7968 | O80: 1.7914 | P80: 1.7809 | Q80: 1.7705 | R80: 1.7602 | S80: 1.7397 | T80: 1.7202 | AM80: =AM77+1 -> 1.351093 | AN80: 20 | AO80: 5
I81: 90 | J81: 1.8361 | K81: 1.8252 | L81: 1.8198 | M81: 1.8144 | N81: 1.8091 | O81: 1.8038 | P81: 1.7933 | Q81: 1.7829 | R81: 1.7729 | S81: 1.7525 | T81: 1.7331 | AL81: =AM80-1 -> 0.35109299 | AM81: 0 | AN81: 20 | AO81: 5.1
I82: 91 | J82: 1.841 | K82: 1.8302 | L82: 1.8248 | M82: 1.8195 | N82: 1.8142 | O82: 1.809 | P82: 1.7986 | Q82: 1.7883 | R82: 1.7783 | S82: 1.7581 | T82: 1.7388 | AM82: =AM83-AM80 -> 0.64890701 | AN82: 20 | AO82: 5.2
I83: 92 | J83: 1.8453 | K83: 1.8346 | L83: 1.8293 | M83: 1.824 | N83: 1.8188 | O83: 1.8136 | P83: 1.8033 | Q83: 1.7932 | R83: 1.7832 | S83: 1.7633 | T83: 1.7439 | AM83: 2 | AN83: 20 | AO83: 5.3
I84: 93 | J84: 1.849 | K84: 1.8384 | L84: 1.8331 | M84: 1.8279 | N84: 1.8227 | O84: 1.8176 | P84: 1.8074 | Q84: 1.7974 | R84: 1.7876 | S84: 1.7681 | T84: 1.7485 | AN84: 20 | AO84: 5.4
I85: 94 | J85: 1.852 | K85: 1.8415 | L85: 1.8363 | M85: 1.8312 | N85: 1.826 | O85: 1.821 | P85: 1.8109 | Q85: 1.8011 | R85: 1.7914 | AN85: 20 | AO85: 5.5
I86: 95 | J86: 1.8544 | K86: 1.8439 | L86: 1.8388 | M86: 1.8337 | N86: 1.8286 | O86: 1.8236 | P86: 1.8137 | Q86: 1.804 | R86: 1.7944 | AN86: 20 | AO86: 5.6
I87: 96 | J87: 1.856 | K87: 1.8457 | L87: 1.8406 | M87: 1.8355 | N87: 1.8305 | O87: 1.8255 | P87: 1.8157 | Q87: 1.806 | R87: 1.7965 | AN87: 20 | AO87: 5.7
I88: 97 | J88: 1.8569 | K88: 1.8466 | L88: 1.8414 | M88: 1.8364 | N88: 1.8314 | O88: 1.8264 | P88: 1.8166 | Q88: 1.8071 | R88: 1.7977 | AN88: 20 | AO88: 5.8
I89: 98 | J89: 1.8567 | K89: 1.8463 | L89: 1.8411 | M89: 1.8361 | N89: 1.831 | O89: 1.8261 | P89: 1.8163 | Q89: 1.8068 | R89: 1.7976 | AN89: 20 | AO89: 5.9
I90: 99 | J90: 1.8551 | K90: 1.8445 | L90: 1.8393 | M90: 1.8342 | N90: 1.8292 | O90: 1.8242 | P90: 1.8145 | Q90: 1.805 | R90: 1.7958 | AN90: 20 | AO90: 6
I91: 100 | J91: 1.8517 | K91: 1.8409 | L91: 1.8357 | M91: 1.8305 | N91: 1.8255 | O91: 1.8205 | P91: 1.8107 | Q91: 1.8013 | R91: 1.7922 | AN91: 220
